Workbook

Sheet Områder
B1: Oversikt haller
B2: Badminton | C2: Basket | D2: Cheerleading | E2: Dans | F2: Futsal | G2: Gym og turn | H2: Hockey | I2: Håndball | J2: Innebandy | K2: Roller Derby | L2: Ultimate Frisbee | M2: Volleyball | N2: Paraidrett | O2: Idrett - ST | P2: Spesielle tiltak | Q2: Sum | R2: Normert | T2: Treningstimer
A3: Groruddalen vest
A4: Ammerud (32 x 20) | B4: =#REF! -> #REF! | C4: =#REF! -> #REF! | D4: =#REF! -> #REF! | E4: =#REF! -> #REF! | F4: =#REF! -> #REF! | G4: =#REF! -> #REF! | H4: =#REF! -> #REF! | I4: =#REF! -> #REF! | ... N4: =#REF! -> #REF! | O4: ='Oversikt ST'!P4 -> #REF! | P4: =#REF! -> #REF! | Q4: =SUM(B4:P4) -> #REF! | R4: =IF(Q4>9.5,Q4,9.5) -> #REF! | S4: =IF(R4>Q4,"LEDIG","OK") -> #REF! | T4: =(SUM(B4,D4:P4)*2)+C4 -> #REF! | V4: =Q4-R4 -> #REF!
A5: Apalløkka 1 | B5: =#REF! -> #REF! | C5: =#REF! -> #REF! | D5: =#REF! -> #REF! | E5: =#REF! -> #REF! | F5: =#REF! -> #REF! | G5: =#REF! -> #REF! | H5: =#REF! -> #REF! | I5: =#REF! -> #REF! | ... N5: =#REF! -> #REF! | O5: ='Oversikt ST'!P18 -> #REF! | P5: =#REF! -> #REF! | Q5: =SUM(B5:P5) -> #REF! | R5: =IF(Q5>32,Q5,32) -> #REF! | S5: =IF(R5>Q5,"LEDIG","OK") -> #REF! | T5: 32
A6: Apalløkka 2 | B6: =#REF! -> #REF! | C6: =#REF! -> #REF! | D6: =#REF! -> #REF! | E6: =#REF! -> #REF! | F6: =#REF! -> #REF! | G6: =#REF! -> #REF! | H6: =#REF! -> #REF! | I6: =#REF! -> #REF! | ... N6: =#REF! -> #REF! | O6: ='Oversikt ST'!P19 -> #REF! | P6: =#REF! -> #REF! | Q6: =SUM(B6:P6) -> #REF! | R6: 32 | S6: =IF(R6>Q6,"LEDIG","OK") -> #REF! | T6: 32
A7: Grorud | B7: =#REF! -> #REF! | C7: =#REF! -> #REF! | D7: =#REF! -> #REF! | E7: =#REF! -> #REF! | F7: =#REF! -> #REF! | G7: =#REF! -> #REF! | H7: =#REF! -> #REF! | I7: =#REF! -> #REF! | ... N7: =#REF! -> #REF! | O7: ='Oversikt ST'!P33 -> #REF! | P7: =#REF! -> #REF! | Q7: =SUM(B7:P7) -> #REF! | R7: 32 | S7: =IF(R7>Q7,"LEDIG","OK") -> #REF! | T7: 32
A8: Linderud | B8: =#REF! -> #REF! | C8: =#REF! -> #REF! | D8: =#REF! -> #REF! | E8: =#REF! -> #REF! | F8: =#REF! -> #REF! | G8: =#REF! -> #REF! | H8: =#REF! -> #REF! | I8: =#REF! -> #REF! | ... N8: =#REF! -> #REF! | O8: ='Oversikt ST'!P46 -> #REF! | P8: =#REF! -> #REF! | Q8: =SUM(B8:P8) -> #REF! | R8: 32 | S8: =IF(R8>Q8,"LEDIG","OK") -> #REF! | T8: 32
A9: Linderud priv | B9: 0 | C9: 0 | D9: 0 | E9: 0 | F9: 0 | G9: 0 | H9: 0 | I9: 25.6 | J9: 0 | K9: 0 | L9: 0 | M9: 0 | N9: 0 | O9: 0 | P9: 0 | Q9: 25.6
A10: Veitvet | B10: =#REF! -> #REF! | C10: =#REF! -> #REF! | D10: =#REF! -> #REF! | E10: =#REF! -> #REF! | F10: =#REF! -> #REF! | G10: =#REF! -> #REF! | H10: =#REF! -> #REF! | I10: =#REF! -> #REF! | ... N10: =#REF! -> #REF! | O10: ='Oversikt ST'!P65 -> #REF! | P10: =#REF! -> #REF! | Q10: =SUM(B10:P10) -> #REF! | R10: =Q10 -> #REF! | S10: =IF(R10>Q10,"LEDIG","OK") -> #REF! | T10: 32
A11: Årvoll | B11: =Årvoll!#REF! -> #REF! | C11: =Årvoll!#REF! -> #REF! | D11: =Årvoll!#REF! -> #REF! | E11: =Årvoll!#REF! -> #REF! | F11: =Årvoll!#REF! -> #REF! | G11: =Årvoll!#REF! -> #REF! | H11: =Årvoll!#REF! -> #REF! | I11: =Årvoll!#REF! -> #REF! | ... N11: =Årvoll!#REF! -> #REF! | O11: ='Oversikt ST'!P69 -> #REF! | P11: =Årvoll!#REF! -> #REF! | Q11: =SUM(B11:P11) -> #REF! | R11: 32 | S11: =IF(R11>Q11,"LEDIG","OK") -> #REF! | T11: 32
A12: SUM | B12: =SUM(B3:B11) -> #REF! | C12: =SUM(C3:C11) -> #REF! | D12: =SUM(D3:D11) -> #REF! | E12: =SUM(E3:E11) -> #REF! | F12: =SUM(F3:F11) -> #REF! | G12: =SUM(G3:G11) -> #REF! | H12: =SUM(H3:H11) -> #REF! | I12: =SUM(I3:I11)-I9 -> #REF! | J12: =SUM(J3:J11) -> #REF! | K12: =SUM(K3:K11) -> #REF! | L12: =SUM(L3:L11) -> #REF! | M12: =SUM(M3:M11) -> #REF! | N12: =SUM(N3:N11) -> #REF! | O12: =SUM(O3:O11) -> #REF! | P12: =SUM(P3:P11) -> #REF! | Q12: =SUM(B12:P12) -> #REF!
B13: =B12/SUM($Q$4:$Q$11) -> #REF! | C13: =C12/SUM($Q$4:$Q$11) -> #REF! | D13: =D12/SUM($Q$4:$Q$11) -> #REF! | E13: =E12/SUM($Q$4:$Q$11) -> #REF! | F13: =F12/SUM($Q$4:$Q$11) -> #REF! | G13: =G12/SUM($Q$4:$Q$11) -> #REF! | H13: =H12/SUM($Q$4:$Q$11) -> #REF! | I13: =I12/SUM($Q$4:$Q$11) -> #REF! | ... P13: =P12/SUM($Q$4:$Q$11) -> #REF! | Q13: =SUM(B13:P13) -> #REF!
C14: =C12/(C12+H12+I12+J12+M12) -> #REF! | H14: =H12/(C12+H12+I12+J12+M12) -> #REF! | I14: =I12/(C12+H12+I12+J12+M12) -> #REF! | J14: =J12/(C12+H12+I12+J12+M12) -> #REF! | M14: =M12/(C12+H12+I12+J12+M12) -> #REF! | Q14: =SUM(B14:P14) -> #REF!
A18: Groruddalen øst
A19: Ellingsrud | B19: =#REF! -> #REF! | C19: =#REF! -> #REF! | D19: =#REF! -> #REF! | E19: =#REF! -> #REF! | F19: =#REF! -> #REF! | G19: =#REF! -> #REF! | H19: =#REF! -> #REF! | I19: =#REF! -> #REF! | ... N19: =#REF! -> #REF! | O19: ='Oversikt ST'!P28 -> #REF! | P19: =#REF! -> #REF! | Q19: =SUM(B19:P19) -> #REF! | R19: 32 | S19: =IF(R19>Q19,"LEDIG","OK") -> #REF! | T19: 32
A20: Furuset | B20: =#REF! -> #REF! | C20: =#REF! -> #REF! | D20: =#REF! -> #REF! | E20: =#REF! -> #REF! | F20: =#REF! -> #REF! | G20: =#REF! -> #REF! | H20: =#REF! -> #REF! | I20: =#REF! -> #REF! | ... N20: =#REF! -> #REF! | O20: ='Oversikt ST'!P30 -> #REF! | P20: =#REF! -> #REF! | Q20: =SUM(B20:P20) -> #REF! | R20: 32 | S20: =IF(R20>Q20,"LEDIG","OK") -> #REF! | T20: 32
A21: Haugenstua | B21: =#REF! -> #REF! | C21: =#REF! -> #REF! | D21: =#REF! -> #REF! | E21: =#REF! -> #REF! | F21: =#REF! -> #REF! | G21: =#REF! -> #REF! | H21: =#REF! -> #REF! | I21: =#REF! -> #REF! | ... N21: =#REF! -> #REF! | O21: ='Oversikt ST'!P34 -> #REF! | P21: =#REF! -> #REF! | Q21: =SUM(B21:P21) -> #REF! | R21: 32 | S21: =IF(R21>Q21,"LEDIG","OK") -> #REF! | T21: 32
A22: Nordbyen idr.hall | B22: =#REF! -> #REF! | C22: =#REF! -> #REF! | D22: =#REF! -> #REF! | E22: =#REF! -> #REF! | F22: =#REF! -> #REF! | G22: =#REF! -> #REF! | H22: =#REF! -> #REF! | I22: =#REF! -> #REF! | ... N22: =#REF! -> #REF! | O22: ='Oversikt ST'!P47 -> #REF! | P22: =#REF! -> #REF! | Q22: =SUM(B22:P22) -> #REF! | R22: 32 | S22: =IF(R22>Q22,"LEDIG","OK") -> #REF! | T22: 32
A23: Nordbyen turn | B23: ='Nordbyen turn'!#REF! -> #REF! | C23: ='Nordbyen turn'!#REF! -> #REF! | D23: ='Nordbyen turn'!#REF! -> #REF! | E23: ='Nordbyen turn'!#REF! -> #REF! | F23: ='Nordbyen turn'!#REF! -> #REF! | G23: ='Nordbyen turn'!#REF! -> #REF! | H23: ='Nordbyen turn'!#REF! -> #REF! | I23: ='Nordbyen turn'!#REF! -> #REF! | ... N23: ='Nordbyen turn'!#REF! -> #REF! | O23: ='Oversikt ST'!P48 -> #REF! | P23: ='Nordbyen turn'!#REF! -> #REF! | Q23: =SUM(B23:P23) -> #REF! | R23: 32 | S23: =IF(R23>Q23,"LEDIG","OK") -> #REF! | T23: 32
A24: Rommen | B24: =#REF! -> #REF! | C24: =#REF! -> #REF! | D24: =#REF! -> #REF! | E24: =#REF! -> #REF! | F24: =#REF! -> #REF! | G24: =#REF! -> #REF! | H24: =#REF! -> #REF! | I24: =#REF! -> #REF! | ... N24: =#REF! -> #REF! | O24: ='Oversikt ST'!P55 -> #REF! | P24: =#REF! -> #REF! | Q24: =SUM(B24:P24) -> #REF! | R24: 29.5 | S24: =IF(R24>Q24,"LEDIG","OK") -> #REF! | T24: 29.5
A25: Romsås | B25: =Romsås!#REF! -> #REF! | C25: =Romsås!#REF! -> #REF! | D25: =Romsås!#REF! -> #REF! | E25: =Romsås!#REF! -> #REF! | F25: =Romsås!#REF! -> #REF! | G25: =Romsås!#REF! -> #REF! | H25: =Romsås!#REF! -> #REF! | I25: =Romsås!#REF! -> #REF! | ... N25: =Romsås!#REF! -> #REF! | O25: ='Oversikt ST'!P56 -> #REF! | P25: =Romsås!#REF! -> #REF! | Q25: =SUM(B25:P25) -> #REF! | R25: 28.5 | S25: =IF(R25>Q25,"LEDIG","OK") -> #REF! | T25: 28.5
A26: Stovner | B26: =#REF! -> #REF! | C26: =#REF! -> #REF! | D26: =#REF! -> #REF! | E26: =#REF! -> #REF! | F26: =#REF! -> #REF! | G26: =#REF! -> #REF! | H26: =#REF! -> #REF! | I26: =#REF! -> #REF! | ... N26: =#REF! -> #REF! | O26: ='Oversikt ST'!P58 -> #REF! | P26: =#REF! -> #REF! | Q26: =SUM(B26:P26) -> #REF! | R26: 32 | S26: =IF(R26>Q26,"LEDIG","OK") -> #REF! | T26: 32
A27: Tokerud | B27: =#REF! -> #REF! | C27: =#REF! -> #REF! | D27: =#REF! -> #REF! | E27: =#REF! -> #REF! | F27: =#REF! -> #REF! | G27: =#REF! -> #REF! | H27: =#REF! -> #REF! | I27: =#REF! -> #REF! | ... N27: =#REF! -> #REF! | O27: ='Oversikt ST'!P60 -> #REF! | P27: =#REF! -> #REF! | Q27: =SUM(B27:P27) -> #REF! | R27: 32 | S27: =IF(R27>Q27,"LEDIG","OK") -> #REF! | T27: 32
A28: Vestli | B28: =#REF! -> #REF! | C28: =#REF! -> #REF! | D28: =#REF! -> #REF! | E28: =#REF! -> #REF! | F28: =#REF! -> #REF! | G28: =#REF! -> #REF! | H28: =#REF! -> #REF! | I28: =#REF! -> #REF! | ... N28: =#REF! -> #REF! | O28: ='Oversikt ST'!P66 -> #REF! | P28: =#REF! -> #REF! | Q28: =SUM(B28:P28) -> #REF! | R28: 32 | S28: =IF(R28>Q28,"LEDIG","OK") -> #REF! | T28: 32
A29: SUM | B29: =SUM(B19:B28) -> #REF! | C29: =SUM(C19:C28) -> #REF! | D29: =SUM(D19:D28) -> #REF! | E29: =SUM(E19:E28) -> #REF! | F29: =SUM(F19:F28) -> #REF! | G29: =SUM(G19:G28) -> #REF! | H29: =SUM(H19:H28) -> #REF! | I29: =SUM(I19:I28) -> #REF! | ... P29: =SUM(P19:P28) -> #REF! | Q29: =SUM(B29:P29) -> #REF!
B30: =B29/SUM($Q$19:$Q$26) -> #REF! | C30: =C29/SUM($Q$19:$Q$26) -> #REF! | D30: =D29/SUM($Q$19:$Q$26) -> #REF! | E30: =E29/SUM($Q$19:$Q$26) -> #REF! | F30: =F29/SUM($Q$19:$Q$26) -> #REF! | G30: =G29/SUM($Q$19:$Q$26) -> #REF! | H30: =H29/SUM($Q$19:$Q$26) -> #REF! | I30: =I29/SUM($Q$19:$Q$26) -> #REF! | ... P30: =P29/SUM($Q$19:$Q$26) -> #REF! | Q30: =SUM(B30:P30) -> #REF!
C31: =C29/(C29+H29+I29+J29+M29) -> #REF! | H31: =H29/(C29+H29+I29+J29+M29) -> #REF! | I31: =I29/(C29+H29+I29+J29+M29) -> #REF! | J31: =J29/(C29+H29+I29+J29+M29) -> #REF! | M31: =M29/(C29+H29+I29+J29+M29) -> #REF! | Q31: =SUM(B31:P31) -> #REF!
A35: Indre by øst
A36: Bentsebrua | B36: =Bentsebrua!#REF! -> #REF! | C36: =Bentsebrua!#REF! -> #REF! | D36: =Bentsebrua!#REF! -> #REF! | E36: =Bentsebrua!#REF! -> #REF! | F36: =Bentsebrua!#REF! -> #REF! | G36: =Bentsebrua!#REF! -> #REF! | H36: =Bentsebrua!#REF! -> #REF! | I36: =Bentsebrua!#REF! -> #REF! | ... N36: =Bentsebrua!#REF! -> #REF! | O36: ='Oversikt ST'!P36 -> #REF! | P36: =Bentsebrua!#REF! -> #REF! | Q36: =SUM(B36:P36) -> #REF! | R36: 32 | S36: =IF(R36<Q36,"FEIL",IF(R36>Q36,"LEDIG","OK")) -> #REF! | T36: 32
A37: Bjølsen match | B37: =#REF! -> #REF! | C37: =#REF! -> #REF! | D37: =#REF! -> #REF! | E37: =#REF! -> #REF! | F37: =#REF! -> #REF! | G37: =#REF! -> #REF! | H37: =#REF! -> #REF! | I37: =#REF! -> #REF! | ... N37: =#REF! -> #REF! | O37: ='Oversikt ST'!P21 -> #REF! | P37: =#REF! -> #REF! | Q37: =SUM(B37:P37) -> #REF! | R37: 32 | S37: =IF(R37>Q37,"LEDIG","OK") -> #REF! | T37: 26
A38: Dælenenga | B38: =Dælenenga!#REF! -> #REF! | C38: =Dælenenga!#REF! -> #REF! | D38: =Dælenenga!#REF! -> #REF! | E38: =Dælenenga!#REF! -> #REF! | F38: =Dælenenga!#REF! -> #REF! | G38: =Dælenenga!#REF! -> #REF! | H38: =Dælenenga!#REF! -> #REF! | I38: =Dælenenga!#REF! -> #REF! | ... N38: =Dælenenga!#REF! -> #REF! | O38: ='Oversikt ST'!P26 -> #REF! | P38: =Dælenenga!#REF! -> #REF! | Q38: =SUM(B38:P38) -> #REF! | R38: 32 | S38: =IF(R38<Q38,"FEIL",IF(R38>Q38,"LEDIG","OK")) -> #REF! | T38: 32
A39: F21 | B39: =#REF! -> #REF! | C39: =#REF! -> #REF! | D39: =#REF! -> #REF! | E39: =#REF! -> #REF! | F39: =#REF! -> #REF! | G39: =#REF! -> #REF! | H39: =#REF! -> #REF! | I39: =#REF! -> #REF! | ... N39: =#REF! -> #REF! | O39: ='Oversikt ST'!P31 -> #REF! | P39: =#REF! -> #REF! | Q39: =SUM(B39:P39) -> #REF! | R39: 32 | S39: =IF(R39>Q39,"LEDIG","OK") -> #REF! | T39: 32
A40: Frydenberg (24 x 16) | B40: =#REF! -> #REF! | C40: =#REF! -> #REF! | D40: =#REF! -> #REF! | E40: =#REF! -> #REF! | F40: =#REF! -> #REF! | G40: =#REF! -> #REF! | H40: =#REF! -> #REF! | I40: =#REF! -> #REF! | ... N40: =#REF! -> #REF! | O40: ='Oversikt ST'!P7 -> #REF! | P40: =#REF! -> #REF! | Q40: =SUM(B40:P40) -> #REF! | R40: =IF(Q40>16,Q40,16) -> #REF! | S40: =IF(R40>Q40,"LEDIG","OK") -> #REF! | T40: =SUM(B40:P40)*2 -> #REF! | V40: =Q40-R40 -> #REF!
A41: Jordal | B41: =#REF! -> #REF! | C41: =#REF! -> #REF! | D41: =#REF! -> #REF! | E41: =#REF! -> #REF! | F41: =#REF! -> #REF! | G41: =#REF! -> #REF! | H41: =#REF! -> #REF! | I41: =#REF! -> #REF! | ... N41: =#REF! -> #REF! | O41: ='Oversikt ST'!P39 -> #REF! | P41: =#REF! -> #REF! | Q41: =SUM(B41:P41) -> #REF! | R41: 32 | S41: =IF(R41>Q41,"LEDIG","OK") -> #REF! | T41: 32
A42: Teglverket | B42: =#REF! -> #REF! | C42: =#REF! -> #REF! | D42: =#REF! -> #REF! | E42: =#REF! -> #REF! | F42: =#REF! -> #REF! | G42: =#REF! -> #REF! | H42: =#REF! -> #REF! | I42: =#REF! -> #REF! | ... N42: =#REF! -> #REF! | O42: ='Oversikt ST'!P59 -> #REF! | P42: =#REF! -> #REF! | Q42: =SUM(B42:P42) -> #REF! | R42: 32 | S42: =IF(R42>Q42,"LEDIG","OK") -> #REF! | T42: 32
A43: Tøyenbadet idr.hall | B43: =#REF! -> #REF! | C43: =#REF! -> #REF! | D43: =#REF! -> #REF! | E43: =#REF! -> #REF! | F43: =#REF! -> #REF! | G43: =#REF! -> #REF! | H43: =#REF! -> #REF! | I43: =#REF! -> #REF! | ... N43: =#REF! -> #REF! | P43: =#REF! -> #REF! | Q43: =SUM(B43:P43) -> #REF! | R43: 25 | S43: =IF(R43<Q43,"FEIL",IF(R43>Q43,"LEDIG","OK")) -> #REF! | T43: 25
A44: Vahl | B44: =#REF! -> #REF! | C44: =#REF! -> #REF! | D44: =#REF! -> #REF! | E44: =#REF! -> #REF! | F44: =#REF! -> #REF! | G44: =#REF! -> #REF! | H44: =#REF! -> #REF! | I44: =#REF! -> #REF! | ... N44: =#REF! -> #REF! | O44: ='Oversikt ST'!P64 -> #REF! | P44: =#REF! -> #REF! | Q44: =SUM(B44:P44) -> #REF! | R44: 32 | S44: =IF(R44>Q44,"LEDIG","OK") -> #REF! | T44: 32
A45: Valle (32 x 20) | B45: =#REF! -> #REF! | C45: =#REF! -> #REF! | D45: =#REF! -> #REF! | E45: =#REF! -> #REF! | F45: =#REF! -> #REF! | G45: =#REF! -> #REF! | H45: =#REF! -> #REF! | I45: =#REF! -> #REF! | ... N45: =#REF! -> #REF! | O45: ='Oversikt ST'!P14 -> #REF! | P45: =#REF! -> #REF! | Q45: =SUM(B45:P45) -> #REF! | R45: =IF(Q45>10,Q45,10) -> #REF! | S45: =IF(R45>Q45,"LEDIG","OK") -> #REF! | T45: =(SUM(B45,D45:P45)*2)+C45 -> #REF! | V45: =Q45-R45 -> #REF!
A46: Vulkan (32 x 20) | B46: =#REF! -> #REF! | C46: =#REF! -> #REF! | D46: =#REF! -> #REF! | E46: =#REF! -> #REF! | F46: =#REF! -> #REF! | G46: =#REF! -> #REF! | H46: =#REF! -> #REF! | I46: =#REF! -> #REF! | ... N46: =#REF! -> #REF! | O46: ='Oversikt ST'!P15 -> #REF! | P46: =#REF! -> #REF! | Q46: =SUM(B46:P46) -> #REF! | R46: =IF(Q46>16,Q46,16) -> #REF! | S46: =IF(R46>Q46,"LEDIG","OK") -> #REF! | T46: =(SUM(B46,D46:P46)*2)+C46 -> #REF! | V46: =Q46-R46 -> #REF!
...

Sheet Oversikt ST
A1: Idrett for alle | B1: Oversikt haller
B2: Badminton | C2: Basket | D2: Cheerleading | E2: Dans | F2: Futsal | G2: Gym og turn | H2: Hockey | I2: Håndball | J2: Innebandy | K2: Roller Derby | L2: Ultimate Frisbee | M2: Volleyball | N2: Paraidrett | O2: Spesielle tiltak | P2: Sum
A3: Små haller
A4: Ammerud (32 x 20) | B4: =#REF! -> #REF! | C4: =#REF! -> #REF! | D4: =#REF! -> #REF! | E4: =#REF! -> #REF! | F4: =#REF! -> #REF! | G4: =#REF! -> #REF! | H4: =#REF! -> #REF! | I4: =#REF! -> #REF! | ... N4: =#REF! -> #REF! | P4: =SUM(B4:O4) -> #REF!
A5: Bestum (24 x 16) | B5: =#REF! -> #REF! | C5: =#REF! -> #REF! | D5: =#REF! -> #REF! | E5: =#REF! -> #REF! | F5: =#REF! -> #REF! | G5: =#REF! -> #REF! | H5: =#REF! -> #REF! | I5: =#REF! -> #REF! | ... N5: =#REF! -> #REF! | P5: =SUM(B5:O5) -> #REF!
A6: Brynseng (32 x 20) | B6: =#REF! -> #REF! | C6: =#REF! -> #REF! | D6: =#REF! -> #REF! | E6: =#REF! -> #REF! | F6: =#REF! -> #REF! | G6: =#REF! -> #REF! | H6: =#REF! -> #REF! | I6: =#REF! -> #REF! | ... N6: =#REF! -> #REF! | P6: =SUM(B6:O6) -> #REF!
A7: Frydenberg (24 x 16) | B7: =#REF! -> #REF! | C7: =#REF! -> #REF! | D7: =#REF! -> #REF! | E7: =#REF! -> #REF! | F7: =#REF! -> #REF! | G7: =#REF! -> #REF! | H7: =#REF! -> #REF! | I7: =#REF! -> #REF! | ... N7: =#REF! -> #REF! | P7: =SUM(B7:O7) -> #REF!
A8: Kastellet (24 x 16) | B8: =#REF! -> #REF! | C8: =#REF! -> #REF! | D8: =#REF! -> #REF! | E8: =#REF! -> #REF! | F8: =#REF! -> #REF! | G8: =#REF! -> #REF! | H8: =#REF! -> #REF! | I8: =#REF! -> #REF! | ... N8: =#REF! -> #REF! | P8: =SUM(B8:O8) -> #REF!
A9: Klemetsrud liten | B9: =#REF! -> #REF! | C9: =#REF! -> #REF! | D9: =#REF! -> #REF! | E9: =#REF! -> #REF! | F9: =#REF! -> #REF! | G9: =#REF! -> #REF! | H9: =#REF! -> #REF! | I9: =#REF! -> #REF! | ... N9: =#REF! -> #REF! | P9: =SUM(B9:O9) -> #REF!
A10: Majorstuen (32 x 20) | B10: =#REF! -> #REF! | C10: =#REF! -> #REF! | D10: =#REF! -> #REF! | E10: =#REF! -> #REF! | F10: =#REF! -> #REF! | G10: =#REF! -> #REF! | H10: =#REF! -> #REF! | I10: =#REF! -> #REF! | ... N10: =#REF! -> #REF! | P10: =SUM(B10:O10) -> #REF!
A11: Marienlyst (32 x 20) | B11: =#REF! -> #REF! | C11: =#REF! -> #REF! | D11: =#REF! -> #REF! | E11: =#REF! -> #REF! | F11: =#REF! -> #REF! | G11: =#REF! -> #REF! | H11: =#REF! -> #REF! | I11: =#REF! -> #REF! | ... N11: =#REF! -> #REF! | P11: =SUM(B11:O11) -> #REF!
A12: Tåsen (24 x 16) | B12: =#REF! -> #REF! | C12: =#REF! -> #REF! | D12: =#REF! -> #REF! | E12: =#REF! -> #REF! | F12: =#REF! -> #REF! | G12: =#REF! -> #REF! | H12: =#REF! -> #REF! | I12: =#REF! -> #REF! | ... N12: =#REF! -> #REF! | P12: =SUM(B12:O12) -> #REF!
A13: Uranienborg (32 x 20) | B13: =Uranienborg!#REF! -> #REF! | C13: =Uranienborg!#REF! -> #REF! | D13: =Uranienborg!#REF! -> #REF! | E13: =Uranienborg!#REF! -> #REF! | F13: =Uranienborg!#REF! -> #REF! | G13: =Uranienborg!#REF! -> #REF! | H13: =Uranienborg!#REF! -> #REF! | I13: =Uranienborg!#REF! -> #REF! | ... N13: =Uranienborg!#REF! -> #REF! | P13: =SUM(B13:O13) -> #REF!
A14: Valle (32 x 20) | B14: =#REF! -> #REF! | C14: =#REF! -> #REF! | D14: =#REF! -> #REF! | E14: =#REF! -> #REF! | F14: =#REF! -> #REF! | G14: =#REF! -> #REF! | H14: =#REF! -> #REF! | I14: =#REF! -> #REF! | ... N14: =#REF! -> #REF! | P14: =SUM(B14:O14) -> #REF!
A15: Vulkan (32 x 20) | B15: =#REF! -> #REF! | C15: =#REF! -> #REF! | D15: =#REF! -> #REF! | E15: =#REF! -> #REF! | F15: =#REF! -> #REF! | G15: =#REF! -> #REF! | H15: =#REF! -> #REF! | I15: =#REF! -> #REF! | ... N15: =#REF! -> #REF! | P15: =SUM(B15:O15) -> #REF!
A16: Sum små haller | B16: =SUM(B4:B15) -> #REF! | C16: =SUM(C4:C15) -> #REF! | D16: =SUM(D4:D15) -> #REF! | E16: =SUM(E4:E15) -> #REF! | F16: =SUM(F4:F15) -> #REF! | G16: =SUM(G4:G15) -> #REF! | H16: =SUM(H4:H15) -> #REF! | I16: =SUM(I4:I15) -> #REF! | ... O16: =SUM(O4:O15) -> 0 | P16: =SUM(B16:O16) -> #REF!
A17: Store haller
A18: Apalløkka 1 | B18: =#REF! -> #REF! | C18: =#REF! -> #REF! | D18: =#REF! -> #REF! | E18: =#REF! -> #REF! | F18: =#REF! -> #REF! | G18: =#REF! -> #REF! | H18: =#REF! -> #REF! | I18: =#REF! -> #REF! | ... N18: =#REF! -> #REF! | P18: =SUM(B18:O18) -> #REF!
A19: Apalløkka 2 | B19: =#REF! -> #REF! | C19: =#REF! -> #REF! | D19: =#REF! -> #REF! | E19: =#REF! -> #REF! | F19: =#REF! -> #REF! | G19: =#REF! -> #REF! | H19: =#REF! -> #REF! | I19: =#REF! -> #REF! | ... N19: =#REF! -> #REF! | P19: =SUM(B19:O19) -> #REF!
A20: Bentsebrua | B20: =Bentsebrua!#REF! -> #REF! | C20: =Bentsebrua!#REF! -> #REF! | D20: =Bentsebrua!#REF! -> #REF! | E20: =Bentsebrua!#REF! -> #REF! | F20: =Bentsebrua!#REF! -> #REF! | G20: =Bentsebrua!#REF! -> #REF! | H20: =Bentsebrua!#REF! -> #REF! | I20: =Bentsebrua!#REF! -> #REF! | ... N20: =Bentsebrua!#REF! -> #REF! | P20: =SUM(B20:O20) -> #REF!
A21: Bjølsen match | B21: =#REF! -> #REF! | C21: =#REF! -> #REF! | D21: =#REF! -> #REF! | E21: =#REF! -> #REF! | F21: =#REF! -> #REF! | G21: =#REF! -> #REF! | H21: =#REF! -> #REF! | I21: =#REF! -> #REF! | ... N21: =#REF! -> #REF! | P21: =SUM(B21:O21) -> #REF!
A22: Bjørnholt 1 | B22: =#REF! -> #REF! | C22: =#REF! -> #REF! | D22: =#REF! -> #REF! | E22: =#REF! -> #REF! | F22: =#REF! -> #REF! | G22: =#REF! -> #REF! | H22: =#REF! -> #REF! | I22: =#REF! -> #REF! | ... N22: =#REF! -> #REF! | P22: =SUM(B22:O22) -> #REF!
A23: Bjørnholt 2 | B23: =#REF! -> #REF! | C23: =#REF! -> #REF! | D23: =#REF! -> #REF! | E23: =#REF! -> #REF! | F23: =#REF! -> #REF! | G23: =#REF! -> #REF! | H23: =#REF! -> #REF! | I23: =#REF! -> #REF! | ... N23: =#REF! -> #REF! | P23: =SUM(B23:O23) -> #REF!
A24: Bjørnholt 3 | B24: =#REF! -> #REF! | C24: =#REF! -> #REF! | D24: =#REF! -> #REF! | E24: =#REF! -> #REF! | F24: =#REF! -> #REF! | G24: =#REF! -> #REF! | H24: =#REF! -> #REF! | I24: =#REF! -> #REF! | ... N24: =#REF! -> #REF! | P24: =SUM(B24:O24) -> #REF!
A25: Bøler | B25: =#REF! -> #REF! | C25: =#REF! -> #REF! | D25: =#REF! -> #REF! | E25: =#REF! -> #REF! | F25: =#REF! -> #REF! | G25: =#REF! -> #REF! | H25: =#REF! -> #REF! | I25: =#REF! -> #REF! | ... N25: =#REF! -> #REF! | P25: =SUM(B25:O25) -> #REF!
A26: Dælenenga | B26: =Dælenenga!#REF! -> #REF! | C26: =Dælenenga!#REF! -> #REF! | D26: =Dælenenga!#REF! -> #REF! | E26: =Dælenenga!#REF! -> #REF! | F26: =Dælenenga!#REF! -> #REF! | G26: =Dælenenga!#REF! -> #REF! | H26: =Dælenenga!#REF! -> #REF! | I26: =Dælenenga!#REF! -> #REF! | ... N26: =Dælenenga!#REF! -> #REF! | P26: =SUM(B26:O26) -> #REF!
A27: Ekeberg skole | B27: =#REF! -> #REF! | C27: =#REF! -> #REF! | D27: =#REF! -> #REF! | E27: =#REF! -> #REF! | F27: =#REF! -> #REF! | G27: =#REF! -> #REF! | H27: =#REF! -> #REF! | I27: =#REF! -> #REF! | ... N27: =#REF! -> #REF! | P27: =SUM(B27:O27) -> #REF!
A28: Ellingsrud | B28: =#REF! -> #REF! | C28: =#REF! -> #REF! | D28: =#REF! -> #REF! | E28: =#REF! -> #REF! | F28: =#REF! -> #REF! | G28: =#REF! -> #REF! | H28: =#REF! -> #REF! | I28: =#REF! -> #REF! | ... N28: =#REF! -> #REF! | P28: =SUM(B28:O28) -> #REF!
A29: Engebråten | B29: =#REF! -> #REF! | C29: =#REF! -> #REF! | D29: =#REF! -> #REF! | E29: =#REF! -> #REF! | F29: =#REF! -> #REF! | G29: =#REF! -> #REF! | H29: =#REF! -> #REF! | I29: =#REF! -> #REF! | ... N29: =#REF! -> #REF! | P29: =SUM(B29:O29) -> #REF!
A30: Furuset | B30: =#REF! -> #REF! | C30: =#REF! -> #REF! | D30: =#REF! -> #REF! | E30: =#REF! -> #REF! | F30: =#REF! -> #REF! | G30: =#REF! -> #REF! | H30: =#REF! -> #REF! | I30: =#REF! -> #REF! | ... N30: =#REF! -> #REF! | P30: =SUM(B30:O30) -> #REF!
A31: F21 | B31: =#REF! -> #REF! | C31: =#REF! -> #REF! | D31: =#REF! -> #REF! | E31: =#REF! -> #REF! | F31: =#REF! -> #REF! | G31: =#REF! -> #REF! | H31: =#REF! -> #REF! | I31: =#REF! -> #REF! | ... N31: =#REF! -> #REF! | P31: =SUM(B31:O31) -> #REF!
A32: Grefsen | B32: =Grefsen!#REF! -> #REF! | C32: =Grefsen!#REF! -> #REF! | D32: =Grefsen!#REF! -> #REF! | E32: =Grefsen!#REF! -> #REF! | F32: =Grefsen!#REF! -> #REF! | G32: =Grefsen!#REF! -> #REF! | H32: =Grefsen!#REF! -> #REF! | I32: =Grefsen!#REF! -> #REF! | ... N32: =Grefsen!#REF! -> #REF! | P32: =SUM(B32:O32) -> #REF!
A33: Grorud | B33: =#REF! -> #REF! | C33: =#REF! -> #REF! | D33: =#REF! -> #REF! | E33: =#REF! -> #REF! | F33: =#REF! -> #REF! | G33: =#REF! -> #REF! | H33: =#REF! -> #REF! | I33: =#REF! -> #REF! | ... N33: =#REF! -> #REF! | P33: =SUM(B33:O33) -> #REF!
A34: Haugenstua | B34: =#REF! -> #REF! | C34: =#REF! -> #REF! | D34: =#REF! -> #REF! | E34: =#REF! -> #REF! | F34: =#REF! -> #REF! | G34: =#REF! -> #REF! | H34: =#REF! -> #REF! | I34: =#REF! -> #REF! | ... N34: =#REF! -> #REF! | P34: =SUM(B34:O34) -> #REF!
A35: Haugerud | B35: =#REF! -> #REF! | C35: =#REF! -> #REF! | D35: =#REF! -> #REF! | E35: =#REF! -> #REF! | F35: =#REF! -> #REF! | G35: =#REF! -> #REF! | H35: =#REF! -> #REF! | I35: =#REF! -> #REF! | ... N35: =#REF! -> #REF! | P35: =SUM(B35:O35) -> #REF!
A36: Holmlia | B36: =#REF! -> #REF! | C36: =#REF! -> #REF! | D36: =#REF! -> #REF! | E36: =#REF! -> #REF! | F36: =#REF! -> #REF! | G36: =#REF! -> #REF! | H36: =#REF! -> #REF! | I36: =#REF! -> #REF! | ... N36: =#REF! -> #REF! | P36: =SUM(B36:O36) -> #REF!
A37: Hovseter | B37: =#REF! -> #REF! | C37: =#REF! -> #REF! | D37: =#REF! -> #REF! | E37: =#REF! -> #REF! | F37: =#REF! -> #REF! | G37: =#REF! -> #REF! | H37: =#REF! -> #REF! | I37: =#REF! -> #REF! | ... N37: =#REF! -> #REF! | P37: =SUM(B37:O37) -> #REF!
A38: Høyenhall | B38: =Høyenhall!#REF! -> #REF! | C38: =Høyenhall!#REF! -> #REF! | D38: =Høyenhall!#REF! -> #REF! | E38: =Høyenhall!#REF! -> #REF! | F38: =Høyenhall!#REF! -> #REF! | G38: =Høyenhall!#REF! -> #REF! | H38: =Høyenhall!#REF! -> #REF! | I38: =Høyenhall!#REF! -> #REF! | ... N38: =Høyenhall!#REF! -> #REF! | P38: =SUM(B38:O38) -> #REF!
A39: Jordal | B39: =#REF! -> #REF! | C39: =#REF! -> #REF! | D39: =#REF! -> #REF! | E39: =#REF! -> #REF! | F39: =#REF! -> #REF! | G39: =#REF! -> #REF! | H39: =#REF! -> #REF! | I39: =#REF! -> #REF! | ... N39: =#REF! -> #REF! | P39: =SUM(B39:O39) -> #REF!
A40: Kjelsås | B40: =#REF! -> #REF! | C40: =#REF! -> #REF! | D40: =#REF! -> #REF! | E40: =#REF! -> #REF! | F40: =#REF! -> #REF! | G40: =#REF! -> #REF! | H40: =#REF! -> #REF! | I40: =#REF! -> #REF! | ... N40: =#REF! -> #REF! | P40: =SUM(B40:O40) -> #REF!
...

Sheet 16 til 17
B1: Oversikt haller
B2: Badminton | C2: Basket | D2: Cheerleading | E2: Dans | F2: Futsal | G2: Gym og turn | H2: Hockey | I2: Håndball | J2: Innebandy | K2: Roller Derby | L2: Ultimate Frisbee | M2: Volleyball | N2: Paraidrett | O2: Spesielle tiltak | P2: Sum
A3: Små haller
A4: Ammerud (32 x 20) | B4: =#REF! -> #REF! | C4: =#REF! -> #REF! | D4: =#REF! -> #REF! | E4: =#REF! -> #REF! | F4: =#REF! -> #REF! | G4: =#REF! -> #REF! | H4: =#REF! -> #REF! | I4: =#REF! -> #REF! | ... O4: =#REF! -> #REF! | P4: =SUM(B4:O4) -> #REF!
A5: Bestum (24 x 16) | B5: =#REF! -> #REF! | C5: =#REF! -> #REF! | D5: =#REF! -> #REF! | E5: =#REF! -> #REF! | F5: =#REF! -> #REF! | G5: =#REF! -> #REF! | H5: =#REF! -> #REF! | I5: =#REF! -> #REF! | ... O5: =#REF! -> #REF! | P5: =SUM(B5:O5) -> #REF!
A6: Brynseng (32 x 20) | B6: =#REF! -> #REF! | C6: =#REF! -> #REF! | D6: =#REF! -> #REF! | E6: =#REF! -> #REF! | F6: =#REF! -> #REF! | G6: =#REF! -> #REF! | H6: =#REF! -> #REF! | I6: =#REF! -> #REF! | ... O6: =#REF! -> #REF! | P6: =SUM(B6:O6) -> #REF!
A7: Frydenberg (24 x 16) | B7: =#REF! -> #REF! | C7: =#REF! -> #REF! | D7: =#REF! -> #REF! | E7: =#REF! -> #REF! | F7: =#REF! -> #REF! | G7: =#REF! -> #REF! | H7: =#REF! -> #REF! | I7: =#REF! -> #REF! | ... O7: =#REF! -> #REF! | P7: =SUM(B7:O7) -> #REF!
A8: Kastellet (24 x 16) | B8: =#REF! -> #REF! | C8: =#REF! -> #REF! | D8: =#REF! -> #REF! | E8: =#REF! -> #REF! | F8: =#REF! -> #REF! | G8: =#REF! -> #REF! | H8: =#REF! -> #REF! | I8: =#REF! -> #REF! | ... O8: =#REF! -> #REF! | P8: =SUM(B8:O8) -> #REF!
A9: Klemetsrud liten | B9: =#REF! -> #REF! | C9: =#REF! -> #REF! | D9: =#REF! -> #REF! | E9: =#REF! -> #REF! | F9: =#REF! -> #REF! | G9: =#REF! -> #REF! | H9: =#REF! -> #REF! | I9: =#REF! -> #REF! | ... O9: =#REF! -> #REF! | P9: =SUM(B9:O9) -> #REF!
A10: Majorstuen (32 x 20) | B10: =#REF! -> #REF! | C10: =#REF! -> #REF! | D10: =#REF! -> #REF! | E10: =#REF! -> #REF! | F10: =#REF! -> #REF! | G10: =#REF! -> #REF! | H10: =#REF! -> #REF! | I10: =#REF! -> #REF! | ... O10: =#REF! -> #REF! | P10: =SUM(B10:O10) -> #REF!
A11: Marienlyst (32 x 20) | B11: =#REF! -> #REF! | C11: =#REF! -> #REF! | D11: =#REF! -> #REF! | E11: =#REF! -> #REF! | F11: =#REF! -> #REF! | G11: =#REF! -> #REF! | H11: =#REF! -> #REF! | I11: =#REF! -> #REF! | ... O11: =#REF! -> #REF! | P11: =SUM(B11:O11) -> #REF!
A12: Tåsen (24 x 16) | B12: =#REF! -> #REF! | C12: =#REF! -> #REF! | D12: =#REF! -> #REF! | E12: =#REF! -> #REF! | F12: =#REF! -> #REF! | G12: =#REF! -> #REF! | H12: =#REF! -> #REF! | I12: =#REF! -> #REF! | ... O12: =#REF! -> #REF! | P12: =SUM(B12:O12) -> #REF!
A13: Uranienborg (32 x 20) | B13: =Uranienborg!#REF! -> #REF! | C13: =Uranienborg!#REF! -> #REF! | D13: =Uranienborg!#REF! -> #REF! | E13: =Uranienborg!#REF! -> #REF! | F13: =Uranienborg!#REF! -> #REF! | G13: =Uranienborg!#REF! -> #REF! | H13: =Uranienborg!#REF! -> #REF! | I13: =Uranienborg!#REF! -> #REF! | ... O13: =Uranienborg!#REF! -> #REF! | P13: =SUM(B13:O13) -> #REF!
A14: Valle Hovin (32 x 20) | B14: =#REF! -> #REF! | C14: =#REF! -> #REF! | D14: =#REF! -> #REF! | E14: =#REF! -> #REF! | F14: =#REF! -> #REF! | G14: =#REF! -> #REF! | H14: =#REF! -> #REF! | I14: =#REF! -> #REF! | ... O14: =#REF! -> #REF! | P14: =SUM(B14:O14) -> #REF!
A15: Vulkan (32 x 20) | B15: =#REF! -> #REF! | C15: =#REF! -> #REF! | D15: =#REF! -> #REF! | E15: =#REF! -> #REF! | F15: =#REF! -> #REF! | G15: =#REF! -> #REF! | H15: =#REF! -> #REF! | I15: =#REF! -> #REF! | ... O15: =#REF! -> #REF! | P15: =SUM(B15:O15) -> #REF!
A16: Sum små haller | B16: =SUM(B4:B15) -> #REF! | C16: =SUM(C4:C15) -> #REF! | D16: =SUM(D4:D15) -> #REF! | E16: =SUM(E4:E15) -> #REF! | F16: =SUM(F4:F15) -> #REF! | G16: =SUM(G4:G15) -> #REF! | H16: =SUM(H4:H15) -> #REF! | I16: =SUM(I4:I15) -> #REF! | ... O16: =SUM(O4:O15) -> #REF! | P16: =SUM(B16:O16) -> #REF!
A17: Store haller
A18: Apalløkka 1 | B18: =#REF! -> #REF! | C18: =#REF! -> #REF! | D18: =#REF! -> #REF! | E18: =#REF! -> #REF! | F18: =#REF! -> #REF! | G18: =#REF! -> #REF! | H18: =#REF! -> #REF! | I18: =#REF! -> #REF! | ... O18: =#REF! -> #REF! | P18: =SUM(B18:O18) -> #REF!
A19: Apalløkka 2 | B19: =#REF! -> #REF! | C19: =#REF! -> #REF! | D19: =#REF! -> #REF! | E19: =#REF! -> #REF! | F19: =#REF! -> #REF! | G19: =#REF! -> #REF! | H19: =#REF! -> #REF! | I19: =#REF! -> #REF! | ... O19: =#REF! -> #REF! | P19: =SUM(B19:O19) -> #REF!
A20: Bentsebrua | B20: =Bentsebrua!#REF! -> #REF! | C20: =Bentsebrua!#REF! -> #REF! | D20: =Bentsebrua!#REF! -> #REF! | E20: =Bentsebrua!#REF! -> #REF! | F20: =Bentsebrua!#REF! -> #REF! | G20: =Bentsebrua!#REF! -> #REF! | H20: =Bentsebrua!#REF! -> #REF! | I20: =Bentsebrua!#REF! -> #REF! | ... O20: =Bentsebrua!#REF! -> #REF! | P20: =SUM(B20:O20) -> #REF!
A21: Bjølsen match | B21: =#REF! -> #REF! | C21: =#REF! -> #REF! | D21: =#REF! -> #REF! | E21: =#REF! -> #REF! | F21: =#REF! -> #REF! | G21: =#REF! -> #REF! | H21: =#REF! -> #REF! | I21: =#REF! -> #REF! | ... O21: =#REF! -> #REF! | P21: =SUM(B21:O21) -> #REF!
A22: Bjørnholt 1 | B22: =#REF! -> #REF! | C22: =#REF! -> #REF! | D22: =#REF! -> #REF! | E22: =#REF! -> #REF! | F22: =#REF! -> #REF! | G22: =#REF! -> #REF! | H22: =#REF! -> #REF! | I22: =#REF! -> #REF! | ... O22: =#REF! -> #REF! | P22: =SUM(B22:O22) -> #REF!
A23: Bjørnholt 2 | B23: =#REF! -> #REF! | C23: =#REF! -> #REF! | D23: =#REF! -> #REF! | E23: =#REF! -> #REF! | F23: =#REF! -> #REF! | G23: =#REF! -> #REF! | H23: =#REF! -> #REF! | I23: =#REF! -> #REF! | ... O23: =#REF! -> #REF! | P23: =SUM(B23:O23) -> #REF!
A24: Bjørnholt 3 | B24: =#REF! -> #REF! | C24: =#REF! -> #REF! | D24: =#REF! -> #REF! | E24: =#REF! -> #REF! | F24: =#REF! -> #REF! | G24: =#REF! -> #REF! | H24: =#REF! -> #REF! | I24: =#REF! -> #REF! | ... O24: =#REF! -> #REF! | P24: =SUM(B24:O24) -> #REF!
A25: Bøler | B25: =#REF! -> #REF! | C25: =#REF! -> #REF! | D25: =#REF! -> #REF! | E25: =#REF! -> #REF! | F25: =#REF! -> #REF! | G25: =#REF! -> #REF! | H25: =#REF! -> #REF! | I25: =#REF! -> #REF! | ... O25: =#REF! -> #REF! | P25: =SUM(B25:O25) -> #REF!
A26: Dælenenga | B26: =Dælenenga!#REF! -> #REF! | C26: =Dælenenga!#REF! -> #REF! | D26: =Dælenenga!#REF! -> #REF! | E26: =Dælenenga!#REF! -> #REF! | F26: =Dælenenga!#REF! -> #REF! | G26: =Dælenenga!#REF! -> #REF! | H26: =Dælenenga!#REF! -> #REF! | I26: =Dælenenga!#REF! -> #REF! | ... O26: =Dælenenga!#REF! -> #REF! | P26: =SUM(B26:O26) -> #REF!
A27: Ekeberg skole | B27: =#REF! -> #REF! | C27: =#REF! -> #REF! | D27: =#REF! -> #REF! | E27: =#REF! -> #REF! | F27: =#REF! -> #REF! | G27: =#REF! -> #REF! | H27: =#REF! -> #REF! | I27: =#REF! -> #REF! | ... O27: =#REF! -> #REF! | P27: =SUM(B27:O27) -> #REF!
A28: Ellingsrud | B28: =#REF! -> #REF! | C28: =#REF! -> #REF! | D28: =#REF! -> #REF! | E28: =#REF! -> #REF! | F28: =#REF! -> #REF! | G28: =#REF! -> #REF! | H28: =#REF! -> #REF! | I28: =#REF! -> #REF! | ... O28: =#REF! -> #REF! | P28: =SUM(B28:O28) -> #REF!
A29: Engebråten | B29: =#REF! -> #REF! | C29: =#REF! -> #REF! | D29: =#REF! -> #REF! | E29: =#REF! -> #REF! | F29: =#REF! -> #REF! | G29: =#REF! -> #REF! | H29: =#REF! -> #REF! | I29: =#REF! -> #REF! | ... O29: =#REF! -> #REF! | P29: =SUM(B29:O29) -> #REF!
A30: Furuset | B30: =#REF! -> #REF! | C30: =#REF! -> #REF! | D30: =#REF! -> #REF! | E30: =#REF! -> #REF! | F30: =#REF! -> #REF! | G30: =#REF! -> #REF! | H30: =#REF! -> #REF! | I30: =#REF! -> #REF! | ... O30: =#REF! -> #REF! | P30: =SUM(B30:O30) -> #REF!
A31: F21 | B31: =#REF! -> #REF! | C31: =#REF! -> #REF! | D31: =#REF! -> #REF! | E31: =#REF! -> #REF! | F31: =#REF! -> #REF! | G31: =#REF! -> #REF! | H31: =#REF! -> #REF! | I31: =#REF! -> #REF! | ... O31: =#REF! -> #REF! | P31: =SUM(B31:O31) -> #REF!
A32: Grefsen | B32: =Grefsen!#REF! -> #REF! | C32: =Grefsen!#REF! -> #REF! | D32: =Grefsen!#REF! -> #REF! | E32: =Grefsen!#REF! -> #REF! | F32: =Grefsen!#REF! -> #REF! | G32: =Grefsen!#REF! -> #REF! | H32: =Grefsen!#REF! -> #REF! | I32: =Grefsen!#REF! -> #REF! | ... O32: =Grefsen!#REF! -> #REF! | P32: =SUM(B32:O32) -> #REF!
A33: Grorud | B33: =#REF! -> #REF! | C33: =#REF! -> #REF! | D33: =#REF! -> #REF! | E33: =#REF! -> #REF! | F33: =#REF! -> #REF! | G33: =#REF! -> #REF! | H33: =#REF! -> #REF! | I33: =#REF! -> #REF! | ... O33: =#REF! -> #REF! | P33: =SUM(B33:O33) -> #REF!
A34: Haugenstua | B34: =#REF! -> #REF! | C34: =#REF! -> #REF! | D34: =#REF! -> #REF! | E34: =#REF! -> #REF! | F34: =#REF! -> #REF! | G34: =#REF! -> #REF! | H34: =#REF! -> #REF! | I34: =#REF! -> #REF! | ... O34: =#REF! -> #REF! | P34: =SUM(B34:O34) -> #REF!
A35: Haugerud | B35: =#REF! -> #REF! | C35: =#REF! -> #REF! | D35: =#REF! -> #REF! | E35: =#REF! -> #REF! | F35: =#REF! -> #REF! | G35: =#REF! -> #REF! | H35: =#REF! -> #REF! | I35: =#REF! -> #REF! | ... O35: =#REF! -> #REF! | P35: =SUM(B35:O35) -> #REF!
A36: Holmlia | B36: =#REF! -> #REF! | C36: =#REF! -> #REF! | D36: =#REF! -> #REF! | E36: =#REF! -> #REF! | F36: =#REF! -> #REF! | G36: =#REF! -> #REF! | H36: =#REF! -> #REF! | I36: =#REF! -> #REF! | ... O36: =#REF! -> #REF! | P36: =SUM(B36:O36) -> #REF!
A37: Hovseter | B37: =#REF! -> #REF! | C37: =#REF! -> #REF! | D37: =#REF! -> #REF! | E37: =#REF! -> #REF! | F37: =#REF! -> #REF! | G37: =#REF! -> #REF! | H37: =#REF! -> #REF! | I37: =#REF! -> #REF! | ... O37: =#REF! -> #REF! | P37: =SUM(B37:O37) -> #REF!
A38: Høyenhall | B38: =Høyenhall!#REF! -> #REF! | C38: =Høyenhall!#REF! -> #REF! | D38: =Høyenhall!#REF! -> #REF! | E38: =Høyenhall!#REF! -> #REF! | F38: =Høyenhall!#REF! -> #REF! | G38: =Høyenhall!#REF! -> #REF! | H38: =Høyenhall!#REF! -> #REF! | I38: =Høyenhall!#REF! -> #REF! | ... O38: =Høyenhall!#REF! -> #REF! | P38: =SUM(B38:O38) -> #REF!
A39: Jordal | B39: =#REF! -> #REF! | C39: =#REF! -> #REF! | D39: =#REF! -> #REF! | E39: =#REF! -> #REF! | F39: =#REF! -> #REF! | G39: =#REF! -> #REF! | H39: =#REF! -> #REF! | I39: =#REF! -> #REF! | ... O39: =#REF! -> #REF! | P39: =SUM(B39:O39) -> #REF!
A40: Kjelsås | B40: =#REF! -> #REF! | C40: =#REF! -> #REF! | D40: =#REF! -> #REF! | E40: =#REF! -> #REF! | F40: =#REF! -> #REF! | G40: =#REF! -> #REF! | H40: =#REF! -> #REF! | I40: =#REF! -> #REF! | ... O40: =#REF! -> #REF! | P40: =SUM(B40:O40) -> #REF!
...

Sheet Kjerne
B1: Oversikt haller
B2: Badminton | C2: Basket | D2: Cheerleading | E2: Dans | F2: Futsal | G2: Gym og turn | H2: Hockey | I2: Håndball | J2: Innebandy | K2: Roller Derby | L2: Ultimate Frisbee | M2: Volleyball | N2: Paraidrett | O2: Spesielle tiltak | P2: Sum
A3: Små haller
A4: Ammerud (32 x 20) | B4: =#REF! -> #REF! | C4: =#REF! -> #REF! | D4: =#REF! -> #REF! | E4: =#REF! -> #REF! | F4: =#REF! -> #REF! | G4: =#REF! -> #REF! | H4: =#REF! -> #REF! | I4: =#REF! -> #REF! | ... O4: =#REF! -> #REF! | P4: =SUM(B4:O4) -> #REF!
A5: Bestum (24 x 16) | B5: =#REF! -> #REF! | C5: =#REF! -> #REF! | D5: =#REF! -> #REF! | E5: =#REF! -> #REF! | F5: =#REF! -> #REF! | G5: =#REF! -> #REF! | H5: =#REF! -> #REF! | I5: =#REF! -> #REF! | ... O5: =#REF! -> #REF! | P5: =SUM(B5:O5) -> #REF!
A6: Brynseng (32 x 20) | B6: =#REF! -> #REF! | C6: =#REF! -> #REF! | D6: =#REF! -> #REF! | E6: =#REF! -> #REF! | F6: =#REF! -> #REF! | G6: =#REF! -> #REF! | H6: =#REF! -> #REF! | I6: =#REF! -> #REF! | ... O6: =#REF! -> #REF! | P6: =SUM(B6:O6) -> #REF!
A7: Frydenberg (24 x 16) | B7: =#REF! -> #REF! | C7: =#REF! -> #REF! | D7: =#REF! -> #REF! | E7: =#REF! -> #REF! | F7: =#REF! -> #REF! | G7: =#REF! -> #REF! | H7: =#REF! -> #REF! | I7: =#REF! -> #REF! | ... O7: =#REF! -> #REF! | P7: =SUM(B7:O7) -> #REF!
A8: Kastellet (24 x 16) | B8: =#REF! -> #REF! | C8: =#REF! -> #REF! | D8: =#REF! -> #REF! | E8: =#REF! -> #REF! | F8: =#REF! -> #REF! | G8: =#REF! -> #REF! | H8: =#REF! -> #REF! | I8: =#REF! -> #REF! | ... O8: =#REF! -> #REF! | P8: =SUM(B8:O8) -> #REF!
A9: Klemetsrud liten | B9: =#REF! -> #REF! | C9: =#REF! -> #REF! | D9: =#REF! -> #REF! | E9: =#REF! -> #REF! | F9: =#REF! -> #REF! | G9: =#REF! -> #REF! | H9: =#REF! -> #REF! | I9: =#REF! -> #REF! | ... O9: =#REF! -> #REF! | P9: =SUM(B9:O9) -> #REF!
A10: Majorstuen (32 x 20) | B10: =#REF! -> #REF! | C10: =#REF! -> #REF! | D10: =#REF! -> #REF! | E10: =#REF! -> #REF! | F10: =#REF! -> #REF! | G10: =#REF! -> #REF! | H10: =#REF! -> #REF! | I10: =#REF! -> #REF! | ... O10: =#REF! -> #REF! | P10: =SUM(B10:O10) -> #REF!
A11: Marienlyst (32 x 20) | B11: =#REF! -> #REF! | C11: =#REF! -> #REF! | D11: =#REF! -> #REF! | E11: =#REF! -> #REF! | F11: =#REF! -> #REF! | G11: =#REF! -> #REF! | H11: =#REF! -> #REF! | I11: =#REF! -> #REF! | ... O11: =#REF! -> #REF! | P11: =SUM(B11:O11) -> #REF!
A12: Tåsen (24 x 16) | B12: =#REF! -> #REF! | C12: =#REF! -> #REF! | D12: =#REF! -> #REF! | E12: =#REF! -> #REF! | F12: =#REF! -> #REF! | G12: =#REF! -> #REF! | H12: =#REF! -> #REF! | I12: =#REF! -> #REF! | ... O12: =#REF! -> #REF! | P12: =SUM(B12:O12) -> #REF!
A13: Uranienborg (32 x 20) | B13: =Uranienborg!#REF! -> #REF! | C13: =Uranienborg!#REF! -> #REF! | D13: =Uranienborg!#REF! -> #REF! | E13: =Uranienborg!#REF! -> #REF! | F13: =Uranienborg!#REF! -> #REF! | G13: =Uranienborg!#REF! -> #REF! | H13: =Uranienborg!#REF! -> #REF! | I13: =Uranienborg!#REF! -> #REF! | ... O13: =Uranienborg!#REF! -> #REF! | P13: =SUM(B13:O13) -> #REF!
A14: Valle Hovin (32 x 20) | B14: =#REF! -> #REF! | C14: =#REF! -> #REF! | D14: =#REF! -> #REF! | E14: =#REF! -> #REF! | F14: =#REF! -> #REF! | G14: =#REF! -> #REF! | H14: =#REF! -> #REF! | I14: =#REF! -> #REF! | ... O14: =#REF! -> #REF! | P14: =SUM(B14:O14) -> #REF!
A15: Vulkan (32 x 20) | B15: =#REF! -> #REF! | C15: =#REF! -> #REF! | D15: =#REF! -> #REF! | E15: =#REF! -> #REF! | F15: =#REF! -> #REF! | G15: =#REF! -> #REF! | H15: =#REF! -> #REF! | I15: =#REF! -> #REF! | ... O15: =#REF! -> #REF! | P15: =SUM(B15:O15) -> #REF!
A16: Sum små haller | B16: =SUM(B4:B15) -> #REF! | C16: =SUM(C4:C15) -> #REF! | D16: =SUM(D4:D15) -> #REF! | E16: =SUM(E4:E15) -> #REF! | F16: =SUM(F4:F15) -> #REF! | G16: =SUM(G4:G15) -> #REF! | H16: =SUM(H4:H15) -> #REF! | I16: =SUM(I4:I15) -> #REF! | ... O16: =SUM(O4:O15) -> #REF! | P16: =SUM(B16:O16) -> #REF!
A17: Store haller
A18: Apalløkka 1 | B18: =#REF! -> #REF! | C18: =#REF! -> #REF! | D18: =#REF! -> #REF! | E18: =#REF! -> #REF! | F18: =#REF! -> #REF! | G18: =#REF! -> #REF! | H18: =#REF! -> #REF! | I18: =#REF! -> #REF! | ... O18: =#REF! -> #REF! | P18: =SUM(B18:O18) -> #REF!
A19: Apalløkka 2 | B19: =#REF! -> #REF! | C19: =#REF! -> #REF! | D19: =#REF! -> #REF! | E19: =#REF! -> #REF! | F19: =#REF! -> #REF! | G19: =#REF! -> #REF! | H19: =#REF! -> #REF! | I19: =#REF! -> #REF! | ... O19: =#REF! -> #REF! | P19: =SUM(B19:O19) -> #REF!
A20: Bentsebrua | B20: =Bentsebrua!#REF! -> #REF! | C20: =Bentsebrua!#REF! -> #REF! | D20: =Bentsebrua!#REF! -> #REF! | E20: =Bentsebrua!#REF! -> #REF! | F20: =Bentsebrua!#REF! -> #REF! | G20: =Bentsebrua!#REF! -> #REF! | H20: =Bentsebrua!#REF! -> #REF! | I20: =Bentsebrua!#REF! -> #REF! | ... O20: =Bentsebrua!#REF! -> #REF! | P20: =SUM(B20:O20) -> #REF!
A21: Bjølsen match | B21: =#REF! -> #REF! | C21: =#REF! -> #REF! | D21: =#REF! -> #REF! | E21: =#REF! -> #REF! | F21: =#REF! -> #REF! | G21: =#REF! -> #REF! | H21: =#REF! -> #REF! | I21: =#REF! -> #REF! | ... O21: =#REF! -> #REF! | P21: =SUM(B21:O21) -> #REF!
A22: Bjørnholt 1 | B22: =#REF! -> #REF! | C22: =#REF! -> #REF! | D22: =#REF! -> #REF! | E22: =#REF! -> #REF! | F22: =#REF! -> #REF! | G22: =#REF! -> #REF! | H22: =#REF! -> #REF! | I22: =#REF! -> #REF! | ... O22: =#REF! -> #REF! | P22: =SUM(B22:O22) -> #REF!
A23: Bjørnholt 2 | B23: =#REF! -> #REF! | C23: =#REF! -> #REF! | D23: =#REF! -> #REF! | E23: =#REF! -> #REF! | F23: =#REF! -> #REF! | G23: =#REF! -> #REF! | H23: =#REF! -> #REF! | I23: =#REF! -> #REF! | ... O23: =#REF! -> #REF! | P23: =SUM(B23:O23) -> #REF!
A24: Bjørnholt 3 | B24: =#REF! -> #REF! | C24: =#REF! -> #REF! | D24: =#REF! -> #REF! | E24: =#REF! -> #REF! | F24: =#REF! -> #REF! | G24: =#REF! -> #REF! | H24: =#REF! -> #REF! | I24: =#REF! -> #REF! | ... O24: =#REF! -> #REF! | P24: =SUM(B24:O24) -> #REF!
A25: Bøler | B25: =#REF! -> #REF! | C25: =#REF! -> #REF! | D25: =#REF! -> #REF! | E25: =#REF! -> #REF! | F25: =#REF! -> #REF! | G25: =#REF! -> #REF! | H25: =#REF! -> #REF! | I25: =#REF! -> #REF! | ... O25: =#REF! -> #REF! | P25: =SUM(B25:O25) -> #REF!
A26: Dælenenga | B26: =Dælenenga!#REF! -> #REF! | C26: =Dælenenga!#REF! -> #REF! | D26: =Dælenenga!#REF! -> #REF! | E26: =Dælenenga!#REF! -> #REF! | F26: =Dælenenga!#REF! -> #REF! | G26: =Dælenenga!#REF! -> #REF! | H26: =Dælenenga!#REF! -> #REF! | I26: =Dælenenga!#REF! -> #REF! | ... O26: =Dælenenga!#REF! -> #REF! | P26: =SUM(B26:O26) -> #REF!
A27: Ekeberg skole | B27: =#REF! -> #REF! | C27: =#REF! -> #REF! | D27: =#REF! -> #REF! | E27: =#REF! -> #REF! | F27: =#REF! -> #REF! | G27: =#REF! -> #REF! | H27: =#REF! -> #REF! | I27: =#REF! -> #REF! | ... O27: =#REF! -> #REF! | P27: =SUM(B27:O27) -> #REF!
A28: Ellingsrud | B28: =#REF! -> #REF! | C28: =#REF! -> #REF! | D28: =#REF! -> #REF! | E28: =#REF! -> #REF! | F28: =#REF! -> #REF! | G28: =#REF! -> #REF! | H28: =#REF! -> #REF! | I28: =#REF! -> #REF! | ... O28: =#REF! -> #REF! | P28: =SUM(B28:O28) -> #REF!
A29: Engebråten | B29: =#REF! -> #REF! | C29: =#REF! -> #REF! | D29: =#REF! -> #REF! | E29: =#REF! -> #REF! | F29: =#REF! -> #REF! | G29: =#REF! -> #REF! | H29: =#REF! -> #REF! | I29: =#REF! -> #REF! | ... O29: =#REF! -> #REF! | P29: =SUM(B29:O29) -> #REF!
A30: Furuset | B30: =#REF! -> #REF! | C30: =#REF! -> #REF! | D30: =#REF! -> #REF! | E30: =#REF! -> #REF! | F30: =#REF! -> #REF! | G30: =#REF! -> #REF! | H30: =#REF! -> #REF! | I30: =#REF! -> #REF! | ... O30: =#REF! -> #REF! | P30: =SUM(B30:O30) -> #REF!
A31: F21 | B31: =#REF! -> #REF! | C31: =#REF! -> #REF! | D31: =#REF! -> #REF! | E31: =#REF! -> #REF! | F31: =#REF! -> #REF! | G31: =#REF! -> #REF! | H31: =#REF! -> #REF! | I31: =#REF! -> #REF! | ... O31: =#REF! -> #REF! | P31: =SUM(B31:O31) -> #REF!
A32: Grefsen | B32: =Grefsen!#REF! -> #REF! | C32: =Grefsen!#REF! -> #REF! | D32: =Grefsen!#REF! -> #REF! | E32: =Grefsen!#REF! -> #REF! | F32: =Grefsen!#REF! -> #REF! | G32: =Grefsen!#REF! -> #REF! | H32: =Grefsen!#REF! -> #REF! | I32: =Grefsen!#REF! -> #REF! | ... O32: =Grefsen!#REF! -> #REF! | P32: =SUM(B32:O32) -> #REF!
A33: Grorud | B33: =#REF! -> #REF! | C33: =#REF! -> #REF! | D33: =#REF! -> #REF! | E33: =#REF! -> #REF! | F33: =#REF! -> #REF! | G33: =#REF! -> #REF! | H33: =#REF! -> #REF! | I33: =#REF! -> #REF! | ... O33: =#REF! -> #REF! | P33: =SUM(B33:O33) -> #REF!
A34: Haugenstua | B34: =#REF! -> #REF! | C34: =#REF! -> #REF! | D34: =#REF! -> #REF! | E34: =#REF! -> #REF! | F34: =#REF! -> #REF! | G34: =#REF! -> #REF! | H34: =#REF! -> #REF! | I34: =#REF! -> #REF! | ... O34: =#REF! -> #REF! | P34: =SUM(B34:O34) -> #REF!
A35: Haugerud | B35: =#REF! -> #REF! | C35: =#REF! -> #REF! | D35: =#REF! -> #REF! | E35: =#REF! -> #REF! | F35: =#REF! -> #REF! | G35: =#REF! -> #REF! | H35: =#REF! -> #REF! | I35: =#REF! -> #REF! | ... O35: =#REF! -> #REF! | P35: =SUM(B35:O35) -> #REF!
A36: Holmlia | B36: =#REF! -> #REF! | C36: =#REF! -> #REF! | D36: =#REF! -> #REF! | E36: =#REF! -> #REF! | F36: =#REF! -> #REF! | G36: =#REF! -> #REF! | H36: =#REF! -> #REF! | I36: =#REF! -> #REF! | ... O36: =#REF! -> #REF! | P36: =SUM(B36:O36) -> #REF!
A37: Hovseter | B37: =#REF! -> #REF! | C37: =#REF! -> #REF! | D37: =#REF! -> #REF! | E37: =#REF! -> #REF! | F37: =#REF! -> #REF! | G37: =#REF! -> #REF! | H37: =#REF! -> #REF! | I37: =#REF! -> #REF! | ... O37: =#REF! -> #REF! | P37: =SUM(B37:O37) -> #REF!
A38: Høyenhall | B38: =Høyenhall!#REF! -> #REF! | C38: =Høyenhall!#REF! -> #REF! | D38: =Høyenhall!#REF! -> #REF! | E38: =Høyenhall!#REF! -> #REF! | F38: =Høyenhall!#REF! -> #REF! | G38: =Høyenhall!#REF! -> #REF! | H38: =Høyenhall!#REF! -> #REF! | I38: =Høyenhall!#REF! -> #REF! | ... O38: =Høyenhall!#REF! -> #REF! | P38: =SUM(B38:O38) -> #REF!
A39: Jordal | B39: =#REF! -> #REF! | C39: =#REF! -> #REF! | D39: =#REF! -> #REF! | E39: =#REF! -> #REF! | F39: =#REF! -> #REF! | G39: =#REF! -> #REF! | H39: =#REF! -> #REF! | I39: =#REF! -> #REF! | ... O39: =#REF! -> #REF! | P39: =SUM(B39:O39) -> #REF!
A40: Kjelsås | B40: =#REF! -> #REF! | C40: =#REF! -> #REF! | D40: =#REF! -> #REF! | E40: =#REF! -> #REF! | F40: =#REF! -> #REF! | G40: =#REF! -> #REF! | H40: =#REF! -> #REF! | I40: =#REF! -> #REF! | ... O40: =#REF! -> #REF! | P40: =SUM(B40:O40) -> #REF!
...

Sheet Etter 21
B1: Oversikt haller
B2: Badminton | C2: Basket | D2: Cheerleading | E2: Dans | F2: Futsal | G2: Gym og turn | H2: Hockey | I2: Håndball | J2: Innebandy | K2: Roller Derby | L2: Ultimate Frisbee | M2: Volleyball | N2: Paraidrett | O2: Spesielle tiltak | P2: Sum
A3: Små haller
A4: Ammerud (32 x 20) | B4: =#REF! -> #REF! | C4: =#REF! -> #REF! | D4: =#REF! -> #REF! | E4: =#REF! -> #REF! | F4: =#REF! -> #REF! | G4: =#REF! -> #REF! | H4: =#REF! -> #REF! | I4: =#REF! -> #REF! | ... O4: =#REF! -> #REF! | P4: =SUM(B4:O4) -> #REF!
A5: Bestum (24 x 16) | B5: =#REF! -> #REF! | C5: =#REF! -> #REF! | D5: =#REF! -> #REF! | E5: =#REF! -> #REF! | F5: =#REF! -> #REF! | G5: =#REF! -> #REF! | H5: =#REF! -> #REF! | I5: =#REF! -> #REF! | ... O5: =#REF! -> #REF! | P5: =SUM(B5:O5) -> #REF!
A6: Brynseng (32 x 20) | B6: =#REF! -> #REF! | C6: =#REF! -> #REF! | D6: =#REF! -> #REF! | E6: =#REF! -> #REF! | F6: =#REF! -> #REF! | G6: =#REF! -> #REF! | H6: =#REF! -> #REF! | I6: =#REF! -> #REF! | ... O6: =#REF! -> #REF! | P6: =SUM(B6:O6) -> #REF!
A7: Frydenberg (24 x 16) | B7: =#REF! -> #REF! | C7: =#REF! -> #REF! | D7: =#REF! -> #REF! | E7: =#REF! -> #REF! | F7: =#REF! -> #REF! | G7: =#REF! -> #REF! | H7: =#REF! -> #REF! | I7: =#REF! -> #REF! | ... O7: =#REF! -> #REF! | P7: =SUM(B7:O7) -> #REF!
A8: Kastellet (24 x 16) | B8: =#REF! -> #REF! | C8: =#REF! -> #REF! | D8: =#REF! -> #REF! | E8: =#REF! -> #REF! | F8: =#REF! -> #REF! | G8: =#REF! -> #REF! | H8: =#REF! -> #REF! | I8: =#REF! -> #REF! | ... O8: =#REF! -> #REF! | P8: =SUM(B8:O8) -> #REF!
A9: Klemetsrud liten | B9: =#REF! -> #REF! | C9: =#REF! -> #REF! | D9: =#REF! -> #REF! | E9: =#REF! -> #REF! | F9: =#REF! -> #REF! | G9: =#REF! -> #REF! | H9: =#REF! -> #REF! | I9: =#REF! -> #REF! | ... O9: =#REF! -> #REF! | P9: =SUM(B9:O9) -> #REF!
A10: Majorstuen (32 x 20) | B10: =#REF! -> #REF! | C10: =#REF! -> #REF! | D10: =#REF! -> #REF! | E10: =#REF! -> #REF! | F10: =#REF! -> #REF! | G10: =#REF! -> #REF! | H10: =#REF! -> #REF! | I10: =#REF! -> #REF! | ... O10: =#REF! -> #REF! | P10: =SUM(B10:O10) -> #REF!
A11: Marienlyst (32 x 20) | B11: =#REF! -> #REF! | C11: =#REF! -> #REF! | D11: =#REF! -> #REF! | E11: =#REF! -> #REF! | F11: =#REF! -> #REF! | G11: =#REF! -> #REF! | H11: =#REF! -> #REF! | I11: =#REF! -> #REF! | ... O11: =#REF! -> #REF! | P11: =SUM(B11:O11) -> #REF!
A12: Tåsen (24 x 16) | B12: =#REF! -> #REF! | C12: =#REF! -> #REF! | D12: =#REF! -> #REF! | E12: =#REF! -> #REF! | F12: =#REF! -> #REF! | G12: =#REF! -> #REF! | H12: =#REF! -> #REF! | I12: =#REF! -> #REF! | ... O12: =#REF! -> #REF! | P12: =SUM(B12:O12) -> #REF!
A13: Uranienborg (32 x 20) | B13: =Uranienborg!#REF! -> #REF! | C13: =Uranienborg!#REF! -> #REF! | D13: =Uranienborg!#REF! -> #REF! | E13: =Uranienborg!#REF! -> #REF! | F13: =Uranienborg!#REF! -> #REF! | G13: =Uranienborg!#REF! -> #REF! | H13: =Uranienborg!#REF! -> #REF! | I13: =Uranienborg!#REF! -> #REF! | ... O13: =Uranienborg!#REF! -> #REF! | P13: =SUM(B13:O13) -> #REF!
A14: Valle Hovin (32 x 20) | B14: =#REF! -> #REF! | C14: =#REF! -> #REF! | D14: =#REF! -> #REF! | E14: =#REF! -> #REF! | F14: =#REF! -> #REF! | G14: =#REF! -> #REF! | H14: =#REF! -> #REF! | I14: =#REF! -> #REF! | ... O14: =#REF! -> #REF! | P14: =SUM(B14:O14) -> #REF!
A15: Vulkan (32 x 20) | B15: =#REF! -> #REF! | C15: =#REF! -> #REF! | D15: =#REF! -> #REF! | E15: =#REF! -> #REF! | F15: =#REF! -> #REF! | G15: =#REF! -> #REF! | H15: =#REF! -> #REF! | I15: =#REF! -> #REF! | ... O15: =#REF! -> #REF! | P15: =SUM(B15:O15) -> #REF!
A16: Sum små haller | B16: =SUM(B4:B15) -> #REF! | C16: =SUM(C4:C15) -> #REF! | D16: =SUM(D4:D15) -> #REF! | E16: =SUM(E4:E15) -> #REF! | F16: =SUM(F4:F15) -> #REF! | G16: =SUM(G4:G15) -> #REF! | H16: =SUM(H4:H15) -> #REF! | I16: =SUM(I4:I15) -> #REF! | ... O16: =SUM(O4:O15) -> #REF! | P16: =SUM(B16:O16) -> #REF!
A17: Store haller
A18: Apalløkka 1 | B18: =#REF! -> #REF! | C18: =#REF! -> #REF! | D18: =#REF! -> #REF! | E18: =#REF! -> #REF! | F18: =#REF! -> #REF! | G18: =#REF! -> #REF! | H18: =#REF! -> #REF! | I18: =#REF! -> #REF! | ... O18: =#REF! -> #REF! | P18: =SUM(B18:O18) -> #REF!
A19: Apalløkka 2 | B19: =#REF! -> #REF! | C19: =#REF! -> #REF! | D19: =#REF! -> #REF! | E19: =#REF! -> #REF! | F19: =#REF! -> #REF! | G19: =#REF! -> #REF! | H19: =#REF! -> #REF! | I19: =#REF! -> #REF! | ... O19: =#REF! -> #REF! | P19: =SUM(B19:O19) -> #REF!
A20: Bentsebrua | B20: =Bentsebrua!#REF! -> #REF! | C20: =Bentsebrua!#REF! -> #REF! | D20: =Bentsebrua!#REF! -> #REF! | E20: =Bentsebrua!#REF! -> #REF! | F20: =Bentsebrua!#REF! -> #REF! | G20: =Bentsebrua!#REF! -> #REF! | H20: =Bentsebrua!#REF! -> #REF! | I20: =Bentsebrua!#REF! -> #REF! | ... O20: =Bentsebrua!#REF! -> #REF! | P20: =SUM(B20:O20) -> #REF!
A21: Bjølsen match | B21: =#REF! -> #REF! | C21: =#REF! -> #REF! | D21: =#REF! -> #REF! | E21: =#REF! -> #REF! | F21: =#REF! -> #REF! | G21: =#REF! -> #REF! | H21: =#REF! -> #REF! | I21: =#REF! -> #REF! | ... O21: =#REF! -> #REF! | P21: =SUM(B21:O21) -> #REF!
A22: Bjørnholt 1 | B22: =#REF! -> #REF! | C22: =#REF! -> #REF! | D22: =#REF! -> #REF! | E22: =#REF! -> #REF! | F22: =#REF! -> #REF! | G22: =#REF! -> #REF! | H22: =#REF! -> #REF! | I22: =#REF! -> #REF! | ... O22: =#REF! -> #REF! | P22: =SUM(B22:O22) -> #REF!
A23: Bjørnholt 2 | B23: =#REF! -> #REF! | C23: =#REF! -> #REF! | D23: =#REF! -> #REF! | E23: =#REF! -> #REF! | F23: =#REF! -> #REF! | G23: =#REF! -> #REF! | H23: =#REF! -> #REF! | I23: =#REF! -> #REF! | ... O23: =#REF! -> #REF! | P23: =SUM(B23:O23) -> #REF!
A24: Bjørnholt 3 | B24: =#REF! -> #REF! | C24: =#REF! -> #REF! | D24: =#REF! -> #REF! | E24: =#REF! -> #REF! | F24: =#REF! -> #REF! | G24: =#REF! -> #REF! | H24: =#REF! -> #REF! | I24: =#REF! -> #REF! | ... O24: =#REF! -> #REF! | P24: =SUM(B24:O24) -> #REF!
A25: Bøler | B25: =#REF! -> #REF! | C25: =#REF! -> #REF! | D25: =#REF! -> #REF! | E25: =#REF! -> #REF! | F25: =#REF! -> #REF! | G25: =#REF! -> #REF! | H25: =#REF! -> #REF! | I25: =#REF! -> #REF! | ... O25: =#REF! -> #REF! | P25: =SUM(B25:O25) -> #REF!
A26: Dælenenga | B26: =Dælenenga!#REF! -> #REF! | C26: =Dælenenga!#REF! -> #REF! | D26: =Dælenenga!#REF! -> #REF! | E26: =Dælenenga!#REF! -> #REF! | F26: =Dælenenga!#REF! -> #REF! | G26: =Dælenenga!#REF! -> #REF! | H26: =Dælenenga!#REF! -> #REF! | I26: =Dælenenga!#REF! -> #REF! | ... O26: =Dælenenga!#REF! -> #REF! | P26: =SUM(B26:O26) -> #REF!
A27: Ekeberg skole | B27: =#REF! -> #REF! | C27: =#REF! -> #REF! | D27: =#REF! -> #REF! | E27: =#REF! -> #REF! | F27: =#REF! -> #REF! | G27: =#REF! -> #REF! | H27: =#REF! -> #REF! | I27: =#REF! -> #REF! | ... O27: =#REF! -> #REF! | P27: =SUM(B27:O27) -> #REF!
A28: Ellingsrud | B28: =#REF! -> #REF! | C28: =#REF! -> #REF! | D28: =#REF! -> #REF! | E28: =#REF! -> #REF! | F28: =#REF! -> #REF! | G28: =#REF! -> #REF! | H28: =#REF! -> #REF! | I28: =#REF! -> #REF! | ... O28: =#REF! -> #REF! | P28: =SUM(B28:O28) -> #REF!
A29: Engebråten | B29: =#REF! -> #REF! | C29: =#REF! -> #REF! | D29: =#REF! -> #REF! | E29: =#REF! -> #REF! | F29: =#REF! -> #REF! | G29: =#REF! -> #REF! | H29: =#REF! -> #REF! | I29: =#REF! -> #REF! | ... O29: =#REF! -> #REF! | P29: =SUM(B29:O29) -> #REF!
A30: Furuset | B30: =#REF! -> #REF! | C30: =#REF! -> #REF! | D30: =#REF! -> #REF! | E30: =#REF! -> #REF! | F30: =#REF! -> #REF! | G30: =#REF! -> #REF! | H30: =#REF! -> #REF! | I30: =#REF! -> #REF! | ... O30: =#REF! -> #REF! | P30: =SUM(B30:O30) -> #REF!
A31: F21 | B31: =#REF! -> #REF! | C31: =#REF! -> #REF! | D31: =#REF! -> #REF! | E31: =#REF! -> #REF! | F31: =#REF! -> #REF! | G31: =#REF! -> #REF! | H31: =#REF! -> #REF! | I31: =#REF! -> #REF! | ... O31: =#REF! -> #REF! | P31: =SUM(B31:O31) -> #REF!
A32: Grefsen | B32: =Grefsen!#REF! -> #REF! | C32: =Grefsen!#REF! -> #REF! | D32: =Grefsen!#REF! -> #REF! | E32: =Grefsen!#REF! -> #REF! | F32: =Grefsen!#REF! -> #REF! | G32: =Grefsen!#REF! -> #REF! | H32: =Grefsen!#REF! -> #REF! | I32: =Grefsen!#REF! -> #REF! | ... O32: =Grefsen!#REF! -> #REF! | P32: =SUM(B32:O32) -> #REF!
A33: Grorud | B33: =#REF! -> #REF! | C33: =#REF! -> #REF! | D33: =#REF! -> #REF! | E33: =#REF! -> #REF! | F33: =#REF! -> #REF! | G33: =#REF! -> #REF! | H33: =#REF! -> #REF! | I33: =#REF! -> #REF! | ... O33: =#REF! -> #REF! | P33: =SUM(B33:O33) -> #REF!
A34: Haugenstua | B34: =#REF! -> #REF! | C34: =#REF! -> #REF! | D34: =#REF! -> #REF! | E34: =#REF! -> #REF! | F34: =#REF! -> #REF! | G34: =#REF! -> #REF! | H34: =#REF! -> #REF! | I34: =#REF! -> #REF! | ... O34: =#REF! -> #REF! | P34: =SUM(B34:O34) -> #REF!
A35: Haugerud | B35: =#REF! -> #REF! | C35: =#REF! -> #REF! | D35: =#REF! -> #REF! | E35: =#REF! -> #REF! | F35: =#REF! -> #REF! | G35: =#REF! -> #REF! | H35: =#REF! -> #REF! | I35: =#REF! -> #REF! | ... O35: =#REF! -> #REF! | P35: =SUM(B35:O35) -> #REF!
A36: Holmlia | B36: =#REF! -> #REF! | C36: =#REF! -> #REF! | D36: =#REF! -> #REF! | E36: =#REF! -> #REF! | F36: =#REF! -> #REF! | G36: =#REF! -> #REF! | H36: =#REF! -> #REF! | I36: =#REF! -> #REF! | ... O36: =#REF! -> #REF! | P36: =SUM(B36:O36) -> #REF!
A37: Hovseter | B37: =#REF! -> #REF! | C37: =#REF! -> #REF! | D37: =#REF! -> #REF! | E37: =#REF! -> #REF! | F37: =#REF! -> #REF! | G37: =#REF! -> #REF! | H37: =#REF! -> #REF! | I37: =#REF! -> #REF! | ... O37: =#REF! -> #REF! | P37: =SUM(B37:O37) -> #REF!
A38: Høyenhall | B38: =Høyenhall!#REF! -> #REF! | C38: =Høyenhall!#REF! -> #REF! | D38: =Høyenhall!#REF! -> #REF! | E38: =Høyenhall!#REF! -> #REF! | F38: =Høyenhall!#REF! -> #REF! | G38: =Høyenhall!#REF! -> #REF! | H38: =Høyenhall!#REF! -> #REF! | I38: =Høyenhall!#REF! -> #REF! | ... O38: =Høyenhall!#REF! -> #REF! | P38: =SUM(B38:O38) -> #REF!
A39: Jordal | B39: =#REF! -> #REF! | C39: =#REF! -> #REF! | D39: =#REF! -> #REF! | E39: =#REF! -> #REF! | F39: =#REF! -> #REF! | G39: =#REF! -> #REF! | H39: =#REF! -> #REF! | I39: =#REF! -> #REF! | ... O39: =#REF! -> #REF! | P39: =SUM(B39:O39) -> #REF!
A40: Kjelsås | B40: =#REF! -> #REF! | C40: =#REF! -> #REF! | D40: =#REF! -> #REF! | E40: =#REF! -> #REF! | F40: =#REF! -> #REF! | G40: =#REF! -> #REF! | H40: =#REF! -> #REF! | I40: =#REF! -> #REF! | ... O40: =#REF! -> #REF! | P40: =SUM(B40:O40) -> #REF!
...

Sheet Fredag
B1: Oversikt haller
B2: Badminton | C2: Basket | D2: Cheerleading | E2: Dans | F2: Futsal | G2: Gym og turn | H2: Hockey | I2: Håndball | J2: Innebandy | K2: Roller Derby | L2: Ultimate Frisbee | M2: Volleyball | N2: Paraidrett | O2: Spesielle tiltak | P2: Sum
A3: Små haller
A4: Ammerud (32 x 20) | B4: =#REF! -> #REF! | C4: =#REF! -> #REF! | D4: =#REF! -> #REF! | E4: =#REF! -> #REF! | F4: =#REF! -> #REF! | G4: =#REF! -> #REF! | H4: =#REF! -> #REF! | I4: =#REF! -> #REF! | ... O4: =#REF! -> #REF! | P4: =SUM(B4:O4) -> #REF!
A5: Bestum (24 x 16) | B5: =#REF! -> #REF! | C5: =#REF! -> #REF! | D5: =#REF! -> #REF! | E5: =#REF! -> #REF! | F5: =#REF! -> #REF! | G5: =#REF! -> #REF! | H5: =#REF! -> #REF! | I5: =#REF! -> #REF! | ... O5: =#REF! -> #REF! | P5: =SUM(B5:O5) -> #REF!
A6: Brynseng (32 x 20) | B6: =#REF! -> #REF! | C6: =#REF! -> #REF! | D6: =#REF! -> #REF! | E6: =#REF! -> #REF! | F6: =#REF! -> #REF! | G6: =#REF! -> #REF! | H6: =#REF! -> #REF! | I6: =#REF! -> #REF! | ... O6: =#REF! -> #REF! | P6: =SUM(B6:O6) -> #REF!
A7: Frydenberg (24 x 16) | B7: =#REF! -> #REF! | C7: =#REF! -> #REF! | D7: =#REF! -> #REF! | E7: =#REF! -> #REF! | F7: =#REF! -> #REF! | G7: =#REF! -> #REF! | H7: =#REF! -> #REF! | I7: =#REF! -> #REF! | ... O7: =#REF! -> #REF! | P7: =SUM(B7:O7) -> #REF!
A8: Kastellet (24 x 16) | B8: =#REF! -> #REF! | C8: =#REF! -> #REF! | D8: =#REF! -> #REF! | E8: =#REF! -> #REF! | F8: =#REF! -> #REF! | G8: =#REF! -> #REF! | H8: =#REF! -> #REF! | I8: =#REF! -> #REF! | ... O8: =#REF! -> #REF! | P8: =SUM(B8:O8) -> #REF!
A9: Klemetsrud liten | B9: =#REF! -> #REF! | C9: =#REF! -> #REF! | D9: =#REF! -> #REF! | E9: =#REF! -> #REF! | F9: =#REF! -> #REF! | G9: =#REF! -> #REF! | H9: =#REF! -> #REF! | I9: =#REF! -> #REF! | ... O9: =#REF! -> #REF! | P9: =SUM(B9:O9) -> #REF!
A10: Majorstuen (32 x 20) | B10: =#REF! -> #REF! | C10: =#REF! -> #REF! | D10: =#REF! -> #REF! | E10: =#REF! -> #REF! | F10: =#REF! -> #REF! | G10: =#REF! -> #REF! | H10: =#REF! -> #REF! | I10: =#REF! -> #REF! | ... O10: =#REF! -> #REF! | P10: =SUM(B10:O10) -> #REF!
A11: Marienlyst (32 x 20) | B11: =#REF! -> #REF! | C11: =#REF! -> #REF! | D11: =#REF! -> #REF! | E11: =#REF! -> #REF! | F11: =#REF! -> #REF! | G11: =#REF! -> #REF! | H11: =#REF! -> #REF! | I11: =#REF! -> #REF! | ... O11: =#REF! -> #REF! | P11: =SUM(B11:O11) -> #REF!
A12: Tåsen (24 x 16) | B12: =#REF! -> #REF! | C12: =#REF! -> #REF! | D12: =#REF! -> #REF! | E12: =#REF! -> #REF! | F12: =#REF! -> #REF! | G12: =#REF! -> #REF! | H12: =#REF! -> #REF! | I12: =#REF! -> #REF! | ... O12: =#REF! -> #REF! | P12: =SUM(B12:O12) -> #REF!
A13: Uranienborg (32 x 20) | B13: =Uranienborg!#REF! -> #REF! | C13: =Uranienborg!#REF! -> #REF! | D13: =Uranienborg!#REF! -> #REF! | E13: =Uranienborg!#REF! -> #REF! | F13: =Uranienborg!#REF! -> #REF! | G13: =Uranienborg!#REF! -> #REF! | H13: =Uranienborg!#REF! -> #REF! | I13: =Uranienborg!#REF! -> #REF! | ... O13: =Uranienborg!#REF! -> #REF! | P13: =SUM(B13:O13) -> #REF!
A14: Valle Hovin (32 x 20) | B14: =#REF! -> #REF! | C14: =#REF! -> #REF! | D14: =#REF! -> #REF! | E14: =#REF! -> #REF! | F14: =#REF! -> #REF! | G14: =#REF! -> #REF! | H14: =#REF! -> #REF! | I14: =#REF! -> #REF! | ... O14: =#REF! -> #REF! | P14: =SUM(B14:O14) -> #REF!
A15: Vulkan (32 x 20) | B15: =#REF! -> #REF! | C15: =#REF! -> #REF! | D15: =#REF! -> #REF! | E15: =#REF! -> #REF! | F15: =#REF! -> #REF! | G15: =#REF! -> #REF! | H15: =#REF! -> #REF! | I15: =#REF! -> #REF! | ... O15: =#REF! -> #REF! | P15: =SUM(B15:O15) -> #REF!
A16: Sum små haller | B16: =SUM(B4:B15) -> #REF! | C16: =SUM(C4:C15) -> #REF! | D16: =SUM(D4:D15) -> #REF! | E16: =SUM(E4:E15) -> #REF! | F16: =SUM(F4:F15) -> #REF! | G16: =SUM(G4:G15) -> #REF! | H16: =SUM(H4:H15) -> #REF! | I16: =SUM(I4:I15) -> #REF! | ... O16: =SUM(O4:O15) -> #REF! | P16: =SUM(B16:O16) -> #REF!
A17: Store haller
A18: Apalløkka 1 | B18: =#REF! -> #REF! | C18: =#REF! -> #REF! | D18: =#REF! -> #REF! | E18: =#REF! -> #REF! | F18: =#REF! -> #REF! | G18: =#REF! -> #REF! | H18: =#REF! -> #REF! | I18: =#REF! -> #REF! | ... O18: =#REF! -> #REF! | P18: =SUM(B18:O18) -> #REF!
A19: Apalløkka 2 | B19: =#REF! -> #REF! | C19: =#REF! -> #REF! | D19: =#REF! -> #REF! | E19: =#REF! -> #REF! | F19: =#REF! -> #REF! | G19: =#REF! -> #REF! | H19: =#REF! -> #REF! | I19: =#REF! -> #REF! | ... O19: =#REF! -> #REF! | P19: =SUM(B19:O19) -> #REF!
A20: Bentsebrua | B20: =Bentsebrua!#REF! -> #REF! | C20: =Bentsebrua!#REF! -> #REF! | D20: =Bentsebrua!#REF! -> #REF! | E20: =Bentsebrua!#REF! -> #REF! | F20: =Bentsebrua!#REF! -> #REF! | G20: =Bentsebrua!#REF! -> #REF! | H20: =Bentsebrua!#REF! -> #REF! | I20: =Bentsebrua!#REF! -> #REF! | ... O20: =Bentsebrua!#REF! -> #REF! | P20: =SUM(B20:O20) -> #REF!
A21: Bjølsen match | B21: =#REF! -> #REF! | C21: =#REF! -> #REF! | D21: =#REF! -> #REF! | E21: =#REF! -> #REF! | F21: =#REF! -> #REF! | G21: =#REF! -> #REF! | H21: =#REF! -> #REF! | I21: =#REF! -> #REF! | ... O21: =#REF! -> #REF! | P21: =SUM(B21:O21) -> #REF!
A22: Bjørnholt 1 | B22: =#REF! -> #REF! | C22: =#REF! -> #REF! | D22: =#REF! -> #REF! | E22: =#REF! -> #REF! | F22: =#REF! -> #REF! | G22: =#REF! -> #REF! | H22: =#REF! -> #REF! | I22: =#REF! -> #REF! | ... O22: =#REF! -> #REF! | P22: =SUM(B22:O22) -> #REF!
A23: Bjørnholt 2 | B23: =#REF! -> #REF! | C23: =#REF! -> #REF! | D23: =#REF! -> #REF! | E23: =#REF! -> #REF! | F23: =#REF! -> #REF! | G23: =#REF! -> #REF! | H23: =#REF! -> #REF! | I23: =#REF! -> #REF! | ... O23: =#REF! -> #REF! | P23: =SUM(B23:O23) -> #REF!
A24: Bjørnholt 3 | B24: =#REF! -> #REF! | C24: =#REF! -> #REF! | D24: =#REF! -> #REF! | E24: =#REF! -> #REF! | F24: =#REF! -> #REF! | G24: =#REF! -> #REF! | H24: =#REF! -> #REF! | I24: =#REF! -> #REF! | ... O24: =#REF! -> #REF! | P24: =SUM(B24:O24) -> #REF!
