Workbook

Sheet Områder
B1: Oversikt haller
B2: Badminton | C2: Basket | D2: Cheerleading | E2: Dans | F2: Futsal | G2: Gym og turn | H2: Hockey | I2: Håndball | J2: Innebandy | K2: Roller Derby | L2: Ultimate Frisbee | M2: Volleyball | N2: Paraidrett | O2: Idrett - ST | P2: Spesielle tiltak | Q2: Sum | R2: Normert | T2: Treningstimer
A3: Groruddalen vest
A4: Ammerud (32 x 20) | B4: =#REF! -> #REF! | C4: =#REF! -> #REF! | D4: =#REF! -> #REF! | E4: =#REF! -> #REF! | F4: =#REF! -> #REF! | G4: =#REF! -> #REF! | H4: =#REF! -> #REF! | I4: =#REF! -> #REF! | ... N4: =#REF! -> #REF! | O4: ='Oversikt ST'!P4 -> #REF! | P4: =#REF! -> #REF! | Q4: =SUM(B4:P4) -> #REF! | R4: =IF(Q4>9.5,Q4,9.5) -> #REF! | S4: =IF(R4>Q4,"LEDIG","OK") -> #REF! | T4: =(SUM(B4,D4:P4)*2)+C4 -> #REF! | V4: =Q4-R4 -> #REF!
A5: Apalløkka 1 | B5: =#REF! -> #REF! | C5: =#REF! -> #REF! | D5: =#REF! -> #REF! | E5: =#REF! -> #REF! | F5: =#REF! -> #REF! | G5: =#REF! -> #REF! | H5: =#REF! -> #REF! | I5: =#REF! -> #REF! | ... N5: =#REF! -> #REF! | O5: ='Oversikt ST'!P18 -> #REF! | P5: =#REF! -> #REF! | Q5: =SUM(B5:P5) -> #REF! | R5: =IF(Q5>32,Q5,32) -> #REF! | S5: =IF(R5>Q5,"LEDIG","OK") -> #REF! | T5: 32
A6: Apalløkka 2 | B6: =#REF! -> #REF! | C6: =#REF! -> #REF! | D6: =#REF! -> #REF! | E6: =#REF! -> #REF! | F6: =#REF! -> #REF! | G6: =#REF! -> #REF! | H6: =#REF! -> #REF! | I6: =#REF! -> #REF! | ... N6: =#REF! -> #REF! | O6: ='Oversikt ST'!P19 -> #REF! | P6: =#REF! -> #REF! | Q6: =SUM(B6:P6) -> #REF! | R6: 32 | S6: =IF(R6>Q6,"LEDIG","OK") -> #REF! | T6: 32
A7: Grorud | B7: =#REF! -> #REF! | C7: =#REF! -> #REF! | D7: =#REF! -> #REF! | E7: =#REF! -> #REF! | F7: =#REF! -> #REF! | G7: =#REF! -> #REF! | H7: =#REF! -> #REF! | I7: =#REF! -> #REF! | ... N7: =#REF! -> #REF! | O7: ='Oversikt ST'!P33 -> #REF! | P7: =#REF! -> #REF! | Q7: =SUM(B7:P7) -> #REF! | R7: 32 | S7: =IF(R7>Q7,"LEDIG","OK") -> #REF! | T7: 32
A8: Linderud | B8: =#REF! -> #REF! | C8: =#REF! -> #REF! | D8: =#REF! -> #REF! | E8: =#REF! -> #REF! | F8: =#REF! -> #REF! | G8: =#REF! -> #REF! | H8: =#REF! -> #REF! | I8: =#REF! -> #REF! | ... N8: =#REF! -> #REF! | O8: ='Oversikt ST'!P46 -> #REF! | P8: =#REF! -> #REF! | Q8: =SUM(B8:P8) -> #REF! | R8: 32 | S8: =IF(R8>Q8,"LEDIG","OK") -> #REF! | T8: 32
A9: Linderud priv | B9: 0 | C9: 0 | D9: 0 | E9: 0 | F9: 0 | G9: 0 | H9: 0 | I9: 25.6 | J9: 0 | K9: 0 | L9: 0 | M9: 0 | N9: 0 | O9: 0 | P9: 0 | Q9: 25.6
A10: Veitvet | B10: =#REF! -> #REF! | C10: =#REF! -> #REF! | D10: =#REF! -> #REF! | E10: =#REF! -> #REF! | F10: =#REF! -> #REF! | G10: =#REF! -> #REF! | H10: =#REF! -> #REF! | I10: =#REF! -> #REF! | ... N10: =#REF! -> #REF! | O10: ='Oversikt ST'!P65 -> #REF! | P10: =#REF! -> #REF! | Q10: =SUM(B10:P10) -> #REF! | R10: =Q10 -> #REF! | S10: =IF(R10>Q10,"LEDIG","OK") -> #REF! | T10: 32
A11: Årvoll | B11: =Årvoll!#REF! -> #REF! | C11: =Årvoll!#REF! -> #REF! | D11: =Årvoll!#REF! -> #REF! | E11: =Årvoll!#REF! -> #REF! | F11: =Årvoll!#REF! -> #REF! | G11: =Årvoll!#REF! -> #REF! | H11: =Årvoll!#REF! -> #REF! | I11: =Årvoll!#REF! -> #REF! | ... N11: =Årvoll!#REF! -> #REF! | O11: ='Oversikt ST'!P69 -> #REF! | P11: =Årvoll!#REF! -> #REF! | Q11: =SUM(B11:P11) -> #REF! | R11: 32 | S11: =IF(R11>Q11,"LEDIG","OK") -> #REF! | T11: 32
A12: SUM | B12: =SUM(B3:B11) -> #REF! | C12: =SUM(C3:C11) -> #REF! | D12: =SUM(D3:D11) -> #REF! | E12: =SUM(E3:E11) -> #REF! | F12: =SUM(F3:F11) -> #REF! | G12: =SUM(G3:G11) -> #REF! | H12: =SUM(H3:H11) -> #REF! | I12: =SUM(I3:I11)-I9 -> #REF! | J12: =SUM(J3:J11) -> #REF! | K12: =SUM(K3:K11) -> #REF! | L12: =SUM(L3:L11) -> #REF! | M12: =SUM(M3:M11) -> #REF! | N12: =SUM(N3:N11) -> #REF! | O12: =SUM(O3:O11) -> #REF! | P12: =SUM(P3:P11) -> #REF! | Q12: =SUM(B12:P12) -> #REF!
B13: =B12/SUM($Q$4:$Q$11) -> #REF! | C13: =C12/SUM($Q$4:$Q$11) -> #REF! | D13: =D12/SUM($Q$4:$Q$11) -> #REF! | E13: =E12/SUM($Q$4:$Q$11) -> #REF! | F13: =F12/SUM($Q$4:$Q$11) -> #REF! | G13: =G12/SUM($Q$4:$Q$11) -> #REF! | H13: =H12/SUM($Q$4:$Q$11) -> #REF! | I13: =I12/SUM($Q$4:$Q$11) -> #REF! | ... P13: =P12/SUM($Q$4:$Q$11) -> #REF! | Q13: =SUM(B13:P13) -> #REF!
C14: =C12/(C12+H12+I12+J12+M12) -> #REF! | H14: =H12/(C12+H12+I12+J12+M12) -> #REF! | I14: =I12/(C12+H12+I12+J12+M12) -> #REF! | J14: =J12/(C12+H12+I12+J12+M12) -> #REF! | M14: =M12/(C12+H12+I12+J12+M12) -> #REF! | Q14: =SUM(B14:P14) -> #REF!
A18: Groruddalen øst
A19: Ellingsrud | B19: =#REF! -> #REF! | C19: =#REF! -> #REF! | D19: =#REF! -> #REF! | E19: =#REF! -> #REF! | F19: =#REF! -> #REF! | G19: =#REF! -> #REF! | H19: =#REF! -> #REF! | I19: =#REF! -> #REF! | ... N19: =#REF! -> #REF! | O19: ='Oversikt ST'!P28 -> #REF! | P19: =#REF! -> #REF! | Q19: =SUM(B19:P19) -> #REF! | R19: 32 | S19: =IF(R19>Q19,"LEDIG","OK") -> #REF! | T19: 32
A20: Furuset | B20: =#REF! -> #REF! | C20: =#REF! -> #REF! | D20: =#REF! -> #REF! | E20: =#REF! -> #REF! | F20: =#REF! -> #REF! | G20: =#REF! -> #REF! | H20: =#REF! -> #REF! | I20: =#REF! -> #REF! | ... N20: =#REF! -> #REF! | O20: ='Oversikt ST'!P30 -> #REF! | P20: =#REF! -> #REF! | Q20: =SUM(B20:P20) -> #REF! | R20: 32 | S20: =IF(R20>Q20,"LEDIG","OK") -> #REF! | T20: 32
A21: Haugenstua | B21: =#REF! -> #REF! | C21: =#REF! -> #REF! | D21: =#REF! -> #REF! | E21: =#REF! -> #REF! | F21: =#REF! -> #REF! | G21: =#REF! -> #REF! | H21: =#REF! -> #REF! | I21: =#REF! -> #REF! | ... N21: =#REF! -> #REF! | O21: ='Oversikt ST'!P34 -> #REF! | P21: =#REF! -> #REF! | Q21: =SUM(B21:P21) -> #REF! | R21: 32 | S21: =IF(R21>Q21,"LEDIG","OK") -> #REF! | T21: 32
A22: Nordbyen idr.hall | B22: =#REF! -> #REF! | C22: =#REF! -> #REF! | D22: =#REF! -> #REF! | E22: =#REF! -> #REF! | F22: =#REF! -> #REF! | G22: =#REF! -> #REF! | H22: =#REF! -> #REF! | I22: =#REF! -> #REF! | ... N22: =#REF! -> #REF! | O22: ='Oversikt ST'!P47 -> #REF! | P22: =#REF! -> #REF! | Q22: =SUM(B22:P22) -> #REF! | R22: 32 | S22: =IF(R22>Q22,"LEDIG","OK") -> #REF! | T22: 32
A23: Nordbyen turn | B23: ='Nordbyen turn'!#REF! -> #REF! | C23: ='Nordbyen turn'!#REF! -> #REF! | D23: ='Nordbyen turn'!#REF! -> #REF! | E23: ='Nordbyen turn'!#REF! -> #REF! | F23: ='Nordbyen turn'!#REF! -> #REF! | G23: ='Nordbyen turn'!#REF! -> #REF! | H23: ='Nordbyen turn'!#REF! -> #REF! | I23: ='Nordbyen turn'!#REF! -> #REF! | ... N23: ='Nordbyen turn'!#REF! -> #REF! | O23: ='Oversikt ST'!P48 -> #REF! | P23: ='Nordbyen turn'!#REF! -> #REF! | Q23: =SUM(B23:P23) -> #REF! | R23: 32 | S23: =IF(R23>Q23,"LEDIG","OK") -> #REF! | T23: 32
A24: Rommen | B24: =#REF! -> #REF! | C24: =#REF! -> #REF! | D24: =#REF! -> #REF! | E24: =#REF! -> #REF! | F24: =#REF! -> #REF! | G24: =#REF! -> #REF! | H24: =#REF! -> #REF! | I24: =#REF! -> #REF! | ... N24: =#REF! -> #REF! | O24: ='Oversikt ST'!P55 -> #REF! | P24: =#REF! -> #REF! | Q24: =SUM(B24:P24) -> #REF! | R24: 29.5 | S24: =IF(R24>Q24,"LEDIG","OK") -> #REF! | T24: 29.5
A25: Romsås | B25: =Romsås!#REF! -> #REF! | C25: =Romsås!#REF! -> #REF! | D25: =Romsås!#REF! -> #REF! | E25: =Romsås!#REF! -> #REF! | F25: =Romsås!#REF! -> #REF! | G25: =Romsås!#REF! -> #REF! | H25: =Romsås!#REF! -> #REF! | I25: =Romsås!#REF! -> #REF! | ... N25: =Romsås!#REF! -> #REF! | O25: ='Oversikt ST'!P56 -> #REF! | P25: =Romsås!#REF! -> #REF! | Q25: =SUM(B25:P25) -> #REF! | R25: 28.5 | S25: =IF(R25>Q25,"LEDIG","OK") -> #REF! | T25: 28.5
A26: Stovner | B26: =#REF! -> #REF! | C26: =#REF! -> #REF! | D26: =#REF! -> #REF! | E26: =#REF! -> #REF! | F26: =#REF! -> #REF! | G26: =#REF! -> #REF! | H26: =#REF! -> #REF! | I26: =#REF! -> #REF! | ... N26: =#REF! -> #REF! | O26: ='Oversikt ST'!P58 -> #REF! | P26: =#REF! -> #REF! | Q26: =SUM(B26:P26) -> #REF! | R26: 32 | S26: =IF(R26>Q26,"LEDIG","OK") -> #REF! | T26: 32
A27: Tokerud | B27: =#REF! -> #REF! | C27: =#REF! -> #REF! | D27: =#REF! -> #REF! | E27: =#REF! -> #REF! | F27: =#REF! -> #REF! | G27: =#REF! -> #REF! | H27: =#REF! -> #REF! | I27: =#REF! -> #REF! | ... N27: =#REF! -> #REF! | O27: ='Oversikt ST'!P60 -> #REF! | P27: =#REF! -> #REF! | Q27: =SUM(B27:P27) -> #REF! | R27: 32 | S27: =IF(R27>Q27,"LEDIG","OK") -> #REF! | T27: 32
A28: Vestli | B28: =#REF! -> #REF! | C28: =#REF! -> #REF! | D28: =#REF! -> #REF! | E28: =#REF! -> #REF! | F28: =#REF! -> #REF! | G28: =#REF! -> #REF! | H28: =#REF! -> #REF! | I28: =#REF! -> #REF! | ... N28: =#REF! -> #REF! | O28: ='Oversikt ST'!P66 -> #REF! | P28: =#REF! -> #REF! | Q28: =SUM(B28:P28) -> #REF! | R28: 32 | S28: =IF(R28>Q28,"LEDIG","OK") -> #REF! | T28: 32
A29: SUM | B29: =SUM(B19:B28) -> #REF! | C29: =SUM(C19:C28) -> #REF! | D29: =SUM(D19:D28) -> #REF! | E29: =SUM(E19:E28) -> #REF! | F29: =SUM(F19:F28) -> #REF! | G29: =SUM(G19:G28) -> #REF! | H29: =SUM(H19:H28) -> #REF! | I29: =SUM(I19:I28) -> #REF! | ... P29: =SUM(P19:P28) -> #REF! | Q29: =SUM(B29:P29) -> #REF!
B30: =B29/SUM($Q$19:$Q$26) -> #REF! | C30: =C29/SUM($Q$19:$Q$26) -> #REF! | D30: =D29/SUM($Q$19:$Q$26) -> #REF! | E30: =E29/SUM($Q$19:$Q$26) -> #REF! | F30: =F29/SUM($Q$19:$Q$26) -> #REF! | G30: =G29/SUM($Q$19:$Q$26) -> #REF! | H30: =H29/SUM($Q$19:$Q$26) -> #REF! | I30: =I29/SUM($Q$19:$Q$26) -> #REF! | ... P30: =P29/SUM($Q$19:$Q$26) -> #REF! | Q30: =SUM(B30:P30) -> #REF!
C31: =C29/(C29+H29+I29+J29+M29) -> #REF! | H31: =H29/(C29+H29+I29+J29+M29) -> #REF! | I31: =I29/(C29+H29+I29+J29+M29) -> #REF! | J31: =J29/(C29+H29+I29+J29+M29) -> #REF! | M31: =M29/(C29+H29+I29+J29+M29) -> #REF! | Q31: =SUM(B31:P31) -> #REF!
A35: Indre by øst
A36: Bentsebrua | B36: =Bentsebrua!#REF! -> #REF! | C36: =Bentsebrua!#REF! -> #REF! | D36: =Bentsebrua!#REF! -> #REF! | E36: =Bentsebrua!#REF! -> #REF! | F36: =Bentsebrua!#REF! -> #REF! | G36: =Bentsebrua!#REF! -> #REF! | H36: =Bentsebrua!#REF! -> #REF! | I36: =Bentsebrua!#REF! -> #REF! | ... N36: =Bentsebrua!#REF! -> #REF! | O36: ='Oversikt ST'!P36 -> #REF! | P36: =Bentsebrua!#REF! -> #REF! | Q36: =SUM(B36:P36) -> #REF! | R36: 32 | S36: =IF(R36<Q36,"FEIL",IF(R36>Q36,"LEDIG","OK")) -> #REF! | T36: 32
A37: Bjølsen match | B37: =#REF! -> #REF! | C37: =#REF! -> #REF! | D37: =#REF! -> #REF! | E37: =#REF! -> #REF! | F37: =#REF! -> #REF! | G37: =#REF! -> #REF! | H37: =#REF! -> #REF! | I37: =#REF! -> #REF! | ... N37: =#REF! -> #REF! | O37: ='Oversikt ST'!P21 -> #REF! | P37: =#REF! -> #REF! | Q37: =SUM(B37:P37) -> #REF! | R37: 32 | S37: =IF(R37>Q37,"LEDIG","OK") -> #REF! | T37: 26
A38: Dælenenga | B38: =Dælenenga!#REF! -> #REF! | C38: =Dælenenga!#REF! -> #REF! | D38: =Dælenenga!#REF! -> #REF! | E38: =Dælenenga!#REF! -> #REF! | F38: =Dælenenga!#REF! -> #REF! | G38: =Dælenenga!#REF! -> #REF! | H38: =Dælenenga!#REF! -> #REF! | I38: =Dælenenga!#REF! -> #REF! | ... N38: =Dælenenga!#REF! -> #REF! | O38: ='Oversikt ST'!P26 -> #REF! | P38: =Dælenenga!#REF! -> #REF! | Q38: =SUM(B38:P38) -> #REF! | R38: 32 | S38: =IF(R38<Q38,"FEIL",IF(R38>Q38,"LEDIG","OK")) -> #REF! | T38: 32
A39: F21 | B39: =#REF! -> #REF! | C39: =#REF! -> #REF! | D39: =#REF! -> #REF! | E39: =#REF! -> #REF! | F39: =#REF! -> #REF! | G39: =#REF! -> #REF! | H39: =#REF! -> #REF! | I39: =#REF! -> #REF! | ... N39: =#REF! -> #REF! | O39: ='Oversikt ST'!P31 -> #REF! | P39: =#REF! -> #REF! | Q39: =SUM(B39:P39) -> #REF! | R39: 32 | S39: =IF(R39>Q39,"LEDIG","OK") -> #REF! | T39: 32
A40: Frydenberg (24 x 16) | B40: =#REF! -> #REF! | C40: =#REF! -> #REF! | D40: =#REF! -> #REF! | E40: =#REF! -> #REF! | F40: =#REF! -> #REF! | G40: =#REF! -> #REF! | H40: =#REF! -> #REF! | I40: =#REF! -> #REF! | ... N40: =#REF! -> #REF! | O40: ='Oversikt ST'!P7 -> #REF! | P40: =#REF! -> #REF! | Q40: =SUM(B40:P40) -> #REF! | R40: =IF(Q40>16,Q40,16) -> #REF! | S40: =IF(R40>Q40,"LEDIG","OK") -> #REF! | T40: =SUM(B40:P40)*2 -> #REF! | V40: =Q40-R40 -> #REF!
A41: Jordal | B41: =#REF! -> #REF! | C41: =#REF! -> #REF! | D41: =#REF! -> #REF! | E41: =#REF! -> #REF! | F41: =#REF! -> #REF! | G41: =#REF! -> #REF! | H41: =#REF! -> #REF! | I41: =#REF! -> #REF! | ... N41: =#REF! -> #REF! | O41: ='Oversikt ST'!P39 -> #REF! | P41: =#REF! -> #REF! | Q41: =SUM(B41:P41) -> #REF! | R41: 32 | S41: =IF(R41>Q41,"LEDIG","OK") -> #REF! | T41: 32
A42: Teglverket | B42: =#REF! -> #REF! | C42: =#REF! -> #REF! | D42: =#REF! -> #REF! | E42: =#REF! -> #REF! | F42: =#REF! -> #REF! | G42: =#REF! -> #REF! | H42: =#REF! -> #REF! | I42: =#REF! -> #REF! | ... N42: =#REF! -> #REF! | O42: ='Oversikt ST'!P59 -> #REF! | P42: =#REF! -> #REF! | Q42: =SUM(B42:P42) -> #REF! | R42: 32 | S42: =IF(R42>Q42,"LEDIG","OK") -> #REF! | T42: 32
A43: Tøyenbadet idr.hall | B43: =#REF! -> #REF! | C43: =#REF! -> #REF! | D43: =#REF! -> #REF! | E43: =#REF! -> #REF! | F43: =#REF! -> #REF! | G43: =#REF! -> #REF! | H43: =#REF! -> #REF! | I43: =#REF! -> #REF! | ... N43: =#REF! -> #REF! | P43: =#REF! -> #REF! | Q43: =SUM(B43:P43) -> #REF! | R43: 25 | S43: =IF(R43<Q43,"FEIL",IF(R43>Q43,"LEDIG","OK")) -> #REF! | T43: 25
A44: Vahl | B44: =#REF! -> #REF! | C44: =#REF! -> #REF! | D44: =#REF! -> #REF! | E44: =#REF! -> #REF! | F44: =#REF! -> #REF! | G44: =#REF! -> #REF! | H44: =#REF! -> #REF! | I44: =#REF! -> #REF! | ... N44: =#REF! -> #REF! | O44: ='Oversikt ST'!P64 -> #REF! | P44: =#REF! -> #REF! | Q44: =SUM(B44:P44) -> #REF! | R44: 32 | S44: =IF(R44>Q44,"LEDIG","OK") -> #REF! | T44: 32
A45: Valle (32 x 20) | B45: =#REF! -> #REF! | C45: =#REF! -> #REF! | D45: =#REF! -> #REF! | E45: =#REF! -> #REF! | F45: =#REF! -> #REF! | G45: =#REF! -> #REF! | H45: =#REF! -> #REF! | I45: =#REF! -> #REF! | ... N45: =#REF! -> #REF! | O45: ='Oversikt ST'!P14 -> #REF! | P45: =#REF! -> #REF! | Q45: =SUM(B45:P45) -> #REF! | R45: =IF(Q45>10,Q45,10) -> #REF! | S45: =IF(R45>Q45,"LEDIG","OK") -> #REF! | T45: =(SUM(B45,D45:P45)*2)+C45 -> #REF! | V45: =Q45-R45 -> #REF!
A46: Vulkan (32 x 20) | B46: =#REF! -> #REF! | C46: =#REF! -> #REF! | D46: =#REF! -> #REF! | E46: =#REF! -> #REF! | F46: =#REF! -> #REF! | G46: =#REF! -> #REF! | H46: =#REF! -> #REF! | I46: =#REF! -> #REF! | ... N46: =#REF! -> #REF! | O46: ='Oversikt ST'!P15 -> #REF! | P46: =#REF! -> #REF! | Q46: =SUM(B46:P46) -> #REF! | R46: =IF(Q46>16,Q46,16) -> #REF! | S46: =IF(R46>Q46,"LEDIG","OK") -> #REF! | T46: =(SUM(B46,D46:P46)*2)+C46 -> #REF! | V46: =Q46-R46 -> #REF!
A47: SUM | B47: =SUM(B36:B46) -> #REF! | C47: =SUM(C36:C46) -> #REF! | D47: =SUM(D36:D46) -> #REF! | E47: =SUM(E36:E46) -> #REF! | F47: =SUM(F36:F46) -> #REF! | G47: =SUM(G36:G46) -> #REF! | H47: =SUM(H36:H46) -> #REF! | I47: =SUM(I36:I46) -> #REF! | ... P47: =SUM(P36:P46) -> #REF! | Q47: =SUM(B47:P47) -> #REF!
B48: =B47/SUM($Q$37:$Q$46) -> #REF! | C48: =C47/SUM($Q$37:$Q$46) -> #REF! | D48: =D47/SUM($Q$37:$Q$46) -> #REF! | E48: =E47/SUM($Q$37:$Q$46) -> #REF! | F48: =F47/SUM($Q$37:$Q$46) -> #REF! | G48: =G47/SUM($Q$37:$Q$46) -> #REF! | H48: =H47/SUM($Q$37:$Q$46) -> #REF! | I48: =I47/SUM($Q$37:$Q$46) -> #REF! | ... P48: =P47/SUM($Q$37:$Q$46) -> #REF! | Q48: =SUM(B48:P48) -> #REF!
C49: =C47/(C47+H47+I47+J47+M47) -> #REF! | H49: =H47/(C47+H47+I47+J47+M47) -> #REF! | I49: =I47/(C47+H47+I47+J47+M47) -> #REF! | J49: =J47/(C47+H47+I47+J47+M47) -> #REF! | M49: =M47/(C47+H47+I47+J47+M47) -> #REF! | Q49: =SUM(B49:P49) -> #REF!
A53: Nordstrand/Søndre Nordstrand
A54: Bjørnholt 1 | B54: =#REF! -> #REF! | C54: =#REF! -> #REF! | D54: =#REF! -> #REF! | E54: =#REF! -> #REF! | F54: =#REF! -> #REF! | G54: =#REF! -> #REF! | H54: =#REF! -> #REF! | I54: =#REF! -> #REF! | ... N54: =#REF! -> #REF! | O54: ='Oversikt ST'!P22 -> #REF! | P54: =#REF! -> #REF! | Q54: =SUM(B54:P54) -> #REF! | R54: 31 | S54: =IF(R54>Q54,"LEDIG","OK") -> #REF! | T54: 31
A55: Bjørnholt 2 | B55: =#REF! -> #REF! | C55: =#REF! -> #REF! | D55: =#REF! -> #REF! | E55: =#REF! -> #REF! | F55: =#REF! -> #REF! | G55: =#REF! -> #REF! | H55: =#REF! -> #REF! | I55: =#REF! -> #REF! | ... N55: =#REF! -> #REF! | O55: ='Oversikt ST'!P23 -> #REF! | P55: =#REF! -> #REF! | Q55: =SUM(B55:P55) -> #REF! | R55: 31 | S55: =IF(R55>Q55,"LEDIG","OK") -> #REF! | T55: 31
A56: Bjørnholt 3 | B56: =#REF! -> #REF! | C56: =#REF! -> #REF! | D56: =#REF! -> #REF! | E56: =#REF! -> #REF! | F56: =#REF! -> #REF! | G56: =#REF! -> #REF! | H56: =#REF! -> #REF! | I56: =#REF! -> #REF! | ... N56: =#REF! -> #REF! | O56: ='Oversikt ST'!P24 -> #REF! | P56: =#REF! -> #REF! | Q56: =SUM(B56:P56) -> #REF! | R56: 31 | S56: =IF(R56>Q56,"LEDIG","OK") -> #REF! | T56: 31
A57: BSK hallen | B57: 0 | C57: 0 | D57: 0 | E57: 0 | F57: 0 | G57: 0 | H57: 0 | I57: 32 | J57: 0 | K57: 0 | L57: 0 | M57: 0 | N57: 0 | O57: 0 | P57: 0 | Q57: =SUM(B57:P57) -> 32
A58: Ekeberg skole | B58: =#REF! -> #REF! | C58: =#REF! -> #REF! | D58: =#REF! -> #REF! | E58: =#REF! -> #REF! | F58: =#REF! -> #REF! | G58: =#REF! -> #REF! | H58: =#REF! -> #REF! | I58: =#REF! -> #REF! | ... N58: =#REF! -> #REF! | O58: ='Oversikt ST'!P27 -> #REF! | P58: =#REF! -> #REF! | Q58: =SUM(B58:P58) -> #REF! | R58: 32 | S58: =IF(R58>Q58,"LEDIG","OK") -> #REF! | T58: 32
A59: Holmlia | B59: =#REF! -> #REF! | C59: =#REF! -> #REF! | D59: =#REF! -> #REF! | E59: =#REF! -> #REF! | F59: =#REF! -> #REF! | G59: =#REF! -> #REF! | H59: =#REF! -> #REF! | I59: =#REF! -> #REF! | ... N59: =#REF! -> #REF! | O59: ='Oversikt ST'!P36 -> #REF! | P59: =#REF! -> #REF! | Q59: =SUM(B59:P59) -> #REF! | R59: 32 | S59: =IF(R59>Q59,"LEDIG","OK") -> #REF! | T59: 32
A60: Høyenhall | B60: =Høyenhall!#REF! -> #REF! | C60: =Høyenhall!#REF! -> #REF! | D60: =Høyenhall!#REF! -> #REF! | E60: =Høyenhall!#REF! -> #REF! | F60: =Høyenhall!#REF! -> #REF! | G60: =Høyenhall!#REF! -> #REF! | H60: =Høyenhall!#REF! -> #REF! | I60: =Høyenhall!#REF! -> #REF! | ... N60: =Høyenhall!#REF! -> #REF! | O60: ='Oversikt ST'!P38 -> #REF! | P60: =Høyenhall!#REF! -> #REF! | Q60: =SUM(B60:P60) -> #REF! | R60: 32 | S60: =IF(R60>Q60,"LEDIG","OK") -> #REF! | T60: 32
A61: Kastellet (24 x 16) | B61: =#REF! -> #REF! | C61: =#REF! -> #REF! | D61: =#REF! -> #REF! | E61: =#REF! -> #REF! | F61: =#REF! -> #REF! | G61: =#REF! -> #REF! | H61: =#REF! -> #REF! | I61: =#REF! -> #REF! | ... N61: =#REF! -> #REF! | O61: ='Oversikt ST'!P8 -> #REF! | P61: =#REF! -> #REF! | Q61: =SUM(B61:P61) -> #REF! | R61: =IF(Q61>10,Q61,10) -> #REF! | S61: =IF(R61>Q61,"LEDIG","OK") -> #REF! | T61: =SUM(B61:P61)/(1-0.175) -> #REF! | V61: =Q61-R61 -> #REF!
A62: Klemetsrud liten | B62: =#REF! -> #REF! | C62: =#REF! -> #REF! | D62: =#REF! -> #REF! | E62: =#REF! -> #REF! | F62: =#REF! -> #REF! | G62: =#REF! -> #REF! | H62: =#REF! -> #REF! | I62: =#REF! -> #REF! | ... N62: =#REF! -> #REF! | O62: ='Oversikt ST'!P9 -> #REF! | P62: =#REF! -> #REF! | Q62: =SUM(B62:P62) -> #REF! | R62: 12.5 | S62: =IF(R62>Q62,"LEDIG","OK") -> #REF! | T62: =(SUM(B62,D62:P62)*2)+C62 -> #REF! | V62: =Q62-R62 -> #REF!
A63: Klemetsrud stor | B63: =#REF! -> #REF! | C63: =#REF! -> #REF! | D63: =#REF! -> #REF! | E63: =#REF! -> #REF! | F63: =#REF! -> #REF! | G63: =#REF! -> #REF! | H63: =#REF! -> #REF! | I63: =#REF! -> #REF! | ... N63: =#REF! -> #REF! | O63: ='Oversikt ST'!P41 -> #REF! | P63: =#REF! -> #REF! | Q63: =SUM(B63:P63) -> #REF! | R63: 32 | S63: =IF(R63>Q63,"LEDIG","OK") -> #REF! | T63: 32
A64: Lambertseter | B64: =#REF! -> #REF! | C64: =#REF! -> #REF! | D64: =#REF! -> #REF! | E64: =#REF! -> #REF! | F64: =#REF! -> #REF! | G64: =#REF! -> #REF! | H64: =#REF! -> #REF! | I64: =#REF! -> #REF! | ... N64: =#REF! -> #REF! | O64: ='Oversikt ST'!P44 -> #REF! | P64: =#REF! -> #REF! | Q64: =SUM(B64:P64) -> #REF! | R64: 32 | S64: =IF(R64>Q64,"LEDIG","OK") -> #REF! | T64: 32
A65: Leirskallen turn | B65: =Leirskallen!#REF! -> #REF! | C65: =Leirskallen!#REF! -> #REF! | D65: =Leirskallen!#REF! -> #REF! | E65: =Leirskallen!#REF! -> #REF! | F65: =Leirskallen!#REF! -> #REF! | G65: =Leirskallen!#REF! -> #REF! | H65: =Leirskallen!#REF! -> #REF! | I65: =Leirskallen!#REF! -> #REF! | ... N65: =Leirskallen!#REF! -> #REF! | O65: ='Oversikt ST'!P45 -> #REF! | P65: =Leirskallen!#REF! -> #REF! | Q65: =SUM(B65:P65) -> #REF! | R65: 32 | S65: =IF(R65>Q65,"LEDIG","OK") -> #REF! | T65: 32
A66: Nordstrandshallen | B66: 0 | C66: 0 | D66: 0 | E66: 0 | F66: 0 | G66: 0 | H66: 0 | I66: 64 | J66: 0 | K66: 0 | L66: 0 | M66: 0 | N66: 0 | O66: 0 | P66: 0 | Q66: =SUM(B66:P66) -> 64
A67: SUM | B67: =SUM(B54:B66)-B57-B66 -> #REF! | C67: =SUM(C54:C66)-C57-C66 -> #REF! | D67: =SUM(D54:D66)-D57-D66 -> #REF! | E67: =SUM(E54:E66)-E57-E66 -> #REF! | F67: =SUM(F54:F66)-F57-F66 -> #REF! | G67: =SUM(G54:G66)-G57-G66 -> #REF! | H67: =SUM(H54:H66)-H57-H66 -> #REF! | I67: =SUM(I54:I66)-I57-I66 -> #REF! | ... P67: =SUM(P54:P66)-P57-P66 -> #REF! | Q67: =SUM(B67:P67) -> #REF!
B68: =B67/SUM($Q$54:$Q$66) -> #REF! | C68: =C67/SUM($Q$54:$Q$66) -> #REF! | D68: =D67/SUM($Q$54:$Q$66) -> #REF! | E68: =E67/SUM($Q$54:$Q$66) -> #REF! | F68: =F67/SUM($Q$54:$Q$66) -> #REF! | G68: =G67/SUM($Q$54:$Q$66) -> #REF! | H68: =H67/SUM($Q$54:$Q$66) -> #REF! | I68: =I67/SUM($Q$54:$Q$66) -> #REF! | ... P68: =P67/SUM($Q$54:$Q$66) -> #REF! | Q68: =SUM(B68:P68) -> #REF!
C69: =(C67+C57+C66)/($C$67+$C$57+$C$66+$H$67+$H$57+$H$66+$I$67+$I$57+$I$66+$J$67+$J$57+$J$66+$M$67+$M$57+$M$66) -> #REF! | H69: =(H67+H57+H66)/($C$67+$C$57+$C$66+$H$67+$H$57+$H$66+$I$67+$I$57+$I$66+$J$67+$J$57+$J$66+$M$67+$M$57+$M$66) -> #REF! | I69: =(I67+I57+I66)/($C$67+$C$57+$C$66+$H$67+$H$57+$H$66+$I$67+$I$57+$I$66+$J$67+$J$57+$J$66+$M$67+$M$57+$M$66) -> #REF! | J69: =(J67+J57+J66)/($C$67+$C$57+$C$66+$H$67+$H$57+$H$66+$I$67+$I$57+$I$66+$J$67+$J$57+$J$66+$M$67+$M$57+$M$66) -> #REF! | M69: =(M67+M57+M66)/($C$67+$C$57+$C$66+$H$67+$H$57+$H$66+$I$67+$I$57+$I$66+$J$67+$J$57+$J$66+$M$67+$M$57+$M$66) -> #REF! | Q69: =SUM(B69:P69) -> #REF!
A73: Nordvest
A74: Engebråten | B74: =#REF! -> #REF! | C74: =#REF! -> #REF! | D74: =#REF! -> #REF! | E74: =#REF! -> #REF! | F74: =#REF! -> #REF! | G74: =#REF! -> #REF! | H74: =#REF! -> #REF! | I74: =#REF! -> #REF! | ... N74: =#REF! -> #REF! | O74: ='Oversikt ST'!P29 -> #REF! | P74: =#REF! -> #REF! | Q74: =SUM(B74:P74) -> #REF! | R74: 32 | S74: =IF(R74>Q74,"LEDIG","OK") -> #REF! | T74: 32
A75: Grefsen | B75: =Grefsen!#REF! -> #REF! | C75: =Grefsen!#REF! -> #REF! | D75: =Grefsen!#REF! -> #REF! | E75: =Grefsen!#REF! -> #REF! | F75: =Grefsen!#REF! -> #REF! | G75: =Grefsen!#REF! -> #REF! | H75: =Grefsen!#REF! -> #REF! | I75: =Grefsen!#REF! -> #REF! | ... N75: =Grefsen!#REF! -> #REF! | O75: ='Oversikt ST'!P32 -> #REF! | P75: =Grefsen!#REF! -> #REF! | Q75: =SUM(B75:P75) -> #REF! | R75: 32 | S75: =IF(R75>Q75,"LEDIG","OK") -> #REF! | T75: 32
A76: Kjelsås | B76: =#REF! -> #REF! | C76: =#REF! -> #REF! | D76: =#REF! -> #REF! | E76: =#REF! -> #REF! | F76: =#REF! -> #REF! | G76: =#REF! -> #REF! | H76: =#REF! -> #REF! | I76: =#REF! -> #REF! | ... N76: =#REF! -> #REF! | O76: ='Oversikt ST'!P40 -> #REF! | P76: =#REF! -> #REF! | Q76: =SUM(B76:P76) -> #REF! | R76: 32 | S76: =IF(R76>Q76,"LEDIG","OK") -> #REF! | T76: 32
A77: Korsvoll | B77: =#REF! -> #REF! | C77: =#REF! -> #REF! | D77: =#REF! -> #REF! | E77: =#REF! -> #REF! | F77: =#REF! -> #REF! | G77: =#REF! -> #REF! | H77: =#REF! -> #REF! | I77: =#REF! -> #REF! | ... N77: =#REF! -> #REF! | O77: ='Oversikt ST'!P42 -> #REF! | P77: =#REF! -> #REF! | Q77: =SUM(B77:P77) -> #REF! | R77: 32 | S77: =IF(R77>Q77,"LEDIG","OK") -> #REF! | T77: 32
A78: Kringsjå | B78: =#REF! -> #REF! | C78: =#REF! -> #REF! | D78: =#REF! -> #REF! | E78: =#REF! -> #REF! | F78: =#REF! -> #REF! | G78: =#REF! -> #REF! | H78: =#REF! -> #REF! | I78: =#REF! -> #REF! | ... N78: =#REF! -> #REF! | O78: ='Oversikt ST'!P43 -> #REF! | P78: =#REF! -> #REF! | Q78: =SUM(B78:P78) -> #REF! | R78: 32 | S78: =IF(R78>Q78,"LEDIG","OK") -> #REF! | T78: 32
A79: Nydalen | B79: =#REF! -> #REF! | C79: =#REF! -> #REF! | D79: =#REF! -> #REF! | E79: =#REF! -> #REF! | F79: =#REF! -> #REF! | G79: =#REF! -> #REF! | H79: =#REF! -> #REF! | I79: =#REF! -> #REF! | ... N79: =#REF! -> #REF! | O79: ='Oversikt ST'!P49 -> #REF! | P79: =#REF! -> #REF! | Q79: =SUM(B79:P79) -> #REF! | R79: 27 | S79: =IF(R79>Q79,"LEDIG","OK") -> #REF! | T79: 32
A80: Tåsen (24 x 16) | B80: =#REF! -> #REF! | C80: =#REF! -> #REF! | D80: =#REF! -> #REF! | E80: =#REF! -> #REF! | F80: =#REF! -> #REF! | G80: =#REF! -> #REF! | H80: =#REF! -> #REF! | I80: =#REF! -> #REF! | ... N80: =#REF! -> #REF! | O80: ='Oversikt ST'!P12 -> #REF! | P80: =#REF! -> #REF! | Q80: =SUM(B80:P80) -> #REF! | R80: =IF(Q80>9,Q80,9) -> #REF! | S80: =IF(R80>Q80,"LEDIG","OK") -> #REF! | T80: =SUM(B80:P80)/(0.175*2) -> #REF! | V80: =Q80-R80 -> #REF!
A81: SUM | B81: =SUM(B74:B80) -> #REF! | C81: =SUM(C74:C80) -> #REF! | D81: =SUM(D74:D80) -> #REF! | E81: =SUM(E74:E80) -> #REF! | F81: =SUM(F74:F80) -> #REF! | G81: =SUM(G74:G80) -> #REF! | H81: =SUM(H74:H80) -> #REF! | I81: =SUM(I74:I80) -> #REF! | ... P81: =SUM(P74:P80) -> #REF! | Q81: =SUM(B81:P81) -> #REF!
B82: =B81/SUM($Q$74:$Q$80) -> #REF! | C82: =C81/SUM($Q$74:$Q$80) -> #REF! | D82: =D81/SUM($Q$74:$Q$80) -> #REF! | E82: =E81/SUM($Q$74:$Q$80) -> #REF! | F82: =F81/SUM($Q$74:$Q$80) -> #REF! | G82: =G81/SUM($Q$74:$Q$80) -> #REF! | H82: =H81/SUM($Q$74:$Q$80) -> #REF! | I82: =I81/SUM($Q$74:$Q$80) -> #REF! | ... P82: =P81/SUM($Q$74:$Q$80) -> #REF! | Q82: =SUM(B82:P82) -> #REF!
C83: =C81/(C81+H81+I81+J81+M81) -> #REF! | H83: =H81/(C81+H81+I81+J81+M81) -> #REF! | I83: =I81/(C81+H81+I81+J81+M81) -> #REF! | J83: =J81/(C81+H81+I81+J81+M81) -> #REF! | M83: =M81/(C81+H81+I81+J81+M81) -> #REF! | Q83: =SUM(B83:P83) -> #REF!
A87: Vest
A88: Bestum (24 x 16) | B88: =#REF! -> #REF! | C88: =#REF! -> #REF! | D88: =#REF! -> #REF! | E88: =#REF! -> #REF! | F88: =#REF! -> #REF! | G88: =#REF! -> #REF! | H88: =#REF! -> #REF! | I88: =#REF! -> #REF! | ... N88: =#REF! -> #REF! | O88: ='Oversikt ST'!P5 -> #REF! | P88: =#REF! -> #REF! | Q88: =SUM(B88:P88) -> #REF! | R88: =IF(Q88>16,Q88,16) -> #REF! | S88: =IF(R88>Q88,"LEDIG","OK") -> #REF! | T88: =SUM(B88:P88)*2 -> #REF! | V88: =Q88-R88 -> #REF!
A89: Hovseter | B89: =#REF! -> #REF! | C89: =#REF! -> #REF! | D89: =#REF! -> #REF! | E89: =#REF! -> #REF! | F89: =#REF! -> #REF! | G89: =#REF! -> #REF! | H89: =#REF! -> #REF! | I89: =#REF! -> #REF! | ... N89: =#REF! -> #REF! | O89: ='Oversikt ST'!P37 -> #REF! | P89: =#REF! -> #REF! | Q89: =SUM(B89:P89) -> #REF! | R89: 32 | S89: =IF(R89>Q89,"LEDIG","OK") -> #REF! | T89: 32
A90: Majorstuen (32 x 20) | B90: =#REF! -> #REF! | C90: =#REF! -> #REF! | D90: =#REF! -> #REF! | E90: =#REF! -> #REF! | F90: =#REF! -> #REF! | G90: =#REF! -> #REF! | H90: =#REF! -> #REF! | I90: =#REF! -> #REF! | ... N90: =#REF! -> #REF! | O90: ='Oversikt ST'!P10 -> #REF! | P90: =#REF! -> #REF! | Q90: =SUM(B90:P90) -> #REF! | R90: =IF(Q90>16,Q90,16) -> #REF! | S90: =IF(R90>Q90,"LEDIG","OK") -> #REF!
A91: Marienlyst (32 x 20) | B91: =#REF! -> #REF! | C91: =#REF! -> #REF! | D91: =#REF! -> #REF! | E91: =#REF! -> #REF! | F91: =#REF! -> #REF! | G91: =#REF! -> #REF! | H91: =#REF! -> #REF! | I91: =#REF! -> #REF! | ... N91: =#REF! -> #REF! | O91: ='Oversikt ST'!P11 -> #REF! | P91: =#REF! -> #REF! | Q91: =SUM(B91:P91) -> #REF! | R91: =IF(Q91>16,Q91,16) -> #REF! | S91: =IF(R91>Q91,"LEDIG","OK") -> #REF! | T91: =(SUM(B91,D91:P91)*2)+C91 -> #REF! | V91: =Q91-R91 -> #REF!
A92: Njårdhallen | B92: 0 | C92: 0 | D92: 0 | E92: 0 | F92: 0 | G92: 0 | H92: 0 | I92: 32 | J92: 0 | K92: 0 | L92: 0 | M92: 0 | N92: 0 | O92: 0 | P92: 0 | Q92: 32
A93: Persbråten | B93: =#REF! -> #REF! | C93: =#REF! -> #REF! | D93: =#REF! -> #REF! | E93: =#REF! -> #REF! | F93: =#REF! -> #REF! | G93: =#REF! -> #REF! | H93: =#REF! -> #REF! | I93: =#REF! -> #REF! | ... N93: =#REF! -> #REF! | O93: ='Oversikt ST'!P54 -> #REF! | P93: =#REF! -> #REF! | Q93: =SUM(B93:P93) -> #REF! | R93: 32 | S93: =IF(R93>Q93,"LEDIG","OK") -> #REF! | T93: 32
A94: Skøyen | B94: =#REF! -> #REF! | C94: =#REF! -> #REF! | D94: =#REF! -> #REF! | E94: =#REF! -> #REF! | F94: =#REF! -> #REF! | G94: =#REF! -> #REF! | H94: =#REF! -> #REF! | I94: =#REF! -> #REF! | ... N94: =#REF! -> #REF! | O94: ='Oversikt ST'!P57 -> #REF! | P94: =#REF! -> #REF! | Q94: =SUM(B94:P94) -> #REF! | R94: 32 | S94: =IF(R94>Q94,"LEDIG","OK") -> #REF! | T94: 32
A95: Ullern idrettspark | B95: =#REF! -> #REF! | C95: =#REF! -> #REF! | D95: =#REF! -> #REF! | E95: =#REF! -> #REF! | F95: =#REF! -> #REF! | G95: =#REF! -> #REF! | H95: =#REF! -> #REF! | I95: =#REF! -> #REF! | ... N95: =#REF! -> #REF! | O95: ='Oversikt ST'!P62 -> #REF! | P95: =#REF! -> #REF! | Q95: =SUM(B95:P95) -> #REF! | R95: 32 | S95: =IF(R95>Q95,"LEDIG","OK") -> #REF! | T95: 32
A96: Ullern vgs | B96: =#REF! -> #REF! | C96: =#REF! -> #REF! | D96: =#REF! -> #REF! | E96: =#REF! -> #REF! | F96: =#REF! -> #REF! | G96: =#REF! -> #REF! | H96: =#REF! -> #REF! | I96: =#REF! -> #REF! | ... N96: =#REF! -> #REF! | O96: ='Oversikt ST'!P63 -> #REF! | P96: =#REF! -> #REF! | Q96: =SUM(B96:P96) -> #REF! | R96: 22 | S96: =IF(R96>Q96,"LEDIG","OK") -> #REF! | T96: 25
A97: Uranienborg (32 x 20) | B97: =Uranienborg!#REF! -> #REF! | C97: =Uranienborg!#REF! -> #REF! | D97: =Uranienborg!#REF! -> #REF! | E97: =Uranienborg!#REF! -> #REF! | F97: =Uranienborg!#REF! -> #REF! | G97: =Uranienborg!#REF! -> #REF! | H97: =Uranienborg!#REF! -> #REF! | I97: =Uranienborg!#REF! -> #REF! | ... N97: =Uranienborg!#REF! -> #REF! | O97: ='Oversikt ST'!P13 -> #REF! | P97: =Uranienborg!#REF! -> #REF! | Q97: =SUM(B97:P97) -> #REF! | R97: =IF(Q97>16,Q97,16) -> #REF! | S97: =IF(R97>Q97,"LEDIG","OK") -> #REF! | T97: =(SUM(B97,D97:P97)*2)+C97 -> #REF! | V97: =Q97-R97 -> #REF!
A98: Voksen | B98: =#REF! -> #REF! | C98: =#REF! -> #REF! | D98: =#REF! -> #REF! | E98: =#REF! -> #REF! | F98: =#REF! -> #REF! | G98: =#REF! -> #REF! | H98: =#REF! -> #REF! | I98: =#REF! -> #REF! | ... N98: =#REF! -> #REF! | O98: ='Oversikt ST'!P67 -> #REF! | P98: =#REF! -> #REF! | Q98: =SUM(B98:P98) -> #REF! | R98: 32 | S98: =IF(R98>Q98,"LEDIG","OK") -> #REF! | T98: 32
A99: Øraker | B99: =#REF! -> #REF! | C99: =#REF! -> #REF! | D99: =#REF! -> #REF! | E99: =#REF! -> #REF! | F99: =#REF! -> #REF! | G99: =#REF! -> #REF! | H99: =#REF! -> #REF! | I99: =#REF! -> #REF! | ... N99: =#REF! -> #REF! | O99: ='Oversikt ST'!P68 -> #REF! | P99: =#REF! -> #REF! | Q99: =SUM(B99:P99) -> #REF! | R99: 32 | S99: =IF(R99>Q99,"LEDIG","OK") -> #REF! | T99: 32
A100: SUM | B100: =SUM(B87:B99)-B92 -> #REF! | C100: =SUM(C87:C99)-C92 -> #REF! | D100: =SUM(D87:D99)-D92 -> #REF! | E100: =SUM(E87:E99)-E92 -> #REF! | F100: =SUM(F87:F99)-F92 -> #REF! | G100: =SUM(G87:G99)-G92 -> #REF! | H100: =SUM(H87:H99)-H92 -> #REF! | I100: =SUM(I87:I99)-I92 -> #REF! | ... P100: =SUM(P87:P99)-P92 -> #REF! | Q100: =SUM(B100:P100) -> #REF!
B101: =B100/SUM($Q$88:$Q$99) -> #REF! | C101: =C100/SUM($Q$88:$Q$99) -> #REF! | D101: =D100/SUM($Q$88:$Q$99) -> #REF! | E101: =E100/SUM($Q$88:$Q$99) -> #REF! | F101: =F100/SUM($Q$88:$Q$99) -> #REF! | G101: =G100/SUM($Q$88:$Q$99) -> #REF! | H101: =H100/SUM($Q$88:$Q$99) -> #REF! | I101: =I100/SUM($Q$88:$Q$99) -> #REF! | ... P101: =P100/SUM($Q$88:$Q$99) -> #REF! | Q101: =SUM(B101:P101) -> #REF!
C102: =(C100+C92)/($C$100+$C$92+$H$100+$H$92+$I$100+$I$92+$J$100+$J$92+$M$100+$M$92) -> #REF! | H102: =(H100+H92)/($C$100+$C$92+$H$100+$H$92+$I$100+$I$92+$J$100+$J$92+$M$100+$M$92) -> #REF! | I102: =(I100+I92)/($C$100+$C$92+$H$100+$H$92+$I$100+$I$92+$J$100+$J$92+$M$100+$M$92) -> #REF! | J102: =(J100+J92)/($C$100+$C$92+$H$100+$H$92+$I$100+$I$92+$J$100+$J$92+$M$100+$M$92) -> #REF! | M102: =(M100+M92)/($C$100+$C$92+$H$100+$H$92+$I$100+$I$92+$J$100+$J$92+$M$100+$M$92) -> #REF! | Q102: =SUM(B102:P102) -> #REF!
A106: Østensjø/Alna
A107: Brynseng (32 x 20) | B107: =#REF! -> #REF! | C107: =#REF! -> #REF! | D107: =#REF! -> #REF! | E107: =#REF! -> #REF! | F107: =#REF! -> #REF! | G107: =#REF! -> #REF! | H107: =#REF! -> #REF! | I107: =#REF! -> #REF! | ... N107: =#REF! -> #REF! | O107: ='Oversikt ST'!P6 -> #REF! | P107: =#REF! -> #REF! | Q107: =SUM(B107:P107) -> #REF! | R107: =IF(Q107>16,Q107,16) -> #REF! | S107: =IF(R107>Q107,"LEDIG","OK") -> #REF! | T107: =(SUM(B107,D107:P107)*2)+C107 -> #REF! | V107: =Q107-R107 -> #REF!
A108: Bøler | B108: =#REF! -> #REF! | C108: =#REF! -> #REF! | D108: =#REF! -> #REF! | E108: =#REF! -> #REF! | F108: =#REF! -> #REF! | G108: =#REF! -> #REF! | H108: =#REF! -> #REF! | I108: =#REF! -> #REF! | ... N108: =#REF! -> #REF! | O108: ='Oversikt ST'!P25 -> #REF! | P108: =#REF! -> #REF! | Q108: =SUM(B108:P108) -> #REF! | R108: 32 | S108: =IF(R108>Q108,"LEDIG","OK") -> #REF! | T108: 32
A109: Haugerud | B109: =#REF! -> #REF! | C109: =#REF! -> #REF! | D109: =#REF! -> #REF! | E109: =#REF! -> #REF! | F109: =#REF! -> #REF! | G109: =#REF! -> #REF! | H109: =#REF! -> #REF! | I109: =#REF! -> #REF! | ... N109: =#REF! -> #REF! | O109: ='Oversikt ST'!P35 -> #REF! | P109: =#REF! -> #REF! | Q109: =SUM(B109:P109) -> #REF! | R109: 32 | S109: =IF(R109>Q109,"LEDIG","OK") -> #REF! | T109: 32
A110: Oppsal 1 | B110: =#REF! -> #REF! | C110: =#REF! -> #REF! | D110: =#REF! -> #REF! | E110: =#REF! -> #REF! | F110: =#REF! -> #REF! | G110: =#REF! -> #REF! | H110: =#REF! -> #REF! | I110: =#REF! -> #REF! | ... N110: =#REF! -> #REF! | O110: ='Oversikt ST'!P50 -> #REF! | P110: =#REF! -> #REF! | Q110: =SUM(B110:P110) -> #REF! | R110: 32 | S110: =IF(R110>Q110,"LEDIG","OK") -> #REF! | T110: 32
A111: Oppsal 2 | B111: =#REF! -> #REF! | C111: =#REF! -> #REF! | D111: =#REF! -> #REF! | E111: =#REF! -> #REF! | F111: =#REF! -> #REF! | G111: =#REF! -> #REF! | H111: =#REF! -> #REF! | I111: =#REF! -> #REF! | ... N111: =#REF! -> #REF! | O111: ='Oversikt ST'!P51 -> #REF! | P111: =#REF! -> #REF! | Q111: =SUM(B111:P111) -> #REF! | R111: 32 | S111: =IF(R111>Q111,"LEDIG","OK") -> #REF! | T111: 32
A112: Oppsal 3 | B112: ='Oppsal 3'!#REF! -> #REF! | C112: ='Oppsal 3'!#REF! -> #REF! | D112: ='Oppsal 3'!#REF! -> #REF! | E112: ='Oppsal 3'!#REF! -> #REF! | F112: ='Oppsal 3'!#REF! -> #REF! | G112: ='Oppsal 3'!#REF! -> #REF! | H112: ='Oppsal 3'!#REF! -> #REF! | I112: ='Oppsal 3'!#REF! -> #REF! | ... N112: ='Oppsal 3'!#REF! -> #REF! | O112: ='Oversikt ST'!P52 -> #REF! | P112: ='Oppsal 3'!#REF! -> #REF! | Q112: =SUM(B112:P112) -> #REF! | R112: 32 | S112: =IF(R112>Q112,"LEDIG","OK") -> #REF! | T112: 32
A113: Oppsal 4 | B113: =#REF! -> #REF! | C113: =#REF! -> #REF! | D113: =#REF! -> #REF! | E113: =#REF! -> #REF! | F113: =#REF! -> #REF! | G113: =#REF! -> #REF! | H113: =#REF! -> #REF! | I113: =#REF! -> #REF! | ... N113: =#REF! -> #REF! | O113: ='Oversikt ST'!P53 -> #REF! | P113: =#REF! -> #REF! | Q113: =SUM(B113:P113) -> #REF! | R113: 32 | S113: =IF(R113>Q113,"LEDIG","OK") -> #REF! | T113: 32
A114: SUM | B114: =SUM(B107:B113) -> #REF! | C114: =SUM(C107:C113) -> #REF! | D114: =SUM(D107:D113) -> #REF! | E114: =SUM(E107:E113) -> #REF! | F114: =SUM(F107:F113) -> #REF! | G114: =SUM(G107:G113) -> #REF! | H114: =SUM(H107:H113) -> #REF! | I114: =SUM(I107:I113) -> #REF! | ... P114: =SUM(P107:P113) -> #REF! | Q114: =SUM(B114:P114) -> #REF!
B115: =B114/SUM($Q$107:$Q$113) -> #REF! | C115: =C114/SUM($Q$107:$Q$113) -> #REF! | D115: =D114/SUM($Q$107:$Q$113) -> #REF! | E115: =E114/SUM($Q$107:$Q$113) -> #REF! | F115: =F114/SUM($Q$107:$Q$113) -> #REF! | G115: =G114/SUM($Q$107:$Q$113) -> #REF! | H115: =H114/SUM($Q$107:$Q$113) -> #REF! | I115: =I114/SUM($Q$107:$Q$113) -> #REF! | ... P115: =P114/SUM($Q$107:$Q$113) -> #REF! | Q115: =SUM(B115:P115) -> #REF!
C116: =C114/(C114+H114+I114+J114+M114) -> #REF! | H116: =H114/(C114+H114+I114+J114+M114) -> #REF! | I116: =I114/(C114+H114+I114+J114+M114) -> #REF! | J116: =J114/(C114+H114+I114+J114+M114) -> #REF! | M116: =M114/(C114+H114+I114+J114+M114) -> #REF! | Q116: =SUM(B116:P116) -> #REF!
B121: Badminton | C121: Basket | D121: Cheerleading | E121: Dans | F121: Futsal | G121: Gym og turn | H121: Hockey | I121: Håndball | J121: Innebandy | K121: Roller Derby | L121: Ultimate Frisbee | M121: Volleyball | N121: Paraidrett | O121: Idrett - ST | P121: Spesielle tiltak | Q121: Totalt | R121: Normert | T121: Treningstimer
A122: =A53 -> Nordstrand/Søndre Nordstrand | B122: =B67 -> #REF! | C122: =C67 -> #REF! | D122: =D67 -> #REF! | E122: =E67 -> #REF! | F122: =F67 -> #REF! | G122: =G67 -> #REF! | H122: =H67 -> #REF! | I122: =I67 -> #REF! | ... Q122: =Q67 -> #REF!
...

Sheet Oversikt ST
A1: Idrett for alle | B1: Oversikt haller
B2: Badminton | C2: Basket | D2: Cheerleading | E2: Dans | F2: Futsal | G2: Gym og turn | H2: Hockey | I2: Håndball | J2: Innebandy | K2: Roller Derby | L2: Ultimate Frisbee | M2: Volleyball | N2: Paraidrett | O2: Spesielle tiltak | P2: Sum
A3: Små haller
A4: Ammerud (32 x 20) | B4: =#REF! -> #REF! | C4: =#REF! -> #REF! | D4: =#REF! -> #REF! | E4: =#REF! -> #REF! | F4: =#REF! -> #REF! | G4: =#REF! -> #REF! | H4: =#REF! -> #REF! | I4: =#REF! -> #REF! | ... N4: =#REF! -> #REF! | P4: =SUM(B4:O4) -> #REF!
A5: Bestum (24 x 16) | B5: =#REF! -> #REF! | C5: =#REF! -> #REF! | D5: =#REF! -> #REF! | E5: =#REF! -> #REF! | F5: =#REF! -> #REF! | G5: =#REF! -> #REF! | H5: =#REF! -> #REF! | I5: =#REF! -> #REF! | ... N5: =#REF! -> #REF! | P5: =SUM(B5:O5) -> #REF!
A6: Brynseng (32 x 20) | B6: =#REF! -> #REF! | C6: =#REF! -> #REF! | D6: =#REF! -> #REF! | E6: =#REF! -> #REF! | F6: =#REF! -> #REF! | G6: =#REF! -> #REF! | H6: =#REF! -> #REF! | I6: =#REF! -> #REF! | ... N6: =#REF! -> #REF! | P6: =SUM(B6:O6) -> #REF!
A7: Frydenberg (24 x 16) | B7: =#REF! -> #REF! | C7: =#REF! -> #REF! | D7: =#REF! -> #REF! | E7: =#REF! -> #REF! | F7: =#REF! -> #REF! | G7: =#REF! -> #REF! | H7: =#REF! -> #REF! | I7: =#REF! -> #REF! | ... N7: =#REF! -> #REF! | P7: =SUM(B7:O7) -> #REF!
A8: Kastellet (24 x 16) | B8: =#REF! -> #REF! | C8: =#REF! -> #REF! | D8: =#REF! -> #REF! | E8: =#REF! -> #REF! | F8: =#REF! -> #REF! | G8: =#REF! -> #REF! | H8: =#REF! -> #REF! | I8: =#REF! -> #REF! | ... N8: =#REF! -> #REF! | P8: =SUM(B8:O8) -> #REF!
A9: Klemetsrud liten | B9: =#REF! -> #REF! | C9: =#REF! -> #REF! | D9: =#REF! -> #REF! | E9: =#REF! -> #REF! | F9: =#REF! -> #REF! | G9: =#REF! -> #REF! | H9: =#REF! -> #REF! | I9: =#REF! -> #REF! | ... N9: =#REF! -> #REF! | P9: =SUM(B9:O9) -> #REF!
A10: Majorstuen (32 x 20) | B10: =#REF! -> #REF! | C10: =#REF! -> #REF! | D10: =#REF! -> #REF! | E10: =#REF! -> #REF! | F10: =#REF! -> #REF! | G10: =#REF! -> #REF! | H10: =#REF! -> #REF! | I10: =#REF! -> #REF! | ... N10: =#REF! -> #REF! | P10: =SUM(B10:O10) -> #REF!
A11: Marienlyst (32 x 20) | B11: =#REF! -> #REF! | C11: =#REF! -> #REF! | D11: =#REF! -> #REF! | E11: =#REF! -> #REF! | F11: =#REF! -> #REF! | G11: =#REF! -> #REF! | H11: =#REF! -> #REF! | I11: =#REF! -> #REF! | ... N11: =#REF! -> #REF! | P11: =SUM(B11:O11) -> #REF!
A12: Tåsen (24 x 16) | B12: =#REF! -> #REF! | C12: =#REF! -> #REF! | D12: =#REF! -> #REF! | E12: =#REF! -> #REF! | F12: =#REF! -> #REF! | G12: =#REF! -> #REF! | H12: =#REF! -> #REF! | I12: =#REF! -> #REF! | ... N12: =#REF! -> #REF! | P12: =SUM(B12:O12) -> #REF!
A13: Uranienborg (32 x 20) | B13: =Uranienborg!#REF! -> #REF! | C13: =Uranienborg!#REF! -> #REF! | D13: =Uranienborg!#REF! -> #REF! | E13: =Uranienborg!#REF! -> #REF! | F13: =Uranienborg!#REF! -> #REF! | G13: =Uranienborg!#REF! -> #REF! | H13: =Uranienborg!#REF! -> #REF! | I13: =Uranienborg!#REF! -> #REF! | ... N13: =Uranienborg!#REF! -> #REF! | P13: =SUM(B13:O13) -> #REF!
A14: Valle (32 x 20) | B14: =#REF! -> #REF! | C14: =#REF! -> #REF! | D14: =#REF! -> #REF! | E14: =#REF! -> #REF! | F14: =#REF! -> #REF! | G14: =#REF! -> #REF! | H14: =#REF! -> #REF! | I14: =#REF! -> #REF! | ... N14: =#REF! -> #REF! | P14: =SUM(B14:O14) -> #REF!
A15: Vulkan (32 x 20) | B15: =#REF! -> #REF! | C15: =#REF! -> #REF! | D15: =#REF! -> #REF! | E15: =#REF! -> #REF! | F15: =#REF! -> #REF! | G15: =#REF! -> #REF! | H15: =#REF! -> #REF! | I15: =#REF! -> #REF! | ... N15: =#REF! -> #REF! | P15: =SUM(B15:O15) -> #REF!
A16: Sum små haller | B16: =SUM(B4:B15) -> #REF! | C16: =SUM(C4:C15) -> #REF! | D16: =SUM(D4:D15) -> #REF! | E16: =SUM(E4:E15) -> #REF! | F16: =SUM(F4:F15) -> #REF! | G16: =SUM(G4:G15) -> #REF! | H16: =SUM(H4:H15) -> #REF! | I16: =SUM(I4:I15) -> #REF! | ... O16: =SUM(O4:O15) -> 0 | P16: =SUM(B16:O16) -> #REF!
A17: Store haller
A18: Apalløkka 1 | B18: =#REF! -> #REF! | C18: =#REF! -> #REF! | D18: =#REF! -> #REF! | E18: =#REF! -> #REF! | F18: =#REF! -> #REF! | G18: =#REF! -> #REF! | H18: =#REF! -> #REF! | I18: =#REF! -> #REF! | ... N18: =#REF! -> #REF! | P18: =SUM(B18:O18) -> #REF!
A19: Apalløkka 2 | B19: =#REF! -> #REF! | C19: =#REF! -> #REF! | D19: =#REF! -> #REF! | E19: =#REF! -> #REF! | F19: =#REF! -> #REF! | G19: =#REF! -> #REF! | H19: =#REF! -> #REF! | I19: =#REF! -> #REF! | ... N19: =#REF! -> #REF! | P19: =SUM(B19:O19) -> #REF!
A20: Bentsebrua | B20: =Bentsebrua!#REF! -> #REF! | C20: =Bentsebrua!#REF! -> #REF! | D20: =Bentsebrua!#REF! -> #REF! | E20: =Bentsebrua!#REF! -> #REF! | F20: =Bentsebrua!#REF! -> #REF! | G20: =Bentsebrua!#REF! -> #REF! | H20: =Bentsebrua!#REF! -> #REF! | I20: =Bentsebrua!#REF! -> #REF! | ... N20: =Bentsebrua!#REF! -> #REF! | P20: =SUM(B20:O20) -> #REF!
A21: Bjølsen match | B21: =#REF! -> #REF! | C21: =#REF! -> #REF! | D21: =#REF! -> #REF! | E21: =#REF! -> #REF! | F21: =#REF! -> #REF! | G21: =#REF! -> #REF! | H21: =#REF! -> #REF! | I21: =#REF! -> #REF! | ... N21: =#REF! -> #REF! | P21: =SUM(B21:O21) -> #REF!
A22: Bjørnholt 1 | B22: =#REF! -> #REF! | C22: =#REF! -> #REF! | D22: =#REF! -> #REF! | E22: =#REF! -> #REF! | F22: =#REF! -> #REF! | G22: =#REF! -> #REF! | H22: =#REF! -> #REF! | I22: =#REF! -> #REF! | ... N22: =#REF! -> #REF! | P22: =SUM(B22:O22) -> #REF!
A23: Bjørnholt 2 | B23: =#REF! -> #REF! | C23: =#REF! -> #REF! | D23: =#REF! -> #REF! | E23: =#REF! -> #REF! | F23: =#REF! -> #REF! | G23: =#REF! -> #REF! | H23: =#REF! -> #REF! | I23: =#REF! -> #REF! | ... N23: =#REF! -> #REF! | P23: =SUM(B23:O23) -> #REF!
A24: Bjørnholt 3 | B24: =#REF! -> #REF! | C24: =#REF! -> #REF! | D24: =#REF! -> #REF! | E24: =#REF! -> #REF! | F24: =#REF! -> #REF! | G24: =#REF! -> #REF! | H24: =#REF! -> #REF! | I24: =#REF! -> #REF! | ... N24: =#REF! -> #REF! | P24: =SUM(B24:O24) -> #REF!
A25: Bøler | B25: =#REF! -> #REF! | C25: =#REF! -> #REF! | D25: =#REF! -> #REF! | E25: =#REF! -> #REF! | F25: =#REF! -> #REF! | G25: =#REF! -> #REF! | H25: =#REF! -> #REF! | I25: =#REF! -> #REF! | ... N25: =#REF! -> #REF! | P25: =SUM(B25:O25) -> #REF!
A26: Dælenenga | B26: =Dælenenga!#REF! -> #REF! | C26: =Dælenenga!#REF! -> #REF! | D26: =Dælenenga!#REF! -> #REF! | E26: =Dælenenga!#REF! -> #REF! | F26: =Dælenenga!#REF! -> #REF! | G26: =Dælenenga!#REF! -> #REF! | H26: =Dælenenga!#REF! -> #REF! | I26: =Dælenenga!#REF! -> #REF! | ... N26: =Dælenenga!#REF! -> #REF! | P26: =SUM(B26:O26) -> #REF!
A27: Ekeberg skole | B27: =#REF! -> #REF! | C27: =#REF! -> #REF! | D27: =#REF! -> #REF! | E27: =#REF! -> #REF! | F27: =#REF! -> #REF! | G27: =#REF! -> #REF! | H27: =#REF! -> #REF! | I27: =#REF! -> #REF! | ... N27: =#REF! -> #REF! | P27: =SUM(B27:O27) -> #REF!
A28: Ellingsrud | B28: =#REF! -> #REF! | C28: =#REF! -> #REF! | D28: =#REF! -> #REF! | E28: =#REF! -> #REF! | F28: =#REF! -> #REF! | G28: =#REF! -> #REF! | H28: =#REF! -> #REF! | I28: =#REF! -> #REF! | ... N28: =#REF! -> #REF! | P28: =SUM(B28:O28) -> #REF!
A29: Engebråten | B29: =#REF! -> #REF! | C29: =#REF! -> #REF! | D29: =#REF! -> #REF! | E29: =#REF! -> #REF! | F29: =#REF! -> #REF! | G29: =#REF! -> #REF! | H29: =#REF! -> #REF! | I29: =#REF! -> #REF! | ... N29: =#REF! -> #REF! | P29: =SUM(B29:O29) -> #REF!
A30: Furuset | B30: =#REF! -> #REF! | C30: =#REF! -> #REF! | D30: =#REF! -> #REF! | E30: =#REF! -> #REF! | F30: =#REF! -> #REF! | G30: =#REF! -> #REF! | H30: =#REF! -> #REF! | I30: =#REF! -> #REF! | ... N30: =#REF! -> #REF! | P30: =SUM(B30:O30) -> #REF!
A31: F21 | B31: =#REF! -> #REF! | C31: =#REF! -> #REF! | D31: =#REF! -> #REF! | E31: =#REF! -> #REF! | F31: =#REF! -> #REF! | G31: =#REF! -> #REF! | H31: =#REF! -> #REF! | I31: =#REF! -> #REF! | ... N31: =#REF! -> #REF! | P31: =SUM(B31:O31) -> #REF!
A32: Grefsen | B32: =Grefsen!#REF! -> #REF! | C32: =Grefsen!#REF! -> #REF! | D32: =Grefsen!#REF! -> #REF! | E32: =Grefsen!#REF! -> #REF! | F32: =Grefsen!#REF! -> #REF! | G32: =Grefsen!#REF! -> #REF! | H32: =Grefsen!#REF! -> #REF! | I32: =Grefsen!#REF! -> #REF! | ... N32: =Grefsen!#REF! -> #REF! | P32: =SUM(B32:O32) -> #REF!
A33: Grorud | B33: =#REF! -> #REF! | C33: =#REF! -> #REF! | D33: =#REF! -> #REF! | E33: =#REF! -> #REF! | F33: =#REF! -> #REF! | G33: =#REF! -> #REF! | H33: =#REF! -> #REF! | I33: =#REF! -> #REF! | ... N33: =#REF! -> #REF! | P33: =SUM(B33:O33) -> #REF!
A34: Haugenstua | B34: =#REF! -> #REF! | C34: =#REF! -> #REF! | D34: =#REF! -> #REF! | E34: =#REF! -> #REF! | F34: =#REF! -> #REF! | G34: =#REF! -> #REF! | H34: =#REF! -> #REF! | I34: =#REF! -> #REF! | ... N34: =#REF! -> #REF! | P34: =SUM(B34:O34) -> #REF!
A35: Haugerud | B35: =#REF! -> #REF! | C35: =#REF! -> #REF! | D35: =#REF! -> #REF! | E35: =#REF! -> #REF! | F35: =#REF! -> #REF! | G35: =#REF! -> #REF! | H35: =#REF! -> #REF! | I35: =#REF! -> #REF! | ... N35: =#REF! -> #REF! | P35: =SUM(B35:O35) -> #REF!
A36: Holmlia | B36: =#REF! -> #REF! | C36: =#REF! -> #REF! | D36: =#REF! -> #REF! | E36: =#REF! -> #REF! | F36: =#REF! -> #REF! | G36: =#REF! -> #REF! | H36: =#REF! -> #REF! | I36: =#REF! -> #REF! | ... N36: =#REF! -> #REF! | P36: =SUM(B36:O36) -> #REF!
A37: Hovseter | B37: =#REF! -> #REF! | C37: =#REF! -> #REF! | D37: =#REF! -> #REF! | E37: =#REF! -> #REF! | F37: =#REF! -> #REF! | G37: =#REF! -> #REF! | H37: =#REF! -> #REF! | I37: =#REF! -> #REF! | ... N37: =#REF! -> #REF! | P37: =SUM(B37:O37) -> #REF!
A38: Høyenhall | B38: =Høyenhall!#REF! -> #REF! | C38: =Høyenhall!#REF! -> #REF! | D38: =Høyenhall!#REF! -> #REF! | E38: =Høyenhall!#REF! -> #REF! | F38: =Høyenhall!#REF! -> #REF! | G38: =Høyenhall!#REF! -> #REF! | H38: =Høyenhall!#REF! -> #REF! | I38: =Høyenhall!#REF! -> #REF! | ... N38: =Høyenhall!#REF! -> #REF! | P38: =SUM(B38:O38) -> #REF!
A39: Jordal | B39: =#REF! -> #REF! | C39: =#REF! -> #REF! | D39: =#REF! -> #REF! | E39: =#REF! -> #REF! | F39: =#REF! -> #REF! | G39: =#REF! -> #REF! | H39: =#REF! -> #REF! | I39: =#REF! -> #REF! | ... N39: =#REF! -> #REF! | P39: =SUM(B39:O39) -> #REF!
A40: Kjelsås | B40: =#REF! -> #REF! | C40: =#REF! -> #REF! | D40: =#REF! -> #REF! | E40: =#REF! -> #REF! | F40: =#REF! -> #REF! | G40: =#REF! -> #REF! | H40: =#REF! -> #REF! | I40: =#REF! -> #REF! | ... N40: =#REF! -> #REF! | P40: =SUM(B40:O40) -> #REF!
A41: Klemetsrud stor | B41: =#REF! -> #REF! | C41: =#REF! -> #REF! | D41: =#REF! -> #REF! | E41: =#REF! -> #REF! | F41: =#REF! -> #REF! | G41: =#REF! -> #REF! | H41: =#REF! -> #REF! | I41: =#REF! -> #REF! | ... N41: =#REF! -> #REF! | P41: =SUM(B41:O41) -> #REF!
A42: Korsvoll | B42: =#REF! -> #REF! | C42: =#REF! -> #REF! | D42: =#REF! -> #REF! | E42: =#REF! -> #REF! | F42: =#REF! -> #REF! | G42: =#REF! -> #REF! | H42: =#REF! -> #REF! | I42: =#REF! -> #REF! | ... N42: =#REF! -> #REF! | P42: =SUM(B42:O42) -> #REF!
A43: Kringsjå | B43: =#REF! -> #REF! | C43: =#REF! -> #REF! | D43: =#REF! -> #REF! | E43: =#REF! -> #REF! | F43: =#REF! -> #REF! | G43: =#REF! -> #REF! | H43: =#REF! -> #REF! | I43: =#REF! -> #REF! | ... N43: =#REF! -> #REF! | P43: =SUM(B43:O43) -> #REF!
A44: Lambertseter | B44: =#REF! -> #REF! | C44: =#REF! -> #REF! | D44: =#REF! -> #REF! | E44: =#REF! -> #REF! | F44: =#REF! -> #REF! | G44: =#REF! -> #REF! | H44: =#REF! -> #REF! | I44: =#REF! -> #REF! | ... N44: =#REF! -> #REF! | P44: =SUM(B44:O44) -> #REF!
A45: Leirskallen turn | B45: =Leirskallen!#REF! -> #REF! | C45: =Leirskallen!#REF! -> #REF! | D45: =Leirskallen!#REF! -> #REF! | E45: =Leirskallen!#REF! -> #REF! | F45: =Leirskallen!#REF! -> #REF! | G45: =Leirskallen!#REF! -> #REF! | H45: =Leirskallen!#REF! -> #REF! | I45: =Leirskallen!#REF! -> #REF! | ... N45: =Leirskallen!#REF! -> #REF! | P45: =SUM(B45:O45) -> #REF!
A46: Linderud | B46: =#REF! -> #REF! | C46: =#REF! -> #REF! | D46: =#REF! -> #REF! | E46: =#REF! -> #REF! | F46: =#REF! -> #REF! | G46: =#REF! -> #REF! | H46: =#REF! -> #REF! | I46: =#REF! -> #REF! | ... N46: =#REF! -> #REF! | P46: =SUM(B46:O46) -> #REF!
A47: Nordbyen idr.hall | B47: =#REF! -> #REF! | C47: =#REF! -> #REF! | D47: =#REF! -> #REF! | E47: =#REF! -> #REF! | F47: =#REF! -> #REF! | G47: =#REF! -> #REF! | H47: =#REF! -> #REF! | I47: =#REF! -> #REF! | ... N47: =#REF! -> #REF! | P47: =SUM(B47:O47) -> #REF!
A48: Nordbyen turn | B48: ='Nordbyen turn'!#REF! -> #REF! | C48: ='Nordbyen turn'!#REF! -> #REF! | D48: ='Nordbyen turn'!#REF! -> #REF! | E48: ='Nordbyen turn'!#REF! -> #REF! | F48: ='Nordbyen turn'!#REF! -> #REF! | G48: ='Nordbyen turn'!#REF! -> #REF! | H48: ='Nordbyen turn'!#REF! -> #REF! | I48: ='Nordbyen turn'!#REF! -> #REF! | ... N48: ='Nordbyen turn'!#REF! -> #REF! | P48: =SUM(B48:O48) -> #REF!
A49: Nydalen | B49: =#REF! -> #REF! | C49: =#REF! -> #REF! | D49: =#REF! -> #REF! | E49: =#REF! -> #REF! | F49: =#REF! -> #REF! | G49: =#REF! -> #REF! | H49: =#REF! -> #REF! | I49: =#REF! -> #REF! | ... N49: =#REF! -> #REF! | P49: =SUM(B49:O49) -> #REF!
A50: Oppsal 1 | B50: =#REF! -> #REF! | C50: =#REF! -> #REF! | D50: =#REF! -> #REF! | E50: =#REF! -> #REF! | F50: =#REF! -> #REF! | G50: =#REF! -> #REF! | H50: =#REF! -> #REF! | I50: =#REF! -> #REF! | ... N50: =#REF! -> #REF! | P50: =SUM(B50:O50) -> #REF!
A51: Oppsal 2 | B51: =#REF! -> #REF! | C51: =#REF! -> #REF! | D51: =#REF! -> #REF! | E51: =#REF! -> #REF! | F51: =#REF! -> #REF! | G51: =#REF! -> #REF! | H51: =#REF! -> #REF! | I51: =#REF! -> #REF! | ... N51: =#REF! -> #REF! | P51: =SUM(B51:O51) -> #REF!
A52: Oppsal 3 | B52: ='Oppsal 3'!#REF! -> #REF! | C52: ='Oppsal 3'!#REF! -> #REF! | D52: ='Oppsal 3'!#REF! -> #REF! | E52: ='Oppsal 3'!#REF! -> #REF! | F52: ='Oppsal 3'!#REF! -> #REF! | G52: ='Oppsal 3'!#REF! -> #REF! | H52: ='Oppsal 3'!#REF! -> #REF! | I52: ='Oppsal 3'!#REF! -> #REF! | ... N52: ='Oppsal 3'!#REF! -> #REF! | P52: =SUM(B52:O52) -> #REF!
A53: Oppsal 4 | B53: =#REF! -> #REF! | C53: =#REF! -> #REF! | D53: =#REF! -> #REF! | E53: =#REF! -> #REF! | F53: =#REF! -> #REF! | G53: =#REF! -> #REF! | H53: =#REF! -> #REF! | I53: =#REF! -> #REF! | ... N53: =#REF! -> #REF! | P53: =SUM(B53:O53) -> #REF!
A54: Persbråten | B54: =#REF! -> #REF! | C54: =#REF! -> #REF! | D54: =#REF! -> #REF! | E54: =#REF! -> #REF! | F54: =#REF! -> #REF! | G54: =#REF! -> #REF! | H54: =#REF! -> #REF! | I54: =#REF! -> #REF! | ... N54: =#REF! -> #REF! | P54: =SUM(B54:O54) -> #REF!
A55: Rommen | B55: =#REF! -> #REF! | C55: =#REF! -> #REF! | D55: =#REF! -> #REF! | E55: =#REF! -> #REF! | F55: =#REF! -> #REF! | G55: =#REF! -> #REF! | H55: =#REF! -> #REF! | I55: =#REF! -> #REF! | ... N55: =#REF! -> #REF! | P55: =SUM(B55:O55) -> #REF!
A56: Romsås | B56: =Romsås!#REF! -> #REF! | C56: =Romsås!#REF! -> #REF! | D56: =Romsås!#REF! -> #REF! | E56: =Romsås!#REF! -> #REF! | F56: =Romsås!#REF! -> #REF! | G56: =Romsås!#REF! -> #REF! | H56: =Romsås!#REF! -> #REF! | I56: =Romsås!#REF! -> #REF! | ... N56: =Romsås!#REF! -> #REF! | P56: =SUM(B56:O56) -> #REF!
A57: Skøyen | B57: =#REF! -> #REF! | C57: =#REF! -> #REF! | D57: =#REF! -> #REF! | E57: =#REF! -> #REF! | F57: =#REF! -> #REF! | G57: =#REF! -> #REF! | H57: =#REF! -> #REF! | I57: =#REF! -> #REF! | ... N57: =#REF! -> #REF! | P57: =SUM(B57:O57) -> #REF!
A58: Stovner | B58: =#REF! -> #REF! | C58: =#REF! -> #REF! | D58: =#REF! -> #REF! | E58: =#REF! -> #REF! | F58: =#REF! -> #REF! | G58: =#REF! -> #REF! | H58: =#REF! -> #REF! | I58: =#REF! -> #REF! | ... N58: =#REF! -> #REF! | P58: =SUM(B58:O58) -> #REF!
A59: Teglverket | B59: =#REF! -> #REF! | C59: =#REF! -> #REF! | D59: =#REF! -> #REF! | E59: =#REF! -> #REF! | F59: =#REF! -> #REF! | G59: =#REF! -> #REF! | H59: =#REF! -> #REF! | I59: =#REF! -> #REF! | ... N59: =#REF! -> #REF! | P59: =SUM(B59:O59) -> #REF!
A60: Tokerud | B60: =#REF! -> #REF! | C60: =#REF! -> #REF! | D60: =#REF! -> #REF! | E60: =#REF! -> #REF! | F60: =#REF! -> #REF! | G60: =#REF! -> #REF! | H60: =#REF! -> #REF! | I60: =#REF! -> #REF! | ... N60: =#REF! -> #REF! | P60: =SUM(B60:O60) -> #REF!
A61: Tøyenbadet idr.hall | B61: =#REF! -> #REF! | C61: =#REF! -> #REF! | D61: =#REF! -> #REF! | E61: =#REF! -> #REF! | F61: =#REF! -> #REF! | G61: =#REF! -> #REF! | H61: =#REF! -> #REF! | I61: =#REF! -> #REF! | ... N61: =#REF! -> #REF! | P61: =SUM(B61:O61) -> #REF!
A62: Ullern idrettspark | B62: =#REF! -> #REF! | C62: =#REF! -> #REF! | D62: =#REF! -> #REF! | E62: =#REF! -> #REF! | F62: =#REF! -> #REF! | G62: =#REF! -> #REF! | H62: =#REF! -> #REF! | I62: =#REF! -> #REF! | ... N62: =#REF! -> #REF! | P62: =SUM(B62:O62) -> #REF!
A63: Ullern vgs | B63: =#REF! -> #REF! | C63: =#REF! -> #REF! | D63: =#REF! -> #REF! | E63: =#REF! -> #REF! | F63: =#REF! -> #REF! | G63: =#REF! -> #REF! | H63: =#REF! -> #REF! | I63: =#REF! -> #REF! | ... N63: =#REF! -> #REF! | P63: =SUM(B63:O63) -> #REF!
A64: Vahl | B64: =#REF! -> #REF! | C64: =#REF! -> #REF! | D64: =#REF! -> #REF! | E64: =#REF! -> #REF! | F64: =#REF! -> #REF! | G64: =#REF! -> #REF! | H64: =#REF! -> #REF! | I64: =#REF! -> #REF! | ... N64: =#REF! -> #REF! | P64: =SUM(B64:O64) -> #REF!
A65: Veitvet | B65: =#REF! -> #REF! | C65: =#REF! -> #REF! | D65: =#REF! -> #REF! | E65: =#REF! -> #REF! | F65: =#REF! -> #REF! | G65: =#REF! -> #REF! | H65: =#REF! -> #REF! | I65: =#REF! -> #REF! | ... N65: =#REF! -> #REF! | P65: =SUM(B65:O65) -> #REF!
A66: Vestli | B66: =#REF! -> #REF! | C66: =#REF! -> #REF! | D66: =#REF! -> #REF! | E66: =#REF! -> #REF! | F66: =#REF! -> #REF! | G66: =#REF! -> #REF! | H66: =#REF! -> #REF! | I66: =#REF! -> #REF! | ... N66: =#REF! -> #REF! | P66: =SUM(B66:O66) -> #REF!
A67: Voksen | B67: =#REF! -> #REF! | C67: =#REF! -> #REF! | D67: =#REF! -> #REF! | E67: =#REF! -> #REF! | F67: =#REF! -> #REF! | G67: =#REF! -> #REF! | H67: =#REF! -> #REF! | I67: =#REF! -> #REF! | ... N67: =#REF! -> #REF! | P67: =SUM(B67:O67) -> #REF!
A68: Øraker | B68: =#REF! -> #REF! | C68: =#REF! -> #REF! | D68: =#REF! -> #REF! | E68: =#REF! -> #REF! | F68: =#REF! -> #REF! | G68: =#REF! -> #REF! | H68: =#REF! -> #REF! | I68: =#REF! -> #REF! | ... N68: =#REF! -> #REF! | P68: =SUM(B68:O68) -> #REF!
A69: Årvoll | B69: =Årvoll!#REF! -> #REF! | C69: =Årvoll!#REF! -> #REF! | D69: =Årvoll!#REF! -> #REF! | E69: =Årvoll!#REF! -> #REF! | F69: =Årvoll!#REF! -> #REF! | G69: =Årvoll!#REF! -> #REF! | H69: =Årvoll!#REF! -> #REF! | I69: =Årvoll!#REF! -> #REF! | ... N69: =Årvoll!#REF! -> #REF! | P69: =SUM(B69:O69) -> #REF!
A70: Sum store haller | B70: =SUM(B18:B69) -> #REF! | C70: =SUM(C18:C69) -> #REF! | D70: =SUM(D18:D69) -> #REF! | E70: =SUM(E18:E69) -> #REF! | F70: =SUM(F18:F69) -> #REF! | G70: =SUM(G18:G69) -> #REF! | H70: =SUM(H18:H69) -> #REF! | I70: =SUM(I18:I69) -> #REF! | ... O70: =SUM(O18:O69) -> 0 | P70: =SUM(B70:O70) -> #REF!
B72: =B16+B70 -> #REF! | C72: =C16+C70 -> #REF! | D72: =D16+D70 -> #REF! | E72: =E16+E70 -> #REF! | F72: =F16+F70 -> #REF! | G72: =G16+G70 -> #REF! | H72: =H16+H70 -> #REF! | I72: =I16+I70 -> #REF! | ... P72: =P16+P70 -> #REF!

Sheet 16 til 17
B1: Oversikt haller
B2: Badminton | C2: Basket | D2: Cheerleading | E2: Dans | F2: Futsal | G2: Gym og turn | H2: Hockey | I2: Håndball | J2: Innebandy | K2: Roller Derby | L2: Ultimate Frisbee | M2: Volleyball | N2: Paraidrett | O2: Spesielle tiltak | P2: Sum
A3: Små haller
A4: Ammerud (32 x 20) | B4: =#REF! -> #REF! | C4: =#REF! -> #REF! | D4: =#REF! -> #REF! | E4: =#REF! -> #REF! | F4: =#REF! -> #REF! | G4: =#REF! -> #REF! | H4: =#REF! -> #REF! | I4: =#REF! -> #REF! | ... O4: =#REF! -> #REF! | P4: =SUM(B4:O4) -> #REF!
A5: Bestum (24 x 16) | B5: =#REF! -> #REF! | C5: =#REF! -> #REF! | D5: =#REF! -> #REF! | E5: =#REF! -> #REF! | F5: =#REF! -> #REF! | G5: =#REF! -> #REF! | H5: =#REF! -> #REF! | I5: =#REF! -> #REF! | ... O5: =#REF! -> #REF! | P5: =SUM(B5:O5) -> #REF!
A6: Brynseng (32 x 20) | B6: =#REF! -> #REF! | C6: =#REF! -> #REF! | D6: =#REF! -> #REF! | E6: =#REF! -> #REF! | F6: =#REF! -> #REF! | G6: =#REF! -> #REF! | H6: =#REF! -> #REF! | I6: =#REF! -> #REF! | ... O6: =#REF! -> #REF! | P6: =SUM(B6:O6) -> #REF!
A7: Frydenberg (24 x 16) | B7: =#REF! -> #REF! | C7: =#REF! -> #REF! | D7: =#REF! -> #REF! | E7: =#REF! -> #REF! | F7: =#REF! -> #REF! | G7: =#REF! -> #REF! | H7: =#REF! -> #REF! | I7: =#REF! -> #REF! | ... O7: =#REF! -> #REF! | P7: =SUM(B7:O7) -> #REF!
A8: Kastellet (24 x 16) | B8: =#REF! -> #REF! | C8: =#REF! -> #REF! | D8: =#REF! -> #REF! | E8: =#REF! -> #REF! | F8: =#REF! -> #REF! | G8: =#REF! -> #REF! | H8: =#REF! -> #REF! | I8: =#REF! -> #REF! | ... O8: =#REF! -> #REF! | P8: =SUM(B8:O8) -> #REF!
A9: Klemetsrud liten | B9: =#REF! -> #REF! | C9: =#REF! -> #REF! | D9: =#REF! -> #REF! | E9: =#REF! -> #REF! | F9: =#REF! -> #REF! | G9: =#REF! -> #REF! | H9: =#REF! -> #REF! | I9: =#REF! -> #REF! | ... O9: =#REF! -> #REF! | P9: =SUM(B9:O9) -> #REF!
A10: Majorstuen (32 x 20) | B10: =#REF! -> #REF! | C10: =#REF! -> #REF! | D10: =#REF! -> #REF! | E10: =#REF! -> #REF! | F10: =#REF! -> #REF! | G10: =#REF! -> #REF! | H10: =#REF! -> #REF! | I10: =#REF! -> #REF! | ... O10: =#REF! -> #REF! | P10: =SUM(B10:O10) -> #REF!
A11: Marienlyst (32 x 20) | B11: =#REF! -> #REF! | C11: =#REF! -> #REF! | D11: =#REF! -> #REF! | E11: =#REF! -> #REF! | F11: =#REF! -> #REF! | G11: =#REF! -> #REF! | H11: =#REF! -> #REF! | I11: =#REF! -> #REF! | ... O11: =#REF! -> #REF! | P11: =SUM(B11:O11) -> #REF!
A12: Tåsen (24 x 16) | B12: =#REF! -> #REF! | C12: =#REF! -> #REF! | D12: =#REF! -> #REF! | E12: =#REF! -> #REF! | F12: =#REF! -> #REF! | G12: =#REF! -> #REF! | H12: =#REF! -> #REF! | I12: =#REF! -> #REF! | ... O12: =#REF! -> #REF! | P12: =SUM(B12:O12) -> #REF!
A13: Uranienborg (32 x 20) | B13: =Uranienborg!#REF! -> #REF! | C13: =Uranienborg!#REF! -> #REF! | D13: =Uranienborg!#REF! -> #REF! | E13: =Uranienborg!#REF! -> #REF! | F13: =Uranienborg!#REF! -> #REF! | G13: =Uranienborg!#REF! -> #REF! | H13: =Uranienborg!#REF! -> #REF! | I13: =Uranienborg!#REF! -> #REF! | ... O13: =Uranienborg!#REF! -> #REF! | P13: =SUM(B13:O13) -> #REF!
A14: Valle Hovin (32 x 20) | B14: =#REF! -> #REF! | C14: =#REF! -> #REF! | D14: =#REF! -> #REF! | E14: =#REF! -> #REF! | F14: =#REF! -> #REF! | G14: =#REF! -> #REF! | H14: =#REF! -> #REF! | I14: =#REF! -> #REF! | ... O14: =#REF! -> #REF! | P14: =SUM(B14:O14) -> #REF!
A15: Vulkan (32 x 20) | B15: =#REF! -> #REF! | C15: =#REF! -> #REF! | D15: =#REF! -> #REF! | E15: =#REF! -> #REF! | F15: =#REF! -> #REF! | G15: =#REF! -> #REF! | H15: =#REF! -> #REF! | I15: =#REF! -> #REF! | ... O15: =#REF! -> #REF! | P15: =SUM(B15:O15) -> #REF!
A16: Sum små haller | B16: =SUM(B4:B15) -> #REF! | C16: =SUM(C4:C15) -> #REF! | D16: =SUM(D4:D15) -> #REF! | E16: =SUM(E4:E15) -> #REF! | F16: =SUM(F4:F15) -> #REF! | G16: =SUM(G4:G15) -> #REF! | H16: =SUM(H4:H15) -> #REF! | I16: =SUM(I4:I15) -> #REF! | ... O16: =SUM(O4:O15) -> #REF! | P16: =SUM(B16:O16) -> #REF!
A17: Store haller
A18: Apalløkka 1 | B18: =#REF! -> #REF! | C18: =#REF! -> #REF! | D18: =#REF! -> #REF! | E18: =#REF! -> #REF! | F18: =#REF! -> #REF! | G18: =#REF! -> #REF! | H18: =#REF! -> #REF! | I18: =#REF! -> #REF! | ... O18: =#REF! -> #REF! | P18: =SUM(B18:O18) -> #REF!
A19: Apalløkka 2 | B19: =#REF! -> #REF! | C19: =#REF! -> #REF! | D19: =#REF! -> #REF! | E19: =#REF! -> #REF! | F19: =#REF! -> #REF! | G19: =#REF! -> #REF! | H19: =#REF! -> #REF! | I19: =#REF! -> #REF! | ... O19: =#REF! -> #REF! | P19: =SUM(B19:O19) -> #REF!
A20: Bentsebrua | B20: =Bentsebrua!#REF! -> #REF! | C20: =Bentsebrua!#REF! -> #REF! | D20: =Bentsebrua!#REF! -> #REF! | E20: =Bentsebrua!#REF! -> #REF! | F20: =Bentsebrua!#REF! -> #REF! | G20: =Bentsebrua!#REF! -> #REF! | H20: =Bentsebrua!#REF! -> #REF! | I20: =Bentsebrua!#REF! -> #REF! | ... O20: =Bentsebrua!#REF! -> #REF! | P20: =SUM(B20:O20) -> #REF!
A21: Bjølsen match | B21: =#REF! -> #REF! | C21: =#REF! -> #REF! | D21: =#REF! -> #REF! | E21: =#REF! -> #REF! | F21: =#REF! -> #REF! | G21: =#REF! -> #REF! | H21: =#REF! -> #REF! | I21: =#REF! -> #REF! | ... O21: =#REF! -> #REF! | P21: =SUM(B21:O21) -> #REF!
A22: Bjørnholt 1 | B22: =#REF! -> #REF! | C22: =#REF! -> #REF! | D22: =#REF! -> #REF! | E22: =#REF! -> #REF! | F22: =#REF! -> #REF! | G22: =#REF! -> #REF! | H22: =#REF! -> #REF! | I22: =#REF! -> #REF! | ... O22: =#REF! -> #REF! | P22: =SUM(B22:O22) -> #REF!
A23: Bjørnholt 2 | B23: =#REF! -> #REF! | C23: =#REF! -> #REF! | D23: =#REF! -> #REF! | E23: =#REF! -> #REF! | F23: =#REF! -> #REF! | G23: =#REF! -> #REF! | H23: =#REF! -> #REF! | I23: =#REF! -> #REF! | ... O23: =#REF! -> #REF! | P23: =SUM(B23:O23) -> #REF!
A24: Bjørnholt 3 | B24: =#REF! -> #REF! | C24: =#REF! -> #REF! | D24: =#REF! -> #REF! | E24: =#REF! -> #REF! | F24: =#REF! -> #REF! | G24: =#REF! -> #REF! | H24: =#REF! -> #REF! | I24: =#REF! -> #REF! | ... O24: =#REF! -> #REF! | P24: =SUM(B24:O24) -> #REF!
A25: Bøler | B25: =#REF! -> #REF! | C25: =#REF! -> #REF! | D25: =#REF! -> #REF! | E25: =#REF! -> #REF! | F25: =#REF! -> #REF! | G25: =#REF! -> #REF! | H25: =#REF! -> #REF! | I25: =#REF! -> #REF! | ... O25: =#REF! -> #REF! | P25: =SUM(B25:O25) -> #REF!
A26: Dælenenga | B26: =Dælenenga!#REF! -> #REF! | C26: =Dælenenga!#REF! -> #REF! | D26: =Dælenenga!#REF! -> #REF! | E26: =Dælenenga!#REF! -> #REF! | F26: =Dælenenga!#REF! -> #REF! | G26: =Dælenenga!#REF! -> #REF! | H26: =Dælenenga!#REF! -> #REF! | I26: =Dælenenga!#REF! -> #REF! | ... O26: =Dælenenga!#REF! -> #REF! | P26: =SUM(B26:O26) -> #REF!
A27: Ekeberg skole | B27: =#REF! -> #REF! | C27: =#REF! -> #REF! | D27: =#REF! -> #REF! | E27: =#REF! -> #REF! | F27: =#REF! -> #REF! | G27: =#REF! -> #REF! | H27: =#REF! -> #REF! | I27: =#REF! -> #REF! | ... O27: =#REF! -> #REF! | P27: =SUM(B27:O27) -> #REF!
A28: Ellingsrud | B28: =#REF! -> #REF! | C28: =#REF! -> #REF! | D28: =#REF! -> #REF! | E28: =#REF! -> #REF! | F28: =#REF! -> #REF! | G28: =#REF! -> #REF! | H28: =#REF! -> #REF! | I28: =#REF! -> #REF! | ... O28: =#REF! -> #REF! | P28: =SUM(B28:O28) -> #REF!
A29: Engebråten | B29: =#REF! -> #REF! | C29: =#REF! -> #REF! | D29: =#REF! -> #REF! | E29: =#REF! -> #REF! | F29: =#REF! -> #REF! | G29: =#REF! -> #REF! | H29: =#REF! -> #REF! | I29: =#REF! -> #REF! | ... O29: =#REF! -> #REF! | P29: =SUM(B29:O29) -> #REF!
A30: Furuset | B30: =#REF! -> #REF! | C30: =#REF! -> #REF! | D30: =#REF! -> #REF! | E30: =#REF! -> #REF! | F30: =#REF! -> #REF! | G30: =#REF! -> #REF! | H30: =#REF! -> #REF! | I30: =#REF! -> #REF! | ... O30: =#REF! -> #REF! | P30: =SUM(B30:O30) -> #REF!
A31: F21 | B31: =#REF! -> #REF! | C31: =#REF! -> #REF! | D31: =#REF! -> #REF! | E31: =#REF! -> #REF! | F31: =#REF! -> #REF! | G31: =#REF! -> #REF! | H31: =#REF! -> #REF! | I31: =#REF! -> #REF! | ... O31: =#REF! -> #REF! | P31: =SUM(B31:O31) -> #REF!
A32: Grefsen | B32: =Grefsen!#REF! -> #REF! | C32: =Grefsen!#REF! -> #REF! | D32: =Grefsen!#REF! -> #REF! | E32: =Grefsen!#REF! -> #REF! | F32: =Grefsen!#REF! -> #REF! | G32: =Grefsen!#REF! -> #REF! | H32: =Grefsen!#REF! -> #REF! | I32: =Grefsen!#REF! -> #REF! | ... O32: =Grefsen!#REF! -> #REF! | P32: =SUM(B32:O32) -> #REF!
A33: Grorud | B33: =#REF! -> #REF! | C33: =#REF! -> #REF! | D33: =#REF! -> #REF! | E33: =#REF! -> #REF! | F33: =#REF! -> #REF! | G33: =#REF! -> #REF! | H33: =#REF! -> #REF! | I33: =#REF! -> #REF! | ... O33: =#REF! -> #REF! | P33: =SUM(B33:O33) -> #REF!
A34: Haugenstua | B34: =#REF! -> #REF! | C34: =#REF! -> #REF! | D34: =#REF! -> #REF! | E34: =#REF! -> #REF! | F34: =#REF! -> #REF! | G34: =#REF! -> #REF! | H34: =#REF! -> #REF! | I34: =#REF! -> #REF! | ... O34: =#REF! -> #REF! | P34: =SUM(B34:O34) -> #REF!
A35: Haugerud | B35: =#REF! -> #REF! | C35: =#REF! -> #REF! | D35: =#REF! -> #REF! | E35: =#REF! -> #REF! | F35: =#REF! -> #REF! | G35: =#REF! -> #REF! | H35: =#REF! -> #REF! | I35: =#REF! -> #REF! | ... O35: =#REF! -> #REF! | P35: =SUM(B35:O35) -> #REF!
A36: Holmlia | B36: =#REF! -> #REF! | C36: =#REF! -> #REF! | D36: =#REF! -> #REF! | E36: =#REF! -> #REF! | F36: =#REF! -> #REF! | G36: =#REF! -> #REF! | H36: =#REF! -> #REF! | I36: =#REF! -> #REF! | ... O36: =#REF! -> #REF! | P36: =SUM(B36:O36) -> #REF!
A37: Hovseter | B37: =#REF! -> #REF! | C37: =#REF! -> #REF! | D37: =#REF! -> #REF! | E37: =#REF! -> #REF! | F37: =#REF! -> #REF! | G37: =#REF! -> #REF! | H37: =#REF! -> #REF! | I37: =#REF! -> #REF! | ... O37: =#REF! -> #REF! | P37: =SUM(B37:O37) -> #REF!
A38: Høyenhall | B38: =Høyenhall!#REF! -> #REF! | C38: =Høyenhall!#REF! -> #REF! | D38: =Høyenhall!#REF! -> #REF! | E38: =Høyenhall!#REF! -> #REF! | F38: =Høyenhall!#REF! -> #REF! | G38: =Høyenhall!#REF! -> #REF! | H38: =Høyenhall!#REF! -> #REF! | I38: =Høyenhall!#REF! -> #REF! | ... O38: =Høyenhall!#REF! -> #REF! | P38: =SUM(B38:O38) -> #REF!
A39: Jordal | B39: =#REF! -> #REF! | C39: =#REF! -> #REF! | D39: =#REF! -> #REF! | E39: =#REF! -> #REF! | F39: =#REF! -> #REF! | G39: =#REF! -> #REF! | H39: =#REF! -> #REF! | I39: =#REF! -> #REF! | ... O39: =#REF! -> #REF! | P39: =SUM(B39:O39) -> #REF!
A40: Kjelsås | B40: =#REF! -> #REF! | C40: =#REF! -> #REF! | D40: =#REF! -> #REF! | E40: =#REF! -> #REF! | F40: =#REF! -> #REF! | G40: =#REF! -> #REF! | H40: =#REF! -> #REF! | I40: =#REF! -> #REF! | ... O40: =#REF! -> #REF! | P40: =SUM(B40:O40) -> #REF!
A41: Klemetsrud stor | B41: =#REF! -> #REF! | C41: =#REF! -> #REF! | D41: =#REF! -> #REF! | E41: =#REF! -> #REF! | F41: =#REF! -> #REF! | G41: =#REF! -> #REF! | H41: =#REF! -> #REF! | I41: =#REF! -> #REF! | ... O41: =#REF! -> #REF! | P41: =SUM(B41:O41) -> #REF!
A42: Korsvoll | B42: =#REF! -> #REF! | C42: =#REF! -> #REF! | D42: =#REF! -> #REF! | E42: =#REF! -> #REF! | F42: =#REF! -> #REF! | G42: =#REF! -> #REF! | H42: =#REF! -> #REF! | I42: =#REF! -> #REF! | ... O42: =#REF! -> #REF! | P42: =SUM(B42:O42) -> #REF!
A43: Kringsjå | B43: =#REF! -> #REF! | C43: =#REF! -> #REF! | D43: =#REF! -> #REF! | E43: =#REF! -> #REF! | F43: =#REF! -> #REF! | G43: =#REF! -> #REF! | H43: =#REF! -> #REF! | I43: =#REF! -> #REF! | ... O43: =#REF! -> #REF! | P43: =SUM(B43:O43) -> #REF!
A44: Lambertseter | B44: =#REF! -> #REF! | C44: =#REF! -> #REF! | D44: =#REF! -> #REF! | E44: =#REF! -> #REF! | F44: =#REF! -> #REF! | G44: =#REF! -> #REF! | H44: =#REF! -> #REF! | I44: =#REF! -> #REF! | ... O44: =#REF! -> #REF! | P44: =SUM(B44:O44) -> #REF!
A45: Leirskallen turn | B45: =Leirskallen!#REF! -> #REF! | C45: =Leirskallen!#REF! -> #REF! | D45: =Leirskallen!#REF! -> #REF! | E45: =Leirskallen!#REF! -> #REF! | F45: =Leirskallen!#REF! -> #REF! | G45: =Leirskallen!#REF! -> #REF! | H45: =Leirskallen!#REF! -> #REF! | I45: =Leirskallen!#REF! -> #REF! | ... O45: =Leirskallen!#REF! -> #REF! | P45: =SUM(B45:O45) -> #REF!
A46: Linderud | B46: =#REF! -> #REF! | C46: =#REF! -> #REF! | D46: =#REF! -> #REF! | E46: =#REF! -> #REF! | F46: =#REF! -> #REF! | G46: =#REF! -> #REF! | H46: =#REF! -> #REF! | I46: =#REF! -> #REF! | ... O46: =#REF! -> #REF! | P46: =SUM(B46:O46) -> #REF!
A47: Nordbyen idr.hall | B47: =#REF! -> #REF! | C47: =#REF! -> #REF! | D47: =#REF! -> #REF! | E47: =#REF! -> #REF! | F47: =#REF! -> #REF! | G47: =#REF! -> #REF! | H47: =#REF! -> #REF! | I47: =#REF! -> #REF! | ... O47: =#REF! -> #REF! | P47: =SUM(B47:O47) -> #REF!
A48: Nordbyen turn | B48: ='Nordbyen turn'!#REF! -> #REF! | C48: ='Nordbyen turn'!#REF! -> #REF! | D48: ='Nordbyen turn'!#REF! -> #REF! | E48: ='Nordbyen turn'!#REF! -> #REF! | F48: ='Nordbyen turn'!#REF! -> #REF! | G48: ='Nordbyen turn'!#REF! -> #REF! | H48: ='Nordbyen turn'!#REF! -> #REF! | I48: ='Nordbyen turn'!#REF! -> #REF! | ... O48: ='Nordbyen turn'!#REF! -> #REF! | P48: =SUM(B48:O48) -> #REF!
A49: Nydalen | B49: =#REF! -> #REF! | C49: =#REF! -> #REF! | D49: =#REF! -> #REF! | E49: =#REF! -> #REF! | F49: =#REF! -> #REF! | G49: =#REF! -> #REF! | H49: =#REF! -> #REF! | I49: =#REF! -> #REF! | ... O49: =#REF! -> #REF! | P49: =SUM(B49:O49) -> #REF!
A50: Oppsal 1 | B50: =#REF! -> #REF! | C50: =#REF! -> #REF! | D50: =#REF! -> #REF! | E50: =#REF! -> #REF! | F50: =#REF! -> #REF! | G50: =#REF! -> #REF! | H50: =#REF! -> #REF! | I50: =#REF! -> #REF! | ... O50: =#REF! -> #REF! | P50: =SUM(B50:O50) -> #REF!
A51: Oppsal 2 | B51: =#REF! -> #REF! | C51: =#REF! -> #REF! | D51: =#REF! -> #REF! | E51: =#REF! -> #REF! | F51: =#REF! -> #REF! | G51: =#REF! -> #REF! | H51: =#REF! -> #REF! | I51: =#REF! -> #REF! | ... O51: =#REF! -> #REF! | P51: =SUM(B51:O51) -> #REF!
A52: Oppsal 3 | B52: ='Oppsal 3'!#REF! -> #REF! | C52: ='Oppsal 3'!#REF! -> #REF! | D52: ='Oppsal 3'!#REF! -> #REF! | E52: ='Oppsal 3'!#REF! -> #REF! | F52: ='Oppsal 3'!#REF! -> #REF! | G52: ='Oppsal 3'!#REF! -> #REF! | H52: ='Oppsal 3'!#REF! -> #REF! | I52: ='Oppsal 3'!#REF! -> #REF! | ... O52: ='Oppsal 3'!#REF! -> #REF! | P52: =SUM(B52:O52) -> #REF!
A53: Oppsal 4 | B53: =#REF! -> #REF! | C53: =#REF! -> #REF! | D53: =#REF! -> #REF! | E53: =#REF! -> #REF! | F53: =#REF! -> #REF! | G53: =#REF! -> #REF! | H53: =#REF! -> #REF! | I53: =#REF! -> #REF! | ... O53: =#REF! -> #REF! | P53: =SUM(B53:O53) -> #REF!
A54: Persbråten | B54: =#REF! -> #REF! | C54: =#REF! -> #REF! | D54: =#REF! -> #REF! | E54: =#REF! -> #REF! | F54: =#REF! -> #REF! | G54: =#REF! -> #REF! | H54: =#REF! -> #REF! | I54: =#REF! -> #REF! | ... O54: =#REF! -> #REF! | P54: =SUM(B54:O54) -> #REF!
A55: Rommen | B55: =#REF! -> #REF! | C55: =#REF! -> #REF! | D55: =#REF! -> #REF! | E55: =#REF! -> #REF! | F55: =#REF! -> #REF! | G55: =#REF! -> #REF! | H55: =#REF! -> #REF! | I55: =#REF! -> #REF! | ... O55: =#REF! -> #REF! | P55: =SUM(B55:O55) -> #REF!
A56: Romsås | B56: =Romsås!#REF! -> #REF! | C56: =Romsås!#REF! -> #REF! | D56: =Romsås!#REF! -> #REF! | E56: =Romsås!#REF! -> #REF! | F56: =Romsås!#REF! -> #REF! | G56: =Romsås!#REF! -> #REF! | H56: =Romsås!#REF! -> #REF! | I56: =Romsås!#REF! -> #REF! | ... O56: =Romsås!#REF! -> #REF! | P56: =SUM(B56:O56) -> #REF!
A57: Skøyen | B57: =#REF! -> #REF! | C57: =#REF! -> #REF! | D57: =#REF! -> #REF! | E57: =#REF! -> #REF! | F57: =#REF! -> #REF! | G57: =#REF! -> #REF! | H57: =#REF! -> #REF! | I57: =#REF! -> #REF! | ... O57: =#REF! -> #REF! | P57: =SUM(B57:O57) -> #REF!
A58: Stovner | B58: =#REF! -> #REF! | C58: =#REF! -> #REF! | D58: =#REF! -> #REF! | E58: =#REF! -> #REF! | F58: =#REF! -> #REF! | G58: =#REF! -> #REF! | H58: =#REF! -> #REF! | I58: =#REF! -> #REF! | ... O58: =#REF! -> #REF! | P58: =SUM(B58:O58) -> #REF!
A59: Teglverket | B59: =#REF! -> #REF! | C59: =#REF! -> #REF! | D59: =#REF! -> #REF! | E59: =#REF! -> #REF! | F59: =#REF! -> #REF! | G59: =#REF! -> #REF! | H59: =#REF! -> #REF! | I59: =#REF! -> #REF! | ... O59: =#REF! -> #REF! | P59: =SUM(B59:O59) -> #REF!
A60: Tokerud | B60: =#REF! -> #REF! | C60: =#REF! -> #REF! | D60: =#REF! -> #REF! | E60: =#REF! -> #REF! | F60: =#REF! -> #REF! | G60: =#REF! -> #REF! | H60: =#REF! -> #REF! | I60: =#REF! -> #REF! | ... O60: =#REF! -> #REF! | P60: =SUM(B60:O60) -> #REF!
A61: Tøyenbadet idr.hall | B61: =#REF! -> #REF! | C61: =#REF! -> #REF! | D61: =#REF! -> #REF! | E61: =#REF! -> #REF! | F61: =#REF! -> #REF! | G61: =#REF! -> #REF! | H61: =#REF! -> #REF! | I61: =#REF! -> #REF! | ... O61: =#REF! -> #REF! | P61: =SUM(B61:O61) -> #REF!
A62: Ullern idrettspark | B62: =#REF! -> #REF! | C62: =#REF! -> #REF! | D62: =#REF! -> #REF! | E62: =#REF! -> #REF! | F62: =#REF! -> #REF! | G62: =#REF! -> #REF! | H62: =#REF! -> #REF! | I62: =#REF! -> #REF! | ... O62: =#REF! -> #REF! | P62: =SUM(B62:O62) -> #REF!
A63: Ullern vgs | B63: =#REF! -> #REF! | C63: =#REF! -> #REF! | D63: =#REF! -> #REF! | E63: =#REF! -> #REF! | F63: =#REF! -> #REF! | G63: =#REF! -> #REF! | H63: =#REF! -> #REF! | I63: =#REF! -> #REF! | ... O63: =#REF! -> #REF! | P63: =SUM(B63:O63) -> #REF!
A64: Vahl | B64: =#REF! -> #REF! | C64: =#REF! -> #REF! | D64: =#REF! -> #REF! | E64: =#REF! -> #REF! | F64: =#REF! -> #REF! | G64: =#REF! -> #REF! | H64: =#REF! -> #REF! | I64: =#REF! -> #REF! | ... O64: =#REF! -> #REF! | P64: =SUM(B64:O64) -> #REF!
A65: Veitvet | B65: =#REF! -> #REF! | C65: =#REF! -> #REF! | D65: =#REF! -> #REF! | E65: =#REF! -> #REF! | F65: =#REF! -> #REF! | G65: =#REF! -> #REF! | H65: =#REF! -> #REF! | I65: =#REF! -> #REF! | ... O65: =#REF! -> #REF! | P65: =SUM(B65:O65) -> #REF!
A66: Vestli | B66: =#REF! -> #REF! | C66: =#REF! -> #REF! | D66: =#REF! -> #REF! | E66: =#REF! -> #REF! | F66: =#REF! -> #REF! | G66: =#REF! -> #REF! | H66: =#REF! -> #REF! | I66: =#REF! -> #REF! | ... O66: =#REF! -> #REF! | P66: =SUM(B66:O66) -> #REF!
A67: Voksen | B67: =#REF! -> #REF! | C67: =#REF! -> #REF! | D67: =#REF! -> #REF! | E67: =#REF! -> #REF! | F67: =#REF! -> #REF! | G67: =#REF! -> #REF! | H67: =#REF! -> #REF! | I67: =#REF! -> #REF! | ... O67: =#REF! -> #REF! | P67: =SUM(B67:O67) -> #REF!
A68: Øraker | B68: =#REF! -> #REF! | C68: =#REF! -> #REF! | D68: =#REF! -> #REF! | E68: =#REF! -> #REF! | F68: =#REF! -> #REF! | G68: =#REF! -> #REF! | H68: =#REF! -> #REF! | I68: =#REF! -> #REF! | ... O68: =#REF! -> #REF! | P68: =SUM(B68:O68) -> #REF!
A69: Årvoll | B69: =Årvoll!#REF! -> #REF! | C69: =Årvoll!#REF! -> #REF! | D69: =Årvoll!#REF! -> #REF! | E69: =Årvoll!#REF! -> #REF! | F69: =Årvoll!#REF! -> #REF! | G69: =Årvoll!#REF! -> #REF! | H69: =Årvoll!#REF! -> #REF! | I69: =Årvoll!#REF! -> #REF! | ... O69: =Årvoll!#REF! -> #REF! | P69: =SUM(B69:O69) -> #REF!
A70: Sum store haller | B70: =SUM(B18:B69) -> #REF! | C70: =SUM(C18:C69) -> #REF! | D70: =SUM(D18:D69) -> #REF! | E70: =SUM(E18:E69) -> #REF! | F70: =SUM(F18:F69) -> #REF! | G70: =SUM(G18:G69) -> #REF! | H70: =SUM(H18:H69) -> #REF! | I70: =SUM(I18:I69) -> #REF! | ... O70: =SUM(O18:O69) -> #REF! | P70: =SUM(B70:O70) -> #REF!
A73: Tid totalt | B73: =B70+B16 -> #REF! | C73: =C70+C16 -> #REF! | D73: =D70+D16 -> #REF! | E73: =E70+E16 -> #REF! | F73: =F70+F16 -> #REF! | G73: =G70+G16 -> #REF! | H73: =H70+H16 -> #REF! | I73: =I70+I16 -> #REF! | ... O73: =O70+O16 -> #REF! | P73: =SUM(B73:O73) -> #REF!
A74: Tid normert | B74: ='Etter 21'!B103 -> #REF! | C74: ='Etter 21'!C103 -> #REF! | D74: ='Etter 21'!D103 -> #REF! | E74: ='Etter 21'!E103 -> #REF! | F74: ='Etter 21'!F103 -> #REF! | G74: ='Etter 21'!G103 -> #REF! | H74: ='Etter 21'!H103 -> #REF! | I74: ='Etter 21'!I103 -> #REF! | ... O74: ='Etter 21'!O103 -> #REF! | P74: =SUM(B74:O74) -> #REF!
A75: Andel fredag | B75: =B73/B74 -> #REF! | C75: =C73/C74 -> #REF! | D75: =D73/D74 -> #REF! | E75: =E73/E74 -> #REF! | F75: =F73/F74 -> #REF! | G75: =G73/G74 -> #REF! | H75: =H73/H74 -> #REF! | I75: =I73/I74 -> #REF! | ... P75: =P73/P74 -> #REF!
B80: =B2 -> Badminton | C80: =B75 -> #REF!
B81: =C2 -> Basket | C81: =C75 -> #REF!
B82: =D2 -> Cheerleading | C82: =D75 -> #REF!
B83: =E2 -> Dans | C83: =E75 -> #REF!
B84: =F2 -> Futsal | C84: =F75 -> #REF!
B85: =G2 -> Gym og turn | C85: =G75 -> #REF!
B86: =H2 -> Hockey | C86: =H75 -> #REF!
B87: =I2 -> Håndball | C87: =I75 -> #REF!
B88: =J2 -> Innebandy | C88: =J75 -> #REF!
B89: =K2 -> Roller Derby | C89: =K75 -> #REF!
B90: =L2 -> Ultimate Frisbee | C90: =L75 -> #REF!
B91: =M2 -> Volleyball | C91: =M75 -> #REF!
B92: =N2 -> Paraidrett | C92: =N75 -> #REF!
B93: =O2 -> Spesielle tiltak | C93: =O75 -> #REF!
B94: Totalt | C94: =P75 -> #REF!

Sheet Kjerne
B1: Oversikt haller
B2: Badminton | C2: Basket | D2: Cheerleading | E2: Dans | F2: Futsal | G2: Gym og turn | H2: Hockey | I2: Håndball | J2: Innebandy | K2: Roller Derby | L2: Ultimate Frisbee | M2: Volleyball | N2: Paraidrett | O2: Spesielle tiltak | P2: Sum
A3: Små haller
A4: Ammerud (32 x 20) | B4: =#REF! -> #REF! | C4: =#REF! -> #REF! | D4: =#REF! -> #REF! | E4: =#REF! -> #REF! | F4: =#REF! -> #REF! | G4: =#REF! -> #REF! | H4: =#REF! -> #REF! | I4: =#REF! -> #REF! | ... O4: =#REF! -> #REF! | P4: =SUM(B4:O4) -> #REF!
A5: Bestum (24 x 16) | B5: =#REF! -> #REF! | C5: =#REF! -> #REF! | D5: =#REF! -> #REF! | E5: =#REF! -> #REF! | F5: =#REF! -> #REF! | G5: =#REF! -> #REF! | H5: =#REF! -> #REF! | I5: =#REF! -> #REF! | ... O5: =#REF! -> #REF! | P5: =SUM(B5:O5) -> #REF!
A6: Brynseng (32 x 20) | B6: =#REF! -> #REF! | C6: =#REF! -> #REF! | D6: =#REF! -> #REF! | E6: =#REF! -> #REF! | F6: =#REF! -> #REF! | G6: =#REF! -> #REF! | H6: =#REF! -> #REF! | I6: =#REF! -> #REF! | ... O6: =#REF! -> #REF! | P6: =SUM(B6:O6) -> #REF!
A7: Frydenberg (24 x 16) | B7: =#REF! -> #REF! | C7: =#REF! -> #REF! | D7: =#REF! -> #REF! | E7: =#REF! -> #REF! | F7: =#REF! -> #REF! | G7: =#REF! -> #REF! | H7: =#REF! -> #REF! | I7: =#REF! -> #REF! | ... O7: =#REF! -> #REF! | P7: =SUM(B7:O7) -> #REF!
A8: Kastellet (24 x 16) | B8: =#REF! -> #REF! | C8: =#REF! -> #REF! | D8: =#REF! -> #REF! | E8: =#REF! -> #REF! | F8: =#REF! -> #REF! | G8: =#REF! -> #REF! | H8: =#REF! -> #REF! | I8: =#REF! -> #REF! | ... O8: =#REF! -> #REF! | P8: =SUM(B8:O8) -> #REF!
A9: Klemetsrud liten | B9: =#REF! -> #REF! | C9: =#REF! -> #REF! | D9: =#REF! -> #REF! | E9: =#REF! -> #REF! | F9: =#REF! -> #REF! | G9: =#REF! -> #REF! | H9: =#REF! -> #REF! | I9: =#REF! -> #REF! | ... O9: =#REF! -> #REF! | P9: =SUM(B9:O9) -> #REF!
A10: Majorstuen (32 x 20) | B10: =#REF! -> #REF! | C10: =#REF! -> #REF! | D10: =#REF! -> #REF! | E10: =#REF! -> #REF! | F10: =#REF! -> #REF! | G10: =#REF! -> #REF! | H10: =#REF! -> #REF! | I10: =#REF! -> #REF! | ... O10: =#REF! -> #REF! | P10: =SUM(B10:O10) -> #REF!
A11: Marienlyst (32 x 20) | B11: =#REF! -> #REF! | C11: =#REF! -> #REF! | D11: =#REF! -> #REF! | E11: =#REF! -> #REF! | F11: =#REF! -> #REF! | G11: =#REF! -> #REF! | H11: =#REF! -> #REF! | I11: =#REF! -> #REF! | ... O11: =#REF! -> #REF! | P11: =SUM(B11:O11) -> #REF!
A12: Tåsen (24 x 16) | B12: =#REF! -> #REF! | C12: =#REF! -> #REF! | D12: =#REF! -> #REF! | E12: =#REF! -> #REF! | F12: =#REF! -> #REF! | G12: =#REF! -> #REF! | H12: =#REF! -> #REF! | I12: =#REF! -> #REF! | ... O12: =#REF! -> #REF! | P12: =SUM(B12:O12) -> #REF!
A13: Uranienborg (32 x 20) | B13: =Uranienborg!#REF! -> #REF! | C13: =Uranienborg!#REF! -> #REF! | D13: =Uranienborg!#REF! -> #REF! | E13: =Uranienborg!#REF! -> #REF! | F13: =Uranienborg!#REF! -> #REF! | G13: =Uranienborg!#REF! -> #REF! | H13: =Uranienborg!#REF! -> #REF! | I13: =Uranienborg!#REF! -> #REF! | ... O13: =Uranienborg!#REF! -> #REF! | P13: =SUM(B13:O13) -> #REF!
A14: Valle Hovin (32 x 20) | B14: =#REF! -> #REF! | C14: =#REF! -> #REF! | D14: =#REF! -> #REF! | E14: =#REF! -> #REF! | F14: =#REF! -> #REF! | G14: =#REF! -> #REF! | H14: =#REF! -> #REF! | I14: =#REF! -> #REF! | ... O14: =#REF! -> #REF! | P14: =SUM(B14:O14) -> #REF!
A15: Vulkan (32 x 20) | B15: =#REF! -> #REF! | C15: =#REF! -> #REF! | D15: =#REF! -> #REF! | E15: =#REF! -> #REF! | F15: =#REF! -> #REF! | G15: =#REF! -> #REF! | H15: =#REF! -> #REF! | I15: =#REF! -> #REF! | ... O15: =#REF! -> #REF! | P15: =SUM(B15:O15) -> #REF!
A16: Sum små haller | B16: =SUM(B4:B15) -> #REF! | C16: =SUM(C4:C15) -> #REF! | D16: =SUM(D4:D15) -> #REF! | E16: =SUM(E4:E15) -> #REF! | F16: =SUM(F4:F15) -> #REF! | G16: =SUM(G4:G15) -> #REF! | H16: =SUM(H4:H15) -> #REF! | I16: =SUM(I4:I15) -> #REF! | ... O16: =SUM(O4:O15) -> #REF! | P16: =SUM(B16:O16) -> #REF!
A17: Store haller
A18: Apalløkka 1 | B18: =#REF! -> #REF! | C18: =#REF! -> #REF! | D18: =#REF! -> #REF! | E18: =#REF! -> #REF! | F18: =#REF! -> #REF! | G18: =#REF! -> #REF! | H18: =#REF! -> #REF! | I18: =#REF! -> #REF! | ... O18: =#REF! -> #REF! | P18: =SUM(B18:O18) -> #REF!
A19: Apalløkka 2 | B19: =#REF! -> #REF! | C19: =#REF! -> #REF! | D19: =#REF! -> #REF! | E19: =#REF! -> #REF! | F19: =#REF! -> #REF! | G19: =#REF! -> #REF! | H19: =#REF! -> #REF! | I19: =#REF! -> #REF! | ... O19: =#REF! -> #REF! | P19: =SUM(B19:O19) -> #REF!
A20: Bentsebrua | B20: =Bentsebrua!#REF! -> #REF! | C20: =Bentsebrua!#REF! -> #REF! | D20: =Bentsebrua!#REF! -> #REF! | E20: =Bentsebrua!#REF! -> #REF! | F20: =Bentsebrua!#REF! -> #REF! | G20: =Bentsebrua!#REF! -> #REF! | H20: =Bentsebrua!#REF! -> #REF! | I20: =Bentsebrua!#REF! -> #REF! | ... O20: =Bentsebrua!#REF! -> #REF! | P20: =SUM(B20:O20) -> #REF!
A21: Bjølsen match | B21: =#REF! -> #REF! | C21: =#REF! -> #REF! | D21: =#REF! -> #REF! | E21: =#REF! -> #REF! | F21: =#REF! -> #REF! | G21: =#REF! -> #REF! | H21: =#REF! -> #REF! | I21: =#REF! -> #REF! | ... O21: =#REF! -> #REF! | P21: =SUM(B21:O21) -> #REF!
A22: Bjørnholt 1 | B22: =#REF! -> #REF! | C22: =#REF! -> #REF! | D22: =#REF! -> #REF! | E22: =#REF! -> #REF! | F22: =#REF! -> #REF! | G22: =#REF! -> #REF! | H22: =#REF! -> #REF! | I22: =#REF! -> #REF! | ... O22: =#REF! -> #REF! | P22: =SUM(B22:O22) -> #REF!
A23: Bjørnholt 2 | B23: =#REF! -> #REF! | C23: =#REF! -> #REF! | D23: =#REF! -> #REF! | E23: =#REF! -> #REF! | F23: =#REF! -> #REF! | G23: =#REF! -> #REF! | H23: =#REF! -> #REF! | I23: =#REF! -> #REF! | ... O23: =#REF! -> #REF! | P23: =SUM(B23:O23) -> #REF!
A24: Bjørnholt 3 | B24: =#REF! -> #REF! | C24: =#REF! -> #REF! | D24: =#REF! -> #REF! | E24: =#REF! -> #REF! | F24: =#REF! -> #REF! | G24: =#REF! -> #REF! | H24: =#REF! -> #REF! | I24: =#REF! -> #REF! | ... O24: =#REF! -> #REF! | P24: =SUM(B24:O24) -> #REF!
A25: Bøler | B25: =#REF! -> #REF! | C25: =#REF! -> #REF! | D25: =#REF! -> #REF! | E25: =#REF! -> #REF! | F25: =#REF! -> #REF! | G25: =#REF! -> #REF! | H25: =#REF! -> #REF! | I25: =#REF! -> #REF! | ... O25: =#REF! -> #REF! | P25: =SUM(B25:O25) -> #REF!
A26: Dælenenga | B26: =Dælenenga!#REF! -> #REF! | C26: =Dælenenga!#REF! -> #REF! | D26: =Dælenenga!#REF! -> #REF! | E26: =Dælenenga!#REF! -> #REF! | F26: =Dælenenga!#REF! -> #REF! | G26: =Dælenenga!#REF! -> #REF! | H26: =Dælenenga!#REF! -> #REF! | I26: =Dælenenga!#REF! -> #REF! | ... O26: =Dælenenga!#REF! -> #REF! | P26: =SUM(B26:O26) -> #REF!
A27: Ekeberg skole | B27: =#REF! -> #REF! | C27: =#REF! -> #REF! | D27: =#REF! -> #REF! | E27: =#REF! -> #REF! | F27: =#REF! -> #REF! | G27: =#REF! -> #REF! | H27: =#REF! -> #REF! | I27: =#REF! -> #REF! | ... O27: =#REF! -> #REF! | P27: =SUM(B27:O27) -> #REF!
A28: Ellingsrud | B28: =#REF! -> #REF! | C28: =#REF! -> #REF! | D28: =#REF! -> #REF! | E28: =#REF! -> #REF! | F28: =#REF! -> #REF! | G28: =#REF! -> #REF! | H28: =#REF! -> #REF! | I28: =#REF! -> #REF! | ... O28: =#REF! -> #REF! | P28: =SUM(B28:O28) -> #REF!
A29: Engebråten | B29: =#REF! -> #REF! | C29: =#REF! -> #REF! | D29: =#REF! -> #REF! | E29: =#REF! -> #REF! | F29: =#REF! -> #REF! | G29: =#REF! -> #REF! | H29: =#REF! -> #REF! | I29: =#REF! -> #REF! | ... O29: =#REF! -> #REF! | P29: =SUM(B29:O29) -> #REF!
A30: Furuset | B30: =#REF! -> #REF! | C30: =#REF! -> #REF! | D30: =#REF! -> #REF! | E30: =#REF! -> #REF! | F30: =#REF! -> #REF! | G30: =#REF! -> #REF! | H30: =#REF! -> #REF! | I30: =#REF! -> #REF! | ... O30: =#REF! -> #REF! | P30: =SUM(B30:O30) -> #REF!
A31: F21 | B31: =#REF! -> #REF! | C31: =#REF! -> #REF! | D31: =#REF! -> #REF! | E31: =#REF! -> #REF! | F31: =#REF! -> #REF! | G31: =#REF! -> #REF! | H31: =#REF! -> #REF! | I31: =#REF! -> #REF! | ... O31: =#REF! -> #REF! | P31: =SUM(B31:O31) -> #REF!
A32: Grefsen | B32: =Grefsen!#REF! -> #REF! | C32: =Grefsen!#REF! -> #REF! | D32: =Grefsen!#REF! -> #REF! | E32: =Grefsen!#REF! -> #REF! | F32: =Grefsen!#REF! -> #REF! | G32: =Grefsen!#REF! -> #REF! | H32: =Grefsen!#REF! -> #REF! | I32: =Grefsen!#REF! -> #REF! | ... O32: =Grefsen!#REF! -> #REF! | P32: =SUM(B32:O32) -> #REF!
A33: Grorud | B33: =#REF! -> #REF! | C33: =#REF! -> #REF! | D33: =#REF! -> #REF! | E33: =#REF! -> #REF! | F33: =#REF! -> #REF! | G33: =#REF! -> #REF! | H33: =#REF! -> #REF! | I33: =#REF! -> #REF! | ... O33: =#REF! -> #REF! | P33: =SUM(B33:O33) -> #REF!
A34: Haugenstua | B34: =#REF! -> #REF! | C34: =#REF! -> #REF! | D34: =#REF! -> #REF! | E34: =#REF! -> #REF! | F34: =#REF! -> #REF! | G34: =#REF! -> #REF! | H34: =#REF! -> #REF! | I34: =#REF! -> #REF! | ... O34: =#REF! -> #REF! | P34: =SUM(B34:O34) -> #REF!
A35: Haugerud | B35: =#REF! -> #REF! | C35: =#REF! -> #REF! | D35: =#REF! -> #REF! | E35: =#REF! -> #REF! | F35: =#REF! -> #REF! | G35: =#REF! -> #REF! | H35: =#REF! -> #REF! | I35: =#REF! -> #REF! | ... O35: =#REF! -> #REF! | P35: =SUM(B35:O35) -> #REF!
A36: Holmlia | B36: =#REF! -> #REF! | C36: =#REF! -> #REF! | D36: =#REF! -> #REF! | E36: =#REF! -> #REF! | F36: =#REF! -> #REF! | G36: =#REF! -> #REF! | H36: =#REF! -> #REF! | I36: =#REF! -> #REF! | ... O36: =#REF! -> #REF! | P36: =SUM(B36:O36) -> #REF!
A37: Hovseter | B37: =#REF! -> #REF! | C37: =#REF! -> #REF! | D37: =#REF! -> #REF! | E37: =#REF! -> #REF! | F37: =#REF! -> #REF! | G37: =#REF! -> #REF! | H37: =#REF! -> #REF! | I37: =#REF! -> #REF! | ... O37: =#REF! -> #REF! | P37: =SUM(B37:O37) -> #REF!
A38: Høyenhall | B38: =Høyenhall!#REF! -> #REF! | C38: =Høyenhall!#REF! -> #REF! | D38: =Høyenhall!#REF! -> #REF! | E38: =Høyenhall!#REF! -> #REF! | F38: =Høyenhall!#REF! -> #REF! | G38: =Høyenhall!#REF! -> #REF! | H38: =Høyenhall!#REF! -> #REF! | I38: =Høyenhall!#REF! -> #REF! | ... O38: =Høyenhall!#REF! -> #REF! | P38: =SUM(B38:O38) -> #REF!
A39: Jordal | B39: =#REF! -> #REF! | C39: =#REF! -> #REF! | D39: =#REF! -> #REF! | E39: =#REF! -> #REF! | F39: =#REF! -> #REF! | G39: =#REF! -> #REF! | H39: =#REF! -> #REF! | I39: =#REF! -> #REF! | ... O39: =#REF! -> #REF! | P39: =SUM(B39:O39) -> #REF!
A40: Kjelsås | B40: =#REF! -> #REF! | C40: =#REF! -> #REF! | D40: =#REF! -> #REF! | E40: =#REF! -> #REF! | F40: =#REF! -> #REF! | G40: =#REF! -> #REF! | H40: =#REF! -> #REF! | I40: =#REF! -> #REF! | ... O40: =#REF! -> #REF! | P40: =SUM(B40:O40) -> #REF!
A41: Klemetsrud stor | B41: =#REF! -> #REF! | C41: =#REF! -> #REF! | D41: =#REF! -> #REF! | E41: =#REF! -> #REF! | F41: =#REF! -> #REF! | G41: =#REF! -> #REF! | H41: =#REF! -> #REF! | I41: =#REF! -> #REF! | ... O41: =#REF! -> #REF! | P41: =SUM(B41:O41) -> #REF!
A42: Korsvoll | B42: =#REF! -> #REF! | C42: =#REF! -> #REF! | D42: =#REF! -> #REF! | E42: =#REF! -> #REF! | F42: =#REF! -> #REF! | G42: =#REF! -> #REF! | H42: =#REF! -> #REF! | I42: =#REF! -> #REF! | ... O42: =#REF! -> #REF! | P42: =SUM(B42:O42) -> #REF!
A43: Kringsjå | B43: =#REF! -> #REF! | C43: =#REF! -> #REF! | D43: =#REF! -> #REF! | E43: =#REF! -> #REF! | F43: =#REF! -> #REF! | G43: =#REF! -> #REF! | H43: =#REF! -> #REF! | I43: =#REF! -> #REF! | ... O43: =#REF! -> #REF! | P43: =SUM(B43:O43) -> #REF!
A44: Lambertseter | B44: =#REF! -> #REF! | C44: =#REF! -> #REF! | D44: =#REF! -> #REF! | E44: =#REF! -> #REF! | F44: =#REF! -> #REF! | G44: =#REF! -> #REF! | H44: =#REF! -> #REF! | I44: =#REF! -> #REF! | ... O44: =#REF! -> #REF! | P44: =SUM(B44:O44) -> #REF!
A45: Leirskallen turn | B45: =Leirskallen!#REF! -> #REF! | C45: =Leirskallen!#REF! -> #REF! | D45: =Leirskallen!#REF! -> #REF! | E45: =Leirskallen!#REF! -> #REF! | F45: =Leirskallen!#REF! -> #REF! | G45: =Leirskallen!#REF! -> #REF! | H45: =Leirskallen!#REF! -> #REF! | I45: =Leirskallen!#REF! -> #REF! | ... O45: =Leirskallen!#REF! -> #REF! | P45: =SUM(B45:O45) -> #REF!
A46: Linderud | B46: =#REF! -> #REF! | C46: =#REF! -> #REF! | D46: =#REF! -> #REF! | E46: =#REF! -> #REF! | F46: =#REF! -> #REF! | G46: =#REF! -> #REF! | H46: =#REF! -> #REF! | I46: =#REF! -> #REF! | ... O46: =#REF! -> #REF! | P46: =SUM(B46:O46) -> #REF!
A47: Nordbyen idr.hall | B47: =#REF! -> #REF! | C47: =#REF! -> #REF! | D47: =#REF! -> #REF! | E47: =#REF! -> #REF! | F47: =#REF! -> #REF! | G47: =#REF! -> #REF! | H47: =#REF! -> #REF! | I47: =#REF! -> #REF! | ... O47: =#REF! -> #REF! | P47: =SUM(B47:O47) -> #REF!
A48: Nordbyen turn | B48: ='Nordbyen turn'!#REF! -> #REF! | C48: ='Nordbyen turn'!#REF! -> #REF! | D48: ='Nordbyen turn'!#REF! -> #REF! | E48: ='Nordbyen turn'!#REF! -> #REF! | F48: ='Nordbyen turn'!#REF! -> #REF! | G48: ='Nordbyen turn'!#REF! -> #REF! | H48: ='Nordbyen turn'!#REF! -> #REF! | I48: ='Nordbyen turn'!#REF! -> #REF! | ... O48: ='Nordbyen turn'!#REF! -> #REF! | P48: =SUM(B48:O48) -> #REF!
A49: Nydalen | B49: =#REF! -> #REF! | C49: =#REF! -> #REF! | D49: =#REF! -> #REF! | E49: =#REF! -> #REF! | F49: =#REF! -> #REF! | G49: =#REF! -> #REF! | H49: =#REF! -> #REF! | I49: =#REF! -> #REF! | ... O49: =#REF! -> #REF! | P49: =SUM(B49:O49) -> #REF!
A50: Oppsal 1 | B50: =#REF! -> #REF! | C50: =#REF! -> #REF! | D50: =#REF! -> #REF! | E50: =#REF! -> #REF! | F50: =#REF! -> #REF! | G50: =#REF! -> #REF! | H50: =#REF! -> #REF! | I50: =#REF! -> #REF! | ... O50: =#REF! -> #REF! | P50: =SUM(B50:O50) -> #REF!
A51: Oppsal 2 | B51: =#REF! -> #REF! | C51: =#REF! -> #REF! | D51: =#REF! -> #REF! | E51: =#REF! -> #REF! | F51: =#REF! -> #REF! | G51: =#REF! -> #REF! | H51: =#REF! -> #REF! | I51: =#REF! -> #REF! | ... O51: =#REF! -> #REF! | P51: =SUM(B51:O51) -> #REF!
A52: Oppsal 3 | B52: ='Oppsal 3'!#REF! -> #REF! | C52: ='Oppsal 3'!#REF! -> #REF! | D52: ='Oppsal 3'!#REF! -> #REF! | E52: ='Oppsal 3'!#REF! -> #REF! | F52: ='Oppsal 3'!#REF! -> #REF! | G52: ='Oppsal 3'!#REF! -> #REF! | H52: ='Oppsal 3'!#REF! -> #REF! | I52: ='Oppsal 3'!#REF! -> #REF! | ... O52: ='Oppsal 3'!#REF! -> #REF! | P52: =SUM(B52:O52) -> #REF!
A53: Oppsal 4 | B53: =#REF! -> #REF! | C53: =#REF! -> #REF! | D53: =#REF! -> #REF! | E53: =#REF! -> #REF! | F53: =#REF! -> #REF! | G53: =#REF! -> #REF! | H53: =#REF! -> #REF! | I53: =#REF! -> #REF! | ... O53: =#REF! -> #REF! | P53: =SUM(B53:O53) -> #REF!
A54: Persbråten | B54: =#REF! -> #REF! | C54: =#REF! -> #REF! | D54: =#REF! -> #REF! | E54: =#REF! -> #REF! | F54: =#REF! -> #REF! | G54: =#REF! -> #REF! | H54: =#REF! -> #REF! | I54: =#REF! -> #REF! | ... O54: =#REF! -> #REF! | P54: =SUM(B54:O54) -> #REF!
A55: Rommen | B55: =#REF! -> #REF! | C55: =#REF! -> #REF! | D55: =#REF! -> #REF! | E55: =#REF! -> #REF! | F55: =#REF! -> #REF! | G55: =#REF! -> #REF! | H55: =#REF! -> #REF! | I55: =#REF! -> #REF! | ... O55: =#REF! -> #REF! | P55: =SUM(B55:O55) -> #REF!
A56: Romsås | B56: =Romsås!#REF! -> #REF! | C56: =Romsås!#REF! -> #REF! | D56: =Romsås!#REF! -> #REF! | E56: =Romsås!#REF! -> #REF! | F56: =Romsås!#REF! -> #REF! | G56: =Romsås!#REF! -> #REF! | H56: =Romsås!#REF! -> #REF! | I56: =Romsås!#REF! -> #REF! | ... O56: =Romsås!#REF! -> #REF! | P56: =SUM(B56:O56) -> #REF!
A57: Skøyen | B57: =#REF! -> #REF! | C57: =#REF! -> #REF! | D57: =#REF! -> #REF! | E57: =#REF! -> #REF! | F57: =#REF! -> #REF! | G57: =#REF! -> #REF! | H57: =#REF! -> #REF! | I57: =#REF! -> #REF! | ... O57: =#REF! -> #REF! | P57: =SUM(B57:O57) -> #REF!
A58: Stovner | B58: =#REF! -> #REF! | C58: =#REF! -> #REF! | D58: =#REF! -> #REF! | E58: =#REF! -> #REF! | F58: =#REF! -> #REF! | G58: =#REF! -> #REF! | H58: =#REF! -> #REF! | I58: =#REF! -> #REF! | ... O58: =#REF! -> #REF! | P58: =SUM(B58:O58) -> #REF!
A59: Teglverket | B59: =#REF! -> #REF! | C59: =#REF! -> #REF! | D59: =#REF! -> #REF! | E59: =#REF! -> #REF! | F59: =#REF! -> #REF! | G59: =#REF! -> #REF! | H59: =#REF! -> #REF! | I59: =#REF! -> #REF! | ... O59: =#REF! -> #REF! | P59: =SUM(B59:O59) -> #REF!
A60: Tokerud | B60: =#REF! -> #REF! | C60: =#REF! -> #REF! | D60: =#REF! -> #REF! | E60: =#REF! -> #REF! | F60: =#REF! -> #REF! | G60: =#REF! -> #REF! | H60: =#REF! -> #REF! | I60: =#REF! -> #REF! | ... O60: =#REF! -> #REF! | P60: =SUM(B60:O60) -> #REF!
A61: Tøyenbadet idr.hall | B61: =#REF! -> #REF! | C61: =#REF! -> #REF! | D61: =#REF! -> #REF! | E61: =#REF! -> #REF! | F61: =#REF! -> #REF! | G61: =#REF! -> #REF! | H61: =#REF! -> #REF! | I61: =#REF! -> #REF! | ... O61: =#REF! -> #REF! | P61: =SUM(B61:O61) -> #REF!
A62: Ullern idrettspark | B62: =#REF! -> #REF! | C62: =#REF! -> #REF! | D62: =#REF! -> #REF! | E62: =#REF! -> #REF! | F62: =#REF! -> #REF! | G62: =#REF! -> #REF! | H62: =#REF! -> #REF! | I62: =#REF! -> #REF! | ... O62: =#REF! -> #REF! | P62: =SUM(B62:O62) -> #REF!
A63: Ullern vgs | B63: =#REF! -> #REF! | C63: =#REF! -> #REF! | D63: =#REF! -> #REF! | E63: =#REF! -> #REF! | F63: =#REF! -> #REF! | G63: =#REF! -> #REF! | H63: =#REF! -> #REF! | I63: =#REF! -> #REF! | ... O63: =#REF! -> #REF! | P63: =SUM(B63:O63) -> #REF!
A64: Vahl | B64: =#REF! -> #REF! | C64: =#REF! -> #REF! | D64: =#REF! -> #REF! | E64: =#REF! -> #REF! | F64: =#REF! -> #REF! | G64: =#REF! -> #REF! | H64: =#REF! -> #REF! | I64: =#REF! -> #REF! | ... O64: =#REF! -> #REF! | P64: =SUM(B64:O64) -> #REF!
A65: Veitvet | B65: =#REF! -> #REF! | C65: =#REF! -> #REF! | D65: =#REF! -> #REF! | E65: =#REF! -> #REF! | F65: =#REF! -> #REF! | G65: =#REF! -> #REF! | H65: =#REF! -> #REF! | I65: =#REF! -> #REF! | ... O65: =#REF! -> #REF! | P65: =SUM(B65:O65) -> #REF!
A66: Vestli | B66: =#REF! -> #REF! | C66: =#REF! -> #REF! | D66: =#REF! -> #REF! | E66: =#REF! -> #REF! | F66: =#REF! -> #REF! | G66: =#REF! -> #REF! | H66: =#REF! -> #REF! | I66: =#REF! -> #REF! | ... O66: =#REF! -> #REF! | P66: =SUM(B66:O66) -> #REF!
A67: Voksen | B67: =#REF! -> #REF! | C67: =#REF! -> #REF! | D67: =#REF! -> #REF! | E67: =#REF! -> #REF! | F67: =#REF! -> #REF! | G67: =#REF! -> #REF! | H67: =#REF! -> #REF! | I67: =#REF! -> #REF! | ... O67: =#REF! -> #REF! | P67: =SUM(B67:O67) -> #REF!
A68: Øraker | B68: =#REF! -> #REF! | C68: =#REF! -> #REF! | D68: =#REF! -> #REF! | E68: =#REF! -> #REF! | F68: =#REF! -> #REF! | G68: =#REF! -> #REF! | H68: =#REF! -> #REF! | I68: =#REF! -> #REF! | ... O68: =#REF! -> #REF! | P68: =SUM(B68:O68) -> #REF!
A69: Årvoll | B69: =Årvoll!#REF! -> #REF! | C69: =Årvoll!#REF! -> #REF! | D69: =Årvoll!#REF! -> #REF! | E69: =Årvoll!#REF! -> #REF! | F69: =Årvoll!#REF! -> #REF! | G69: =Årvoll!#REF! -> #REF! | H69: =Årvoll!#REF! -> #REF! | I69: =Årvoll!#REF! -> #REF! | ... O69: =Årvoll!#REF! -> #REF! | P69: =SUM(B69:O69) -> #REF!
A70: Sum store haller | B70: =SUM(B18:B69) -> #REF! | C70: =SUM(C18:C69) -> #REF! | D70: =SUM(D18:D69) -> #REF! | E70: =SUM(E18:E69) -> #REF! | F70: =SUM(F18:F69) -> #REF! | G70: =SUM(G18:G69) -> #REF! | H70: =SUM(H18:H69) -> #REF! | I70: =SUM(I18:I69) -> #REF! | ... O70: =SUM(O18:O69) -> #REF! | P70: =SUM(B70:O70) -> #REF!
A73: Tid totalt | B73: =B70+B16 -> #REF! | C73: =C70+C16 -> #REF! | D73: =D70+D16 -> #REF! | E73: =E70+E16 -> #REF! | F73: =F70+F16 -> #REF! | G73: =G70+G16 -> #REF! | H73: =H70+H16 -> #REF! | I73: =I70+I16 -> #REF! | ... O73: =O70+O16 -> #REF! | P73: =SUM(B73:O73) -> #REF!
A74: Tid normert | B74: ='Etter 21'!B103 -> #REF! | C74: ='Etter 21'!C103 -> #REF! | D74: ='Etter 21'!D103 -> #REF! | E74: ='Etter 21'!E103 -> #REF! | F74: ='Etter 21'!F103 -> #REF! | G74: ='Etter 21'!G103 -> #REF! | H74: ='Etter 21'!H103 -> #REF! | I74: ='Etter 21'!I103 -> #REF! | ... O74: ='Etter 21'!O103 -> #REF! | P74: =SUM(B74:O74) -> #REF!
A75: Andel fredag | B75: =B73/B74 -> #REF! | C75: =C73/C74 -> #REF! | D75: =D73/D74 -> #REF! | E75: =E73/E74 -> #REF! | F75: =F73/F74 -> #REF! | G75: =G73/G74 -> #REF! | H75: =H73/H74 -> #REF! | I75: =I73/I74 -> #REF! | ... P75: =P73/P74 -> #REF!
B80: =B2 -> Badminton | C80: =B75 -> #REF!
B81: =C2 -> Basket | C81: =C75 -> #REF!
B82: =D2 -> Cheerleading | C82: =D75 -> #REF!
B83: =E2 -> Dans | C83: =E75 -> #REF!
B84: =F2 -> Futsal | C84: =F75 -> #REF!
B85: =G2 -> Gym og turn | C85: =G75 -> #REF!
B86: =H2 -> Hockey | C86: =H75 -> #REF!
B87: =I2 -> Håndball | C87: =I75 -> #REF!
B88: =J2 -> Innebandy | C88: =J75 -> #REF!
B89: =K2 -> Roller Derby | C89: =K75 -> #REF!
B90: =L2 -> Ultimate Frisbee | C90: =L75 -> #REF!
B91: =M2 -> Volleyball | C91: =M75 -> #REF!
B92: =N2 -> Paraidrett | C92: =N75 -> #REF!
B93: =O2 -> Spesielle tiltak | C93: =O75 -> #REF!
B94: Totalt | C94: =P75 -> #REF!

Sheet Etter 21
B1: Oversikt haller
B2: Badminton | C2: Basket | D2: Cheerleading | E2: Dans | F2: Futsal | G2: Gym og turn | H2: Hockey | I2: Håndball | J2: Innebandy | K2: Roller Derby | L2: Ultimate Frisbee | M2: Volleyball | N2: Paraidrett | O2: Spesielle tiltak | P2: Sum
A3: Små haller
A4: Ammerud (32 x 20) | B4: =#REF! -> #REF! | C4: =#REF! -> #REF! | D4: =#REF! -> #REF! | E4: =#REF! -> #REF! | F4: =#REF! -> #REF! | G4: =#REF! -> #REF! | H4: =#REF! -> #REF! | I4: =#REF! -> #REF! | ... O4: =#REF! -> #REF! | P4: =SUM(B4:O4) -> #REF!
A5: Bestum (24 x 16) | B5: =#REF! -> #REF! | C5: =#REF! -> #REF! | D5: =#REF! -> #REF! | E5: =#REF! -> #REF! | F5: =#REF! -> #REF! | G5: =#REF! -> #REF! | H5: =#REF! -> #REF! | I5: =#REF! -> #REF! | ... O5: =#REF! -> #REF! | P5: =SUM(B5:O5) -> #REF!
A6: Brynseng (32 x 20) | B6: =#REF! -> #REF! | C6: =#REF! -> #REF! | D6: =#REF! -> #REF! | E6: =#REF! -> #REF! | F6: =#REF! -> #REF! | G6: =#REF! -> #REF! | H6: =#REF! -> #REF! | I6: =#REF! -> #REF! | ... O6: =#REF! -> #REF! | P6: =SUM(B6:O6) -> #REF!
A7: Frydenberg (24 x 16) | B7: =#REF! -> #REF! | C7: =#REF! -> #REF! | D7: =#REF! -> #REF! | E7: =#REF! -> #REF! | F7: =#REF! -> #REF! | G7: =#REF! -> #REF! | H7: =#REF! -> #REF! | I7: =#REF! -> #REF! | ... O7: =#REF! -> #REF! | P7: =SUM(B7:O7) -> #REF!
A8: Kastellet (24 x 16) | B8: =#REF! -> #REF! | C8: =#REF! -> #REF! | D8: =#REF! -> #REF! | E8: =#REF! -> #REF! | F8: =#REF! -> #REF! | G8: =#REF! -> #REF! | H8: =#REF! -> #REF! | I8: =#REF! -> #REF! | ... O8: =#REF! -> #REF! | P8: =SUM(B8:O8) -> #REF!
A9: Klemetsrud liten | B9: =#REF! -> #REF! | C9: =#REF! -> #REF! | D9: =#REF! -> #REF! | E9: =#REF! -> #REF! | F9: =#REF! -> #REF! | G9: =#REF! -> #REF! | H9: =#REF! -> #REF! | I9: =#REF! -> #REF! | ... O9: =#REF! -> #REF! | P9: =SUM(B9:O9) -> #REF!
A10: Majorstuen (32 x 20) | B10: =#REF! -> #REF! | C10: =#REF! -> #REF! | D10: =#REF! -> #REF! | E10: =#REF! -> #REF! | F10: =#REF! -> #REF! | G10: =#REF! -> #REF! | H10: =#REF! -> #REF! | I10: =#REF! -> #REF! | ... O10: =#REF! -> #REF! | P10: =SUM(B10:O10) -> #REF!
A11: Marienlyst (32 x 20) | B11: =#REF! -> #REF! | C11: =#REF! -> #REF! | D11: =#REF! -> #REF! | E11: =#REF! -> #REF! | F11: =#REF! -> #REF! | G11: =#REF! -> #REF! | H11: =#REF! -> #REF! | I11: =#REF! -> #REF! | ... O11: =#REF! -> #REF! | P11: =SUM(B11:O11) -> #REF!
A12: Tåsen (24 x 16) | B12: =#REF! -> #REF! | C12: =#REF! -> #REF! | D12: =#REF! -> #REF! | E12: =#REF! -> #REF! | F12: =#REF! -> #REF! | G12: =#REF! -> #REF! | H12: =#REF! -> #REF! | I12: =#REF! -> #REF! | ... O12: =#REF! -> #REF! | P12: =SUM(B12:O12) -> #REF!
A13: Uranienborg (32 x 20) | B13: =Uranienborg!#REF! -> #REF! | C13: =Uranienborg!#REF! -> #REF! | D13: =Uranienborg!#REF! -> #REF! | E13: =Uranienborg!#REF! -> #REF! | F13: =Uranienborg!#REF! -> #REF! | G13: =Uranienborg!#REF! -> #REF! | H13: =Uranienborg!#REF! -> #REF! | I13: =Uranienborg!#REF! -> #REF! | ... O13: =Uranienborg!#REF! -> #REF! | P13: =SUM(B13:O13) -> #REF!
A14: Valle Hovin (32 x 20) | B14: =#REF! -> #REF! | C14: =#REF! -> #REF! | D14: =#REF! -> #REF! | E14: =#REF! -> #REF! | F14: =#REF! -> #REF! | G14: =#REF! -> #REF! | H14: =#REF! -> #REF! | I14: =#REF! -> #REF! | ... O14: =#REF! -> #REF! | P14: =SUM(B14:O14) -> #REF!
A15: Vulkan (32 x 20) | B15: =#REF! -> #REF! | C15: =#REF! -> #REF! | D15: =#REF! -> #REF! | E15: =#REF! -> #REF! | F15: =#REF! -> #REF! | G15: =#REF! -> #REF! | H15: =#REF! -> #REF! | I15: =#REF! -> #REF! | ... O15: =#REF! -> #REF! | P15: =SUM(B15:O15) -> #REF!
A16: Sum små haller | B16: =SUM(B4:B15) -> #REF! | C16: =SUM(C4:C15) -> #REF! | D16: =SUM(D4:D15) -> #REF! | E16: =SUM(E4:E15) -> #REF! | F16: =SUM(F4:F15) -> #REF! | G16: =SUM(G4:G15) -> #REF! | H16: =SUM(H4:H15) -> #REF! | I16: =SUM(I4:I15) -> #REF! | ... O16: =SUM(O4:O15) -> #REF! | P16: =SUM(B16:O16) -> #REF!
A17: Store haller
A18: Apalløkka 1 | B18: =#REF! -> #REF! | C18: =#REF! -> #REF! | D18: =#REF! -> #REF! | E18: =#REF! -> #REF! | F18: =#REF! -> #REF! | G18: =#REF! -> #REF! | H18: =#REF! -> #REF! | I18: =#REF! -> #REF! | ... O18: =#REF! -> #REF! | P18: =SUM(B18:O18) -> #REF!
A19: Apalløkka 2 | B19: =#REF! -> #REF! | C19: =#REF! -> #REF! | D19: =#REF! -> #REF! | E19: =#REF! -> #REF! | F19: =#REF! -> #REF! | G19: =#REF! -> #REF! | H19: =#REF! -> #REF! | I19: =#REF! -> #REF! | ... O19: =#REF! -> #REF! | P19: =SUM(B19:O19) -> #REF!
A20: Bentsebrua | B20: =Bentsebrua!#REF! -> #REF! | C20: =Bentsebrua!#REF! -> #REF! | D20: =Bentsebrua!#REF! -> #REF! | E20: =Bentsebrua!#REF! -> #REF! | F20: =Bentsebrua!#REF! -> #REF! | G20: =Bentsebrua!#REF! -> #REF! | H20: =Bentsebrua!#REF! -> #REF! | I20: =Bentsebrua!#REF! -> #REF! | ... O20: =Bentsebrua!#REF! -> #REF! | P20: =SUM(B20:O20) -> #REF!
A21: Bjølsen match | B21: =#REF! -> #REF! | C21: =#REF! -> #REF! | D21: =#REF! -> #REF! | E21: =#REF! -> #REF! | F21: =#REF! -> #REF! | G21: =#REF! -> #REF! | H21: =#REF! -> #REF! | I21: =#REF! -> #REF! | ... O21: =#REF! -> #REF! | P21: =SUM(B21:O21) -> #REF!
A22: Bjørnholt 1 | B22: =#REF! -> #REF! | C22: =#REF! -> #REF! | D22: =#REF! -> #REF! | E22: =#REF! -> #REF! | F22: =#REF! -> #REF! | G22: =#REF! -> #REF! | H22: =#REF! -> #REF! | I22: =#REF! -> #REF! | ... O22: =#REF! -> #REF! | P22: =SUM(B22:O22) -> #REF!
A23: Bjørnholt 2 | B23: =#REF! -> #REF! | C23: =#REF! -> #REF! | D23: =#REF! -> #REF! | E23: =#REF! -> #REF! | F23: =#REF! -> #REF! | G23: =#REF! -> #REF! | H23: =#REF! -> #REF! | I23: =#REF! -> #REF! | ... O23: =#REF! -> #REF! | P23: =SUM(B23:O23) -> #REF!
A24: Bjørnholt 3 | B24: =#REF! -> #REF! | C24: =#REF! -> #REF! | D24: =#REF! -> #REF! | E24: =#REF! -> #REF! | F24: =#REF! -> #REF! | G24: =#REF! -> #REF! | H24: =#REF! -> #REF! | I24: =#REF! -> #REF! | ... O24: =#REF! -> #REF! | P24: =SUM(B24:O24) -> #REF!
A25: Bøler | B25: =#REF! -> #REF! | C25: =#REF! -> #REF! | D25: =#REF! -> #REF! | E25: =#REF! -> #REF! | F25: =#REF! -> #REF! | G25: =#REF! -> #REF! | H25: =#REF! -> #REF! | I25: =#REF! -> #REF! | ... O25: =#REF! -> #REF! | P25: =SUM(B25:O25) -> #REF!
A26: Dælenenga | B26: =Dælenenga!#REF! -> #REF! | C26: =Dælenenga!#REF! -> #REF! | D26: =Dælenenga!#REF! -> #REF! | E26: =Dælenenga!#REF! -> #REF! | F26: =Dælenenga!#REF! -> #REF! | G26: =Dælenenga!#REF! -> #REF! | H26: =Dælenenga!#REF! -> #REF! | I26: =Dælenenga!#REF! -> #REF! | ... O26: =Dælenenga!#REF! -> #REF! | P26: =SUM(B26:O26) -> #REF!
A27: Ekeberg skole | B27: =#REF! -> #REF! | C27: =#REF! -> #REF! | D27: =#REF! -> #REF! | E27: =#REF! -> #REF! | F27: =#REF! -> #REF! | G27: =#REF! -> #REF! | H27: =#REF! -> #REF! | I27: =#REF! -> #REF! | ... O27: =#REF! -> #REF! | P27: =SUM(B27:O27) -> #REF!
A28: Ellingsrud | B28: =#REF! -> #REF! | C28: =#REF! -> #REF! | D28: =#REF! -> #REF! | E28: =#REF! -> #REF! | F28: =#REF! -> #REF! | G28: =#REF! -> #REF! | H28: =#REF! -> #REF! | I28: =#REF! -> #REF! | ... O28: =#REF! -> #REF! | P28: =SUM(B28:O28) -> #REF!
A29: Engebråten | B29: =#REF! -> #REF! | C29: =#REF! -> #REF! | D29: =#REF! -> #REF! | E29: =#REF! -> #REF! | F29: =#REF! -> #REF! | G29: =#REF! -> #REF! | H29: =#REF! -> #REF! | I29: =#REF! -> #REF! | ... O29: =#REF! -> #REF! | P29: =SUM(B29:O29) -> #REF!
A30: Furuset | B30: =#REF! -> #REF! | C30: =#REF! -> #REF! | D30: =#REF! -> #REF! | E30: =#REF! -> #REF! | F30: =#REF! -> #REF! | G30: =#REF! -> #REF! | H30: =#REF! -> #REF! | I30: =#REF! -> #REF! | ... O30: =#REF! -> #REF! | P30: =SUM(B30:O30) -> #REF!
A31: F21 | B31: =#REF! -> #REF! | C31: =#REF! -> #REF! | D31: =#REF! -> #REF! | E31: =#REF! -> #REF! | F31: =#REF! -> #REF! | G31: =#REF! -> #REF! | H31: =#REF! -> #REF! | I31: =#REF! -> #REF! | ... O31: =#REF! -> #REF! | P31: =SUM(B31:O31) -> #REF!
A32: Grefsen | B32: =Grefsen!#REF! -> #REF! | C32: =Grefsen!#REF! -> #REF! | D32: =Grefsen!#REF! -> #REF! | E32: =Grefsen!#REF! -> #REF! | F32: =Grefsen!#REF! -> #REF! | G32: =Grefsen!#REF! -> #REF! | H32: =Grefsen!#REF! -> #REF! | I32: =Grefsen!#REF! -> #REF! | ... O32: =Grefsen!#REF! -> #REF! | P32: =SUM(B32:O32) -> #REF!
A33: Grorud | B33: =#REF! -> #REF! | C33: =#REF! -> #REF! | D33: =#REF! -> #REF! | E33: =#REF! -> #REF! | F33: =#REF! -> #REF! | G33: =#REF! -> #REF! | H33: =#REF! -> #REF! | I33: =#REF! -> #REF! | ... O33: =#REF! -> #REF! | P33: =SUM(B33:O33) -> #REF!
A34: Haugenstua | B34: =#REF! -> #REF! | C34: =#REF! -> #REF! | D34: =#REF! -> #REF! | E34: =#REF! -> #REF! | F34: =#REF! -> #REF! | G34: =#REF! -> #REF! | H34: =#REF! -> #REF! | I34: =#REF! -> #REF! | ... O34: =#REF! -> #REF! | P34: =SUM(B34:O34) -> #REF!
A35: Haugerud | B35: =#REF! -> #REF! | C35: =#REF! -> #REF! | D35: =#REF! -> #REF! | E35: =#REF! -> #REF! | F35: =#REF! -> #REF! | G35: =#REF! -> #REF! | H35: =#REF! -> #REF! | I35: =#REF! -> #REF! | ... O35: =#REF! -> #REF! | P35: =SUM(B35:O35) -> #REF!
A36: Holmlia | B36: =#REF! -> #REF! | C36: =#REF! -> #REF! | D36: =#REF! -> #REF! | E36: =#REF! -> #REF! | F36: =#REF! -> #REF! | G36: =#REF! -> #REF! | H36: =#REF! -> #REF! | I36: =#REF! -> #REF! | ... O36: =#REF! -> #REF! | P36: =SUM(B36:O36) -> #REF!
A37: Hovseter | B37: =#REF! -> #REF! | C37: =#REF! -> #REF! | D37: =#REF! -> #REF! | E37: =#REF! -> #REF! | F37: =#REF! -> #REF! | G37: =#REF! -> #REF! | H37: =#REF! -> #REF! | I37: =#REF! -> #REF! | ... O37: =#REF! -> #REF! | P37: =SUM(B37:O37) -> #REF!
A38: Høyenhall | B38: =Høyenhall!#REF! -> #REF! | C38: =Høyenhall!#REF! -> #REF! | D38: =Høyenhall!#REF! -> #REF! | E38: =Høyenhall!#REF! -> #REF! | F38: =Høyenhall!#REF! -> #REF! | G38: =Høyenhall!#REF! -> #REF! | H38: =Høyenhall!#REF! -> #REF! | I38: =Høyenhall!#REF! -> #REF! | ... O38: =Høyenhall!#REF! -> #REF! | P38: =SUM(B38:O38) -> #REF!
A39: Jordal | B39: =#REF! -> #REF! | C39: =#REF! -> #REF! | D39: =#REF! -> #REF! | E39: =#REF! -> #REF! | F39: =#REF! -> #REF! | G39: =#REF! -> #REF! | H39: =#REF! -> #REF! | I39: =#REF! -> #REF! | ... O39: =#REF! -> #REF! | P39: =SUM(B39:O39) -> #REF!
A40: Kjelsås | B40: =#REF! -> #REF! | C40: =#REF! -> #REF! | D40: =#REF! -> #REF! | E40: =#REF! -> #REF! | F40: =#REF! -> #REF! | G40: =#REF! -> #REF! | H40: =#REF! -> #REF! | I40: =#REF! -> #REF! | ... O40: =#REF! -> #REF! | P40: =SUM(B40:O40) -> #REF!
A41: Klemetsrud stor | B41: =#REF! -> #REF! | C41: =#REF! -> #REF! | D41: =#REF! -> #REF! | E41: =#REF! -> #REF! | F41: =#REF! -> #REF! | G41: =#REF! -> #REF! | H41: =#REF! -> #REF! | I41: =#REF! -> #REF! | ... O41: =#REF! -> #REF! | P41: =SUM(B41:O41) -> #REF!
A42: Korsvoll | B42: =#REF! -> #REF! | C42: =#REF! -> #REF! | D42: =#REF! -> #REF! | E42: =#REF! -> #REF! | F42: =#REF! -> #REF! | G42: =#REF! -> #REF! | H42: =#REF! -> #REF! | I42: =#REF! -> #REF! | ... O42: =#REF! -> #REF! | P42: =SUM(B42:O42) -> #REF!
A43: Kringsjå | B43: =#REF! -> #REF! | C43: =#REF! -> #REF! | D43: =#REF! -> #REF! | E43: =#REF! -> #REF! | F43: =#REF! -> #REF! | G43: =#REF! -> #REF! | H43: =#REF! -> #REF! | I43: =#REF! -> #REF! | ... O43: =#REF! -> #REF! | P43: =SUM(B43:O43) -> #REF!
A44: Lambertseter | B44: =#REF! -> #REF! | C44: =#REF! -> #REF! | D44: =#REF! -> #REF! | E44: =#REF! -> #REF! | F44: =#REF! -> #REF! | G44: =#REF! -> #REF! | H44: =#REF! -> #REF! | I44: =#REF! -> #REF! | ... O44: =#REF! -> #REF! | P44: =SUM(B44:O44) -> #REF!
A45: Leirskallen turn | B45: =Leirskallen!#REF! -> #REF! | C45: =Leirskallen!#REF! -> #REF! | D45: =Leirskallen!#REF! -> #REF! | E45: =Leirskallen!#REF! -> #REF! | F45: =Leirskallen!#REF! -> #REF! | G45: =Leirskallen!#REF! -> #REF! | H45: =Leirskallen!#REF! -> #REF! | I45: =Leirskallen!#REF! -> #REF! | ... O45: =Leirskallen!#REF! -> #REF! | P45: =SUM(B45:O45) -> #REF!
A46: Linderud | B46: =#REF! -> #REF! | C46: =#REF! -> #REF! | D46: =#REF! -> #REF! | E46: =#REF! -> #REF! | F46: =#REF! -> #REF! | G46: =#REF! -> #REF! | H46: =#REF! -> #REF! | I46: =#REF! -> #REF! | ... O46: =#REF! -> #REF! | P46: =SUM(B46:O46) -> #REF!
A47: Nordbyen idr.hall | B47: =#REF! -> #REF! | C47: =#REF! -> #REF! | D47: =#REF! -> #REF! | E47: =#REF! -> #REF! | F47: =#REF! -> #REF! | G47: =#REF! -> #REF! | H47: =#REF! -> #REF! | I47: =#REF! -> #REF! | ... O47: =#REF! -> #REF! | P47: =SUM(B47:O47) -> #REF!
A48: Nordbyen turn | B48: ='Nordbyen turn'!#REF! -> #REF! | C48: ='Nordbyen turn'!#REF! -> #REF! | D48: ='Nordbyen turn'!#REF! -> #REF! | E48: ='Nordbyen turn'!#REF! -> #REF! | F48: ='Nordbyen turn'!#REF! -> #REF! | G48: ='Nordbyen turn'!#REF! -> #REF! | H48: ='Nordbyen turn'!#REF! -> #REF! | I48: ='Nordbyen turn'!#REF! -> #REF! | ... O48: ='Nordbyen turn'!#REF! -> #REF! | P48: =SUM(B48:O48) -> #REF!
A49: Nydalen | B49: =#REF! -> #REF! | C49: =#REF! -> #REF! | D49: =#REF! -> #REF! | E49: =#REF! -> #REF! | F49: =#REF! -> #REF! | G49: =#REF! -> #REF! | H49: =#REF! -> #REF! | I49: =#REF! -> #REF! | ... O49: =#REF! -> #REF! | P49: =SUM(B49:O49) -> #REF!
A50: Oppsal 1 | B50: =#REF! -> #REF! | C50: =#REF! -> #REF! | D50: =#REF! -> #REF! | E50: =#REF! -> #REF! | F50: =#REF! -> #REF! | G50: =#REF! -> #REF! | H50: =#REF! -> #REF! | I50: =#REF! -> #REF! | ... O50: =#REF! -> #REF! | P50: =SUM(B50:O50) -> #REF!
A51: Oppsal 2 | B51: =#REF! -> #REF! | C51: =#REF! -> #REF! | D51: =#REF! -> #REF! | E51: =#REF! -> #REF! | F51: =#REF! -> #REF! | G51: =#REF! -> #REF! | H51: =#REF! -> #REF! | I51: =#REF! -> #REF! | ... O51: =#REF! -> #REF! | P51: =SUM(B51:O51) -> #REF!
A52: Oppsal 3 | B52: ='Oppsal 3'!#REF! -> #REF! | C52: ='Oppsal 3'!#REF! -> #REF! | D52: ='Oppsal 3'!#REF! -> #REF! | E52: ='Oppsal 3'!#REF! -> #REF! | F52: ='Oppsal 3'!#REF! -> #REF! | G52: ='Oppsal 3'!#REF! -> #REF! | H52: ='Oppsal 3'!#REF! -> #REF! | I52: ='Oppsal 3'!#REF! -> #REF! | ... O52: ='Oppsal 3'!#REF! -> #REF! | P52: =SUM(B52:O52) -> #REF!
A53: Oppsal 4 | B53: =#REF! -> #REF! | C53: =#REF! -> #REF! | D53: =#REF! -> #REF! | E53: =#REF! -> #REF! | F53: =#REF! -> #REF! | G53: =#REF! -> #REF! | H53: =#REF! -> #REF! | I53: =#REF! -> #REF! | ... O53: =#REF! -> #REF! | P53: =SUM(B53:O53) -> #REF!
A54: Persbråten | B54: =#REF! -> #REF! | C54: =#REF! -> #REF! | D54: =#REF! -> #REF! | E54: =#REF! -> #REF! | F54: =#REF! -> #REF! | G54: =#REF! -> #REF! | H54: =#REF! -> #REF! | I54: =#REF! -> #REF! | ... O54: =#REF! -> #REF! | P54: =SUM(B54:O54) -> #REF!
A55: Rommen | B55: =#REF! -> #REF! | C55: =#REF! -> #REF! | D55: =#REF! -> #REF! | E55: =#REF! -> #REF! | F55: =#REF! -> #REF! | G55: =#REF! -> #REF! | H55: =#REF! -> #REF! | I55: =#REF! -> #REF! | ... O55: =#REF! -> #REF! | P55: =SUM(B55:O55) -> #REF!
A56: Romsås | B56: =Romsås!#REF! -> #REF! | C56: =Romsås!#REF! -> #REF! | D56: =Romsås!#REF! -> #REF! | E56: =Romsås!#REF! -> #REF! | F56: =Romsås!#REF! -> #REF! | G56: =Romsås!#REF! -> #REF! | H56: =Romsås!#REF! -> #REF! | I56: =Romsås!#REF! -> #REF! | ... O56: =Romsås!#REF! -> #REF! | P56: =SUM(B56:O56) -> #REF!
A57: Skøyen | B57: =#REF! -> #REF! | C57: =#REF! -> #REF! | D57: =#REF! -> #REF! | E57: =#REF! -> #REF! | F57: =#REF! -> #REF! | G57: =#REF! -> #REF! | H57: =#REF! -> #REF! | I57: =#REF! -> #REF! | ... O57: =#REF! -> #REF! | P57: =SUM(B57:O57) -> #REF!
A58: Stovner | B58: =#REF! -> #REF! | C58: =#REF! -> #REF! | D58: =#REF! -> #REF! | E58: =#REF! -> #REF! | F58: =#REF! -> #REF! | G58: =#REF! -> #REF! | H58: =#REF! -> #REF! | I58: =#REF! -> #REF! | ... O58: =#REF! -> #REF! | P58: =SUM(B58:O58) -> #REF!
A59: Teglverket | B59: =#REF! -> #REF! | C59: =#REF! -> #REF! | D59: =#REF! -> #REF! | E59: =#REF! -> #REF! | F59: =#REF! -> #REF! | G59: =#REF! -> #REF! | H59: =#REF! -> #REF! | I59: =#REF! -> #REF! | ... O59: =#REF! -> #REF! | P59: =SUM(B59:O59) -> #REF!
A60: Tokerud | B60: =#REF! -> #REF! | C60: =#REF! -> #REF! | D60: =#REF! -> #REF! | E60: =#REF! -> #REF! | F60: =#REF! -> #REF! | G60: =#REF! -> #REF! | H60: =#REF! -> #REF! | I60: =#REF! -> #REF! | ... O60: =#REF! -> #REF! | P60: =SUM(B60:O60) -> #REF!
A61: Tøyenbadet idr.hall | B61: =#REF! -> #REF! | C61: =#REF! -> #REF! | D61: =#REF! -> #REF! | E61: =#REF! -> #REF! | F61: =#REF! -> #REF! | G61: =#REF! -> #REF! | H61: =#REF! -> #REF! | I61: =#REF! -> #REF! | ... O61: =#REF! -> #REF! | P61: =SUM(B61:O61) -> #REF!
A62: Ullern idrettspark | B62: =#REF! -> #REF! | C62: =#REF! -> #REF! | D62: =#REF! -> #REF! | E62: =#REF! -> #REF! | F62: =#REF! -> #REF! | G62: =#REF! -> #REF! | H62: =#REF! -> #REF! | I62: =#REF! -> #REF! | ... O62: =#REF! -> #REF! | P62: =SUM(B62:O62) -> #REF!
A63: Ullern vgs | B63: =#REF! -> #REF! | C63: =#REF! -> #REF! | D63: =#REF! -> #REF! | E63: =#REF! -> #REF! | F63: =#REF! -> #REF! | G63: =#REF! -> #REF! | H63: =#REF! -> #REF! | I63: =#REF! -> #REF! | ... O63: =#REF! -> #REF! | P63: =SUM(B63:O63) -> #REF!
A64: Vahl | B64: =#REF! -> #REF! | C64: =#REF! -> #REF! | D64: =#REF! -> #REF! | E64: =#REF! -> #REF! | F64: =#REF! -> #REF! | G64: =#REF! -> #REF! | H64: =#REF! -> #REF! | I64: =#REF! -> #REF! | ... O64: =#REF! -> #REF! | P64: =SUM(B64:O64) -> #REF!
A65: Veitvet | B65: =#REF! -> #REF! | C65: =#REF! -> #REF! | D65: =#REF! -> #REF! | E65: =#REF! -> #REF! | F65: =#REF! -> #REF! | G65: =#REF! -> #REF! | H65: =#REF! -> #REF! | I65: =#REF! -> #REF! | ... O65: =#REF! -> #REF! | P65: =SUM(B65:O65) -> #REF!
A66: Vestli | B66: =#REF! -> #REF! | C66: =#REF! -> #REF! | D66: =#REF! -> #REF! | E66: =#REF! -> #REF! | F66: =#REF! -> #REF! | G66: =#REF! -> #REF! | H66: =#REF! -> #REF! | I66: =#REF! -> #REF! | ... O66: =#REF! -> #REF! | P66: =SUM(B66:O66) -> #REF!
A67: Voksen | B67: =#REF! -> #REF! | C67: =#REF! -> #REF! | D67: =#REF! -> #REF! | E67: =#REF! -> #REF! | F67: =#REF! -> #REF! | G67: =#REF! -> #REF! | H67: =#REF! -> #REF! | I67: =#REF! -> #REF! | ... O67: =#REF! -> #REF! | P67: =SUM(B67:O67) -> #REF!
A68: Øraker | B68: =#REF! -> #REF! | C68: =#REF! -> #REF! | D68: =#REF! -> #REF! | E68: =#REF! -> #REF! | F68: =#REF! -> #REF! | G68: =#REF! -> #REF! | H68: =#REF! -> #REF! | I68: =#REF! -> #REF! | ... O68: =#REF! -> #REF! | P68: =SUM(B68:O68) -> #REF!
A69: Årvoll | B69: =Årvoll!#REF! -> #REF! | C69: =Årvoll!#REF! -> #REF! | D69: =Årvoll!#REF! -> #REF! | E69: =Årvoll!#REF! -> #REF! | F69: =Årvoll!#REF! -> #REF! | G69: =Årvoll!#REF! -> #REF! | H69: =Årvoll!#REF! -> #REF! | I69: =Årvoll!#REF! -> #REF! | ... O69: =Årvoll!#REF! -> #REF! | P69: =SUM(B69:O69) -> #REF!
A70: Sum store haller | B70: =SUM(B18:B69) -> #REF! | C70: =SUM(C18:C69) -> #REF! | D70: =SUM(D18:D69) -> #REF! | E70: =SUM(E18:E69) -> #REF! | F70: =SUM(F18:F69) -> #REF! | G70: =SUM(G18:G69) -> #REF! | H70: =SUM(H18:H69) -> #REF! | I70: =SUM(I18:I69) -> #REF! | ... O70: =SUM(O18:O69) -> #REF! | P70: =SUM(B70:O70) -> #REF!
A73: Tid totalt | B73: =B70+B16 -> #REF! | C73: =C70+C16 -> #REF! | D73: =D70+D16 -> #REF! | E73: =E70+E16 -> #REF! | F73: =F70+F16 -> #REF! | G73: =G70+G16 -> #REF! | H73: =H70+H16 -> #REF! | I73: =I70+I16 -> #REF! | ... O73: =O70+O16 -> #REF! | P73: =SUM(B73:O73) -> #REF!
A74: Tid normert | B74: ='Etter 21'!B103 -> #REF! | C74: ='Etter 21'!C103 -> #REF! | D74: ='Etter 21'!D103 -> #REF! | E74: ='Etter 21'!E103 -> #REF! | F74: ='Etter 21'!F103 -> #REF! | G74: ='Etter 21'!G103 -> #REF! | H74: ='Etter 21'!H103 -> #REF! | I74: ='Etter 21'!I103 -> #REF! | ... O74: ='Etter 21'!O103 -> #REF! | P74: =SUM(B74:O74) -> #REF!
A75: Andel fredag | B75: =B73/B74 -> #REF! | C75: =C73/C74 -> #REF! | D75: =D73/D74 -> #REF! | E75: =E73/E74 -> #REF! | F75: =F73/F74 -> #REF! | G75: =G73/G74 -> #REF! | H75: =H73/H74 -> #REF! | I75: =I73/I74 -> #REF! | ... P75: =P73/P74 -> #REF!
B80: =B2 -> Badminton | C80: =B75 -> #REF!
B81: =C2 -> Basket | C81: =C75 -> #REF!
B82: =D2 -> Cheerleading | C82: =D75 -> #REF!
B83: =E2 -> Dans | C83: =E75 -> #REF!
B84: =F2 -> Futsal | C84: =F75 -> #REF!
B85: =G2 -> Gym og turn | C85: =G75 -> #REF!
B86: =H2 -> Hockey | C86: =H75 -> #REF!
B87: =I2 -> Håndball | C87: =I75 -> #REF!
B88: =J2 -> Innebandy | C88: =J75 -> #REF!
B89: =K2 -> Roller Derby | C89: =K75 -> #REF!
B90: =L2 -> Ultimate Frisbee | C90: =L75 -> #REF!
B91: =M2 -> Volleyball | C91: =M75 -> #REF!
B92: =N2 -> Paraidrett | C92: =N75 -> #REF!
B93: =O2 -> Spesielle tiltak | C93: =O75 -> #REF!
B94: Totalt | C94: =P75 -> #REF!
B98: Badminton | C98: Basket | D98: Cheerleading | E98: Dans | F98: Futsal | G98: Gym og turn | H98: Hockey | I98: Håndball | J98: Innebandy | K98: Roller Derby | L98: Ultimate Frisbee | M98: Volleyball | N98: Paraidrett | O98: Spesielle tiltak | P98: Sum
A99: 16.00 til 17.00 | B99: ='16 til 17'!B73 -> #REF! | C99: ='16 til 17'!C73 -> #REF! | D99: ='16 til 17'!D73 -> #REF! | E99: ='16 til 17'!E73 -> #REF! | F99: ='16 til 17'!F73 -> #REF! | G99: ='16 til 17'!G73 -> #REF! | H99: ='16 til 17'!H73 -> #REF! | I99: ='16 til 17'!I73 -> #REF! | ... O99: ='16 til 17'!O73 -> #REF! | P99: =SUM(B99:O99) -> #REF!
A100: Kjernetid | B100: =Kjerne!B73 -> #REF! | C100: =Kjerne!C73 -> #REF! | D100: =Kjerne!D73 -> #REF! | E100: =Kjerne!E73 -> #REF! | F100: =Kjerne!F73 -> #REF! | G100: =Kjerne!G73 -> #REF! | H100: =Kjerne!H73 -> #REF! | I100: =Kjerne!I73 -> #REF! | ... O100: =Kjerne!O73 -> #REF! | P100: =SUM(B100:O100) -> #REF!
A101: Etter 21.00 | B101: =B73 -> #REF! | C101: =C73 -> #REF! | D101: =D73 -> #REF! | E101: =E73 -> #REF! | F101: =F73 -> #REF! | G101: =G73 -> #REF! | H101: =H73 -> #REF! | I101: =I73 -> #REF! | ... O101: =O73 -> #REF! | P101: =SUM(B101:O101) -> #REF!
A102: Fredag | B102: =Fredag!B73 -> #REF! | C102: =Fredag!C73 -> #REF! | D102: =Fredag!D73 -> #REF! | E102: =Fredag!E73 -> #REF! | F102: =Fredag!F73 -> #REF! | G102: =Fredag!G73 -> #REF! | H102: =Fredag!H73 -> #REF! | I102: =Fredag!I73 -> #REF! | ... O102: =Fredag!O73 -> #REF! | P102: =SUM(B102:O102) -> #REF!
B103: =SUM(B99:B102) -> #REF! | C103: =SUM(C99:C102) -> #REF! | D103: =SUM(D99:D102) -> #REF! | E103: =SUM(E99:E102) -> #REF! | F103: =SUM(F99:F102) -> #REF! | G103: =SUM(G99:G102) -> #REF! | H103: =SUM(H99:H102) -> #REF! | I103: =SUM(I99:I102) -> #REF! | ... P103: =SUM(P99:P102) -> #REF!
B104: =IF(B103=#REF!+#REF!,"RIKTIG","FEIL") -> #REF! | C104: =IF(C103=#REF!+#REF!,"RIKTIG","FEIL") -> #REF! | D104: =IF(D103=#REF!+#REF!,"RIKTIG","FEIL") -> #REF! | E104: =IF(E103=#REF!+#REF!,"RIKTIG","FEIL") -> #REF! | F104: =IF(F103=#REF!+#REF!,"RIKTIG","FEIL") -> #REF! | G104: =IF(G103=#REF!+#REF!,"RIKTIG","FEIL") -> #REF! | H104: =IF(H103=#REF!+#REF!,"RIKTIG","FEIL") -> #REF! | I104: =IF(I103=#REF!+#REF!,"RIKTIG","FEIL") -> #REF! | ... O104: =IF(O103=#REF!+#REF!,"RIKTIG","FEIL") -> #REF!

Sheet Fredag
B1: Oversikt haller
B2: Badminton | C2: Basket | D2: Cheerleading | E2: Dans | F2: Futsal | G2: Gym og turn | H2: Hockey | I2: Håndball | J2: Innebandy | K2: Roller Derby | L2: Ultimate Frisbee | M2: Volleyball | N2: Paraidrett | O2: Spesielle tiltak | P2: Sum
A3: Små haller
A4: Ammerud (32 x 20) | B4: =#REF! -> #REF! | C4: =#REF! -> #REF! | D4: =#REF! -> #REF! | E4: =#REF! -> #REF! | F4: =#REF! -> #REF! | G4: =#REF! -> #REF! | H4: =#REF! -> #REF! | I4: =#REF! -> #REF! | ... O4: =#REF! -> #REF! | P4: =SUM(B4:O4) -> #REF!
A5: Bestum (24 x 16) | B5: =#REF! -> #REF! | C5: =#REF! -> #REF! | D5: =#REF! -> #REF! | E5: =#REF! -> #REF! | F5: =#REF! -> #REF! | G5: =#REF! -> #REF! | H5: =#REF! -> #REF! | I5: =#REF! -> #REF! | ... O5: =#REF! -> #REF! | P5: =SUM(B5:O5) -> #REF!
A6: Brynseng (32 x 20) | B6: =#REF! -> #REF! | C6: =#REF! -> #REF! | D6: =#REF! -> #REF! | E6: =#REF! -> #REF! | F6: =#REF! -> #REF! | G6: =#REF! -> #REF! | H6: =#REF! -> #REF! | I6: =#REF! -> #REF! | ... O6: =#REF! -> #REF! | P6: =SUM(B6:O6) -> #REF!
A7: Frydenberg (24 x 16) | B7: =#REF! -> #REF! | C7: =#REF! -> #REF! | D7: =#REF! -> #REF! | E7: =#REF! -> #REF! | F7: =#REF! -> #REF! | G7: =#REF! -> #REF! | H7: =#REF! -> #REF! | I7: =#REF! -> #REF! | ... O7: =#REF! -> #REF! | P7: =SUM(B7:O7) -> #REF!
A8: Kastellet (24 x 16) | B8: =#REF! -> #REF! | C8: =#REF! -> #REF! | D8: =#REF! -> #REF! | E8: =#REF! -> #REF! | F8: =#REF! -> #REF! | G8: =#REF! -> #REF! | H8: =#REF! -> #REF! | I8: =#REF! -> #REF! | ... O8: =#REF! -> #REF! | P8: =SUM(B8:O8) -> #REF!
A9: Klemetsrud liten | B9: =#REF! -> #REF! | C9: =#REF! -> #REF! | D9: =#REF! -> #REF! | E9: =#REF! -> #REF! | F9: =#REF! -> #REF! | G9: =#REF! -> #REF! | H9: =#REF! -> #REF! | I9: =#REF! -> #REF! | ... O9: =#REF! -> #REF! | P9: =SUM(B9:O9) -> #REF!
A10: Majorstuen (32 x 20) | B10: =#REF! -> #REF! | C10: =#REF! -> #REF! | D10: =#REF! -> #REF! | E10: =#REF! -> #REF! | F10: =#REF! -> #REF! | G10: =#REF! -> #REF! | H10: =#REF! -> #REF! | I10: =#REF! -> #REF! | ... O10: =#REF! -> #REF! | P10: =SUM(B10:O10) -> #REF!
A11: Marienlyst (32 x 20) | B11: =#REF! -> #REF! | C11: =#REF! -> #REF! | D11: =#REF! -> #REF! | E11: =#REF! -> #REF! | F11: =#REF! -> #REF! | G11: =#REF! -> #REF! | H11: =#REF! -> #REF! | I11: =#REF! -> #REF! | ... O11: =#REF! -> #REF! | P11: =SUM(B11:O11) -> #REF!
A12: Tåsen (24 x 16) | B12: =#REF! -> #REF! | C12: =#REF! -> #REF! | D12: =#REF! -> #REF! | E12: =#REF! -> #REF! | F12: =#REF! -> #REF! | G12: =#REF! -> #REF! | H12: =#REF! -> #REF! | I12: =#REF! -> #REF! | ... O12: =#REF! -> #REF! | P12: =SUM(B12:O12) -> #REF!
A13: Uranienborg (32 x 20) | B13: =Uranienborg!#REF! -> #REF! | C13: =Uranienborg!#REF! -> #REF! | D13: =Uranienborg!#REF! -> #REF! | E13: =Uranienborg!#REF! -> #REF! | F13: =Uranienborg!#REF! -> #REF! | G13: =Uranienborg!#REF! -> #REF! | H13: =Uranienborg!#REF! -> #REF! | I13: =Uranienborg!#REF! -> #REF! | ... O13: =Uranienborg!#REF! -> #REF! | P13: =SUM(B13:O13) -> #REF!
A14: Valle Hovin (32 x 20) | B14: =#REF! -> #REF! | C14: =#REF! -> #REF! | D14: =#REF! -> #REF! | E14: =#REF! -> #REF! | F14: =#REF! -> #REF! | G14: =#REF! -> #REF! | H14: =#REF! -> #REF! | I14: =#REF! -> #REF! | ... O14: =#REF! -> #REF! | P14: =SUM(B14:O14) -> #REF!
A15: Vulkan (32 x 20) | B15: =#REF! -> #REF! | C15: =#REF! -> #REF! | D15: =#REF! -> #REF! | E15: =#REF! -> #REF! | F15: =#REF! -> #REF! | G15: =#REF! -> #REF! | H15: =#REF! -> #REF! | I15: =#REF! -> #REF! | ... O15: =#REF! -> #REF! | P15: =SUM(B15:O15) -> #REF!
A16: Sum små haller | B16: =SUM(B4:B15) -> #REF! | C16: =SUM(C4:C15) -> #REF! | D16: =SUM(D4:D15) -> #REF! | E16: =SUM(E4:E15) -> #REF! | F16: =SUM(F4:F15) -> #REF! | G16: =SUM(G4:G15) -> #REF! | H16: =SUM(H4:H15) -> #REF! | I16: =SUM(I4:I15) -> #REF! | ... O16: =SUM(O4:O15) -> #REF! | P16: =SUM(B16:O16) -> #REF!
A17: Store haller
A18: Apalløkka 1 | B18: =#REF! -> #REF! | C18: =#REF! -> #REF! | D18: =#REF! -> #REF! | E18: =#REF! -> #REF! | F18: =#REF! -> #REF! | G18: =#REF! -> #REF! | H18: =#REF! -> #REF! | I18: =#REF! -> #REF! | ... O18: =#REF! -> #REF! | P18: =SUM(B18:O18) -> #REF!
A19: Apalløkka 2 | B19: =#REF! -> #REF! | C19: =#REF! -> #REF! | D19: =#REF! -> #REF! | E19: =#REF! -> #REF! | F19: =#REF! -> #REF! | G19: =#REF! -> #REF! | H19: =#REF! -> #REF! | I19: =#REF! -> #REF! | ... O19: =#REF! -> #REF! | P19: =SUM(B19:O19) -> #REF!
A20: Bentsebrua | B20: =Bentsebrua!#REF! -> #REF! | C20: =Bentsebrua!#REF! -> #REF! | D20: =Bentsebrua!#REF! -> #REF! | E20: =Bentsebrua!#REF! -> #REF! | F20: =Bentsebrua!#REF! -> #REF! | G20: =Bentsebrua!#REF! -> #REF! | H20: =Bentsebrua!#REF! -> #REF! | I20: =Bentsebrua!#REF! -> #REF! | ... O20: =Bentsebrua!#REF! -> #REF! | P20: =SUM(B20:O20) -> #REF!
A21: Bjølsen match | B21: =#REF! -> #REF! | C21: =#REF! -> #REF! | D21: =#REF! -> #REF! | E21: =#REF! -> #REF! | F21: =#REF! -> #REF! | G21: =#REF! -> #REF! | H21: =#REF! -> #REF! | I21: =#REF! -> #REF! | ... O21: =#REF! -> #REF! | P21: =SUM(B21:O21) -> #REF!
A22: Bjørnholt 1 | B22: =#REF! -> #REF! | C22: =#REF! -> #REF! | D22: =#REF! -> #REF! | E22: =#REF! -> #REF! | F22: =#REF! -> #REF! | G22: =#REF! -> #REF! | H22: =#REF! -> #REF! | I22: =#REF! -> #REF! | ... O22: =#REF! -> #REF! | P22: =SUM(B22:O22) -> #REF!
A23: Bjørnholt 2 | B23: =#REF! -> #REF! | C23: =#REF! -> #REF! | D23: =#REF! -> #REF! | E23: =#REF! -> #REF! | F23: =#REF! -> #REF! | G23: =#REF! -> #REF! | H23: =#REF! -> #REF! | I23: =#REF! -> #REF! | ... O23: =#REF! -> #REF! | P23: =SUM(B23:O23) -> #REF!
A24: Bjørnholt 3 | B24: =#REF! -> #REF! | C24: =#REF! -> #REF! | D24: =#REF! -> #REF! | E24: =#REF! -> #REF! | F24: =#REF! -> #REF! | G24: =#REF! -> #REF! | H24: =#REF! -> #REF! | I24: =#REF! -> #REF! | ... O24: =#REF! -> #REF! | P24: =SUM(B24:O24) -> #REF!
A25: Bøler | B25: =#REF! -> #REF! | C25: =#REF! -> #REF! | D25: =#REF! -> #REF! | E25: =#REF! -> #REF! | F25: =#REF! -> #REF! | G25: =#REF! -> #REF! | H25: =#REF! -> #REF! | I25: =#REF! -> #REF! | ... O25: =#REF! -> #REF! | P25: =SUM(B25:O25) -> #REF!
A26: Dælenenga | B26: =Dælenenga!#REF! -> #REF! | C26: =Dælenenga!#REF! -> #REF! | D26: =Dælenenga!#REF! -> #REF! | E26: =Dælenenga!#REF! -> #REF! | F26: =Dælenenga!#REF! -> #REF! | G26: =Dælenenga!#REF! -> #REF! | H26: =Dælenenga!#REF! -> #REF! | I26: =Dælenenga!#REF! -> #REF! | ... O26: =Dælenenga!#REF! -> #REF! | P26: =SUM(B26:O26) -> #REF!
A27: Ekeberg skole | B27: =#REF! -> #REF! | C27: =#REF! -> #REF! | D27: =#REF! -> #REF! | E27: =#REF! -> #REF! | F27: =#REF! -> #REF! | G27: =#REF! -> #REF! | H27: =#REF! -> #REF! | I27: =#REF! -> #REF! | ... O27: =#REF! -> #REF! | P27: =SUM(B27:O27) -> #REF!
A28: Ellingsrud | B28: =#REF! -> #REF! | C28: =#REF! -> #REF! | D28: =#REF! -> #REF! | E28: =#REF! -> #REF! | F28: =#REF! -> #REF! | G28: =#REF! -> #REF! | H28: =#REF! -> #REF! | I28: =#REF! -> #REF! | ... O28: =#REF! -> #REF! | P28: =SUM(B28:O28) -> #REF!
A29: Engebråten | B29: =#REF! -> #REF! | C29: =#REF! -> #REF! | D29: =#REF! -> #REF! | E29: =#REF! -> #REF! | F29: =#REF! -> #REF! | G29: =#REF! -> #REF! | H29: =#REF! -> #REF! | I29: =#REF! -> #REF! | ... O29: =#REF! -> #REF! | P29: =SUM(B29:O29) -> #REF!
A30: Furuset | B30: =#REF! -> #REF! | C30: =#REF! -> #REF! | D30: =#REF! -> #REF! | E30: =#REF! -> #REF! | F30: =#REF! -> #REF! | G30: =#REF! -> #REF! | H30: =#REF! -> #REF! | I30: =#REF! -> #REF! | ... O30: =#REF! -> #REF! | P30: =SUM(B30:O30) -> #REF!
A31: F21 | B31: =#REF! -> #REF! | C31: =#REF! -> #REF! | D31: =#REF! -> #REF! | E31: =#REF! -> #REF! | F31: =#REF! -> #REF! | G31: =#REF! -> #REF! | H31: =#REF! -> #REF! | I31: =#REF! -> #REF! | ... O31: =#REF! -> #REF! | P31: =SUM(B31:O31) -> #REF!
A32: Grefsen | B32: =Grefsen!#REF! -> #REF! | C32: =Grefsen!#REF! -> #REF! | D32: =Grefsen!#REF! -> #REF! | E32: =Grefsen!#REF! -> #REF! | F32: =Grefsen!#REF! -> #REF! | G32: =Grefsen!#REF! -> #REF! | H32: =Grefsen!#REF! -> #REF! | I32: =Grefsen!#REF! -> #REF! | ... O32: =Grefsen!#REF! -> #REF! | P32: =SUM(B32:O32) -> #REF!
A33: Grorud | B33: =#REF! -> #REF! | C33: =#REF! -> #REF! | D33: =#REF! -> #REF! | E33: =#REF! -> #REF! | F33: =#REF! -> #REF! | G33: =#REF! -> #REF! | H33: =#REF! -> #REF! | I33: =#REF! -> #REF! | ... O33: =#REF! -> #REF! | P33: =SUM(B33:O33) -> #REF!
A34: Haugenstua | B34: =#REF! -> #REF! | C34: =#REF! -> #REF! | D34: =#REF! -> #REF! | E34: =#REF! -> #REF! | F34: =#REF! -> #REF! | G34: =#REF! -> #REF! | H34: =#REF! -> #REF! | I34: =#REF! -> #REF! | ... O34: =#REF! -> #REF! | P34: =SUM(B34:O34) -> #REF!
A35: Haugerud | B35: =#REF! -> #REF! | C35: =#REF! -> #REF! | D35: =#REF! -> #REF! | E35: =#REF! -> #REF! | F35: =#REF! -> #REF! | G35: =#REF! -> #REF! | H35: =#REF! -> #REF! | I35: =#REF! -> #REF! | ... O35: =#REF! -> #REF! | P35: =SUM(B35:O35) -> #REF!
A36: Holmlia | B36: =#REF! -> #REF! | C36: =#REF! -> #REF! | D36: =#REF! -> #REF! | E36: =#REF! -> #REF! | F36: =#REF! -> #REF! | G36: =#REF! -> #REF! | H36: =#REF! -> #REF! | I36: =#REF! -> #REF! | ... O36: =#REF! -> #REF! | P36: =SUM(B36:O36) -> #REF!
A37: Hovseter | B37: =#REF! -> #REF! | C37: =#REF! -> #REF! | D37: =#REF! -> #REF! | E37: =#REF! -> #REF! | F37: =#REF! -> #REF! | G37: =#REF! -> #REF! | H37: =#REF! -> #REF! | I37: =#REF! -> #REF! | ... O37: =#REF! -> #REF! | P37: =SUM(B37:O37) -> #REF!
A38: Høyenhall | B38: =Høyenhall!#REF! -> #REF! | C38: =Høyenhall!#REF! -> #REF! | D38: =Høyenhall!#REF! -> #REF! | E38: =Høyenhall!#REF! -> #REF! | F38: =Høyenhall!#REF! -> #REF! | G38: =Høyenhall!#REF! -> #REF! | H38: =Høyenhall!#REF! -> #REF! | I38: =Høyenhall!#REF! -> #REF! | ... O38: =Høyenhall!#REF! -> #REF! | P38: =SUM(B38:O38) -> #REF!
A39: Jordal | B39: =#REF! -> #REF! | C39: =#REF! -> #REF! | D39: =#REF! -> #REF! | E39: =#REF! -> #REF! | F39: =#REF! -> #REF! | G39: =#REF! -> #REF! | H39: =#REF! -> #REF! | I39: =#REF! -> #REF! | ... O39: =#REF! -> #REF! | P39: =SUM(B39:O39) -> #REF!
A40: Kjelsås | B40: =#REF! -> #REF! | C40: =#REF! -> #REF! | D40: =#REF! -> #REF! | E40: =#REF! -> #REF! | F40: =#REF! -> #REF! | G40: =#REF! -> #REF! | H40: =#REF! -> #REF! | I40: =#REF! -> #REF! | ... O40: =#REF! -> #REF! | P40: =SUM(B40:O40) -> #REF!
A41: Klemetsrud stor | B41: =#REF! -> #REF! | C41: =#REF! -> #REF! | D41: =#REF! -> #REF! | E41: =#REF! -> #REF! | F41: =#REF! -> #REF! | G41: =#REF! -> #REF! | H41: =#REF! -> #REF! | I41: =#REF! -> #REF! | ... O41: =#REF! -> #REF! | P41: =SUM(B41:O41) -> #REF!
A42: Korsvoll | B42: =#REF! -> #REF! | C42: =#REF! -> #REF! | D42: =#REF! -> #REF! | E42: =#REF! -> #REF! | F42: =#REF! -> #REF! | G42: =#REF! -> #REF! | H42: =#REF! -> #REF! | I42: =#REF! -> #REF! | ... O42: =#REF! -> #REF! | P42: =SUM(B42:O42) -> #REF!
A43: Kringsjå | B43: =#REF! -> #REF! | C43: =#REF! -> #REF! | D43: =#REF! -> #REF! | E43: =#REF! -> #REF! | F43: =#REF! -> #REF! | G43: =#REF! -> #REF! | H43: =#REF! -> #REF! | I43: =#REF! -> #REF! | ... O43: =#REF! -> #REF! | P43: =SUM(B43:O43) -> #REF!
A44: Lambertseter | B44: =#REF! -> #REF! | C44: =#REF! -> #REF! | D44: =#REF! -> #REF! | E44: =#REF! -> #REF! | F44: =#REF! -> #REF! | G44: =#REF! -> #REF! | H44: =#REF! -> #REF! | I44: =#REF! -> #REF! | ... O44: =#REF! -> #REF! | P44: =SUM(B44:O44) -> #REF!
A45: Leirskallen turn | B45: =Leirskallen!#REF! -> #REF! | C45: =Leirskallen!#REF! -> #REF! | D45: =Leirskallen!#REF! -> #REF! | E45: =Leirskallen!#REF! -> #REF! | F45: =Leirskallen!#REF! -> #REF! | G45: =Leirskallen!#REF! -> #REF! | H45: =Leirskallen!#REF! -> #REF! | I45: =Leirskallen!#REF! -> #REF! | ... O45: =Leirskallen!#REF! -> #REF! | P45: =SUM(B45:O45) -> #REF!
A46: Linderud | B46: =#REF! -> #REF! | C46: =#REF! -> #REF! | D46: =#REF! -> #REF! | E46: =#REF! -> #REF! | F46: =#REF! -> #REF! | G46: =#REF! -> #REF! | H46: =#REF! -> #REF! | I46: =#REF! -> #REF! | ... O46: =#REF! -> #REF! | P46: =SUM(B46:O46) -> #REF!
A47: Nordbyen idr.hall | B47: =#REF! -> #REF! | C47: =#REF! -> #REF! | D47: =#REF! -> #REF! | E47: =#REF! -> #REF! | F47: =#REF! -> #REF! | G47: =#REF! -> #REF! | H47: =#REF! -> #REF! | I47: =#REF! -> #REF! | ... O47: =#REF! -> #REF! | P47: =SUM(B47:O47) -> #REF!
A48: Nordbyen turn | B48: ='Nordbyen turn'!#REF! -> #REF! | C48: ='Nordbyen turn'!#REF! -> #REF! | D48: ='Nordbyen turn'!#REF! -> #REF! | E48: ='Nordbyen turn'!#REF! -> #REF! | F48: ='Nordbyen turn'!#REF! -> #REF! | G48: ='Nordbyen turn'!#REF! -> #REF! | H48: ='Nordbyen turn'!#REF! -> #REF! | I48: ='Nordbyen turn'!#REF! -> #REF! | ... O48: ='Nordbyen turn'!#REF! -> #REF! | P48: =SUM(B48:O48) -> #REF!
A49: Nydalen | B49: =#REF! -> #REF! | C49: =#REF! -> #REF! | D49: =#REF! -> #REF! | E49: =#REF! -> #REF! | F49: =#REF! -> #REF! | G49: =#REF! -> #REF! | H49: =#REF! -> #REF! | I49: =#REF! -> #REF! | ... O49: =#REF! -> #REF! | P49: =SUM(B49:O49) -> #REF!
A50: Oppsal 1 | B50: =#REF! -> #REF! | C50: =#REF! -> #REF! | D50: =#REF! -> #REF! | E50: =#REF! -> #REF! | F50: =#REF! -> #REF! | G50: =#REF! -> #REF! | H50: =#REF! -> #REF! | I50: =#REF! -> #REF! | ... O50: =#REF! -> #REF! | P50: =SUM(B50:O50) -> #REF!
A51: Oppsal 2 | B51: =#REF! -> #REF! | C51: =#REF! -> #REF! | D51: =#REF! -> #REF! | E51: =#REF! -> #REF! | F51: =#REF! -> #REF! | G51: =#REF! -> #REF! | H51: =#REF! -> #REF! | I51: =#REF! -> #REF! | ... O51: =#REF! -> #REF! | P51: =SUM(B51:O51) -> #REF!
A52: Oppsal 3 | B52: ='Oppsal 3'!#REF! -> #REF! | C52: ='Oppsal 3'!#REF! -> #REF! | D52: ='Oppsal 3'!#REF! -> #REF! | E52: ='Oppsal 3'!#REF! -> #REF! | F52: ='Oppsal 3'!#REF! -> #REF! | G52: ='Oppsal 3'!#REF! -> #REF! | H52: ='Oppsal 3'!#REF! -> #REF! | I52: ='Oppsal 3'!#REF! -> #REF! | ... O52: ='Oppsal 3'!#REF! -> #REF! | P52: =SUM(B52:O52) -> #REF!
A53: Oppsal 4 | B53: =#REF! -> #REF! | C53: =#REF! -> #REF! | D53: =#REF! -> #REF! | E53: =#REF! -> #REF! | F53: =#REF! -> #REF! | G53: =#REF! -> #REF! | H53: =#REF! -> #REF! | I53: =#REF! -> #REF! | ... O53: =#REF! -> #REF! | P53: =SUM(B53:O53) -> #REF!
A54: Persbråten | B54: =#REF! -> #REF! | C54: =#REF! -> #REF! | D54: =#REF! -> #REF! | E54: =#REF! -> #REF! | F54: =#REF! -> #REF! | G54: =#REF! -> #REF! | H54: =#REF! -> #REF! | I54: =#REF! -> #REF! | ... O54: =#REF! -> #REF! | P54: =SUM(B54:O54) -> #REF!
A55: Rommen | B55: =#REF! -> #REF! | C55: =#REF! -> #REF! | D55: =#REF! -> #REF! | E55: =#REF! -> #REF! | F55: =#REF! -> #REF! | G55: =#REF! -> #REF! | H55: =#REF! -> #REF! | I55: =#REF! -> #REF! | ... O55: =#REF! -> #REF! | P55: =SUM(B55:O55) -> #REF!
A56: Romsås | B56: =Romsås!#REF! -> #REF! | C56: =Romsås!#REF! -> #REF! | D56: =Romsås!#REF! -> #REF! | E56: =Romsås!#REF! -> #REF! | F56: =Romsås!#REF! -> #REF! | G56: =Romsås!#REF! -> #REF! | H56: =Romsås!#REF! -> #REF! | I56: =Romsås!#REF! -> #REF! | ... O56: =Romsås!#REF! -> #REF! | P56: =SUM(B56:O56) -> #REF!
A57: Skøyen | B57: =#REF! -> #REF! | C57: =#REF! -> #REF! | D57: =#REF! -> #REF! | E57: =#REF! -> #REF! | F57: =#REF! -> #REF! | G57: =#REF! -> #REF! | H57: =#REF! -> #REF! | I57: =#REF! -> #REF! | ... O57: =#REF! -> #REF! | P57: =SUM(B57:O57) -> #REF!
A58: Stovner | B58: =#REF! -> #REF! | C58: =#REF! -> #REF! | D58: =#REF! -> #REF! | E58: =#REF! -> #REF! | F58: =#REF! -> #REF! | G58: =#REF! -> #REF! | H58: =#REF! -> #REF! | I58: =#REF! -> #REF! | ... O58: =#REF! -> #REF! | P58: =SUM(B58:O58) -> #REF!
A59: Teglverket | B59: =#REF! -> #REF! | C59: =#REF! -> #REF! | D59: =#REF! -> #REF! | E59: =#REF! -> #REF! | F59: =#REF! -> #REF! | G59: =#REF! -> #REF! | H59: =#REF! -> #REF! | I59: =#REF! -> #REF! | ... O59: =#REF! -> #REF! | P59: =SUM(B59:O59) -> #REF!
A60: Tokerud | B60: =#REF! -> #REF! | C60: =#REF! -> #REF! | D60: =#REF! -> #REF! | E60: =#REF! -> #REF! | F60: =#REF! -> #REF! | G60: =#REF! -> #REF! | H60: =#REF! -> #REF! | I60: =#REF! -> #REF! | ... O60: =#REF! -> #REF! | P60: =SUM(B60:O60) -> #REF!
A61: Tøyenbadet idr.hall | B61: =#REF! -> #REF! | C61: =#REF! -> #REF! | D61: =#REF! -> #REF! | E61: =#REF! -> #REF! | F61: =#REF! -> #REF! | G61: =#REF! -> #REF! | H61: =#REF! -> #REF! | I61: =#REF! -> #REF! | ... O61: =#REF! -> #REF! | P61: =SUM(B61:O61) -> #REF!
A62: Ullern idrettspark | B62: =#REF! -> #REF! | C62: =#REF! -> #REF! | D62: =#REF! -> #REF! | E62: =#REF! -> #REF! | F62: =#REF! -> #REF! | G62: =#REF! -> #REF! | H62: =#REF! -> #REF! | I62: =#REF! -> #REF! | ... O62: =#REF! -> #REF! | P62: =SUM(B62:O62) -> #REF!
A63: Ullern vgs | B63: =#REF! -> #REF! | C63: =#REF! -> #REF! | D63: =#REF! -> #REF! | E63: =#REF! -> #REF! | F63: =#REF! -> #REF! | G63: =#REF! -> #REF! | H63: =#REF! -> #REF! | I63: =#REF! -> #REF! | ... O63: =#REF! -> #REF! | P63: =SUM(B63:O63) -> #REF!
A64: Vahl | B64: =#REF! -> #REF! | C64: =#REF! -> #REF! | D64: =#REF! -> #REF! | E64: =#REF! -> #REF! | F64: =#REF! -> #REF! | G64: =#REF! -> #REF! | H64: =#REF! -> #REF! | I64: =#REF! -> #REF! | ... O64: =#REF! -> #REF! | P64: =SUM(B64:O64) -> #REF!
A65: Veitvet | B65: =#REF! -> #REF! | C65: =#REF! -> #REF! | D65: =#REF! -> #REF! | E65: =#REF! -> #REF! | F65: =#REF! -> #REF! | G65: =#REF! -> #REF! | H65: =#REF! -> #REF! | I65: =#REF! -> #REF! | ... O65: =#REF! -> #REF! | P65: =SUM(B65:O65) -> #REF!
A66: Vestli | B66: =#REF! -> #REF! | C66: =#REF! -> #REF! | D66: =#REF! -> #REF! | E66: =#REF! -> #REF! | F66: =#REF! -> #REF! | G66: =#REF! -> #REF! | H66: =#REF! -> #REF! | I66: =#REF! -> #REF! | ... O66: =#REF! -> #REF! | P66: =SUM(B66:O66) -> #REF!
A67: Voksen | B67: =#REF! -> #REF! | C67: =#REF! -> #REF! | D67: =#REF! -> #REF! | E67: =#REF! -> #REF! | F67: =#REF! -> #REF! | G67: =#REF! -> #REF! | H67: =#REF! -> #REF! | I67: =#REF! -> #REF! | ... O67: =#REF! -> #REF! | P67: =SUM(B67:O67) -> #REF!
A68: Øraker | B68: =#REF! -> #REF! | C68: =#REF! -> #REF! | D68: =#REF! -> #REF! | E68: =#REF! -> #REF! | F68: =#REF! -> #REF! | G68: =#REF! -> #REF! | H68: =#REF! -> #REF! | I68: =#REF! -> #REF! | ... O68: =#REF! -> #REF! | P68: =SUM(B68:O68) -> #REF!
A69: Årvoll | B69: =Årvoll!#REF! -> #REF! | C69: =Årvoll!#REF! -> #REF! | D69: =Årvoll!#REF! -> #REF! | E69: =Årvoll!#REF! -> #REF! | F69: =Årvoll!#REF! -> #REF! | G69: =Årvoll!#REF! -> #REF! | H69: =Årvoll!#REF! -> #REF! | I69: =Årvoll!#REF! -> #REF! | ... O69: =Årvoll!#REF! -> #REF! | P69: =SUM(B69:O69) -> #REF!
A70: Sum store haller | B70: =SUM(B18:B69) -> #REF! | C70: =SUM(C18:C69) -> #REF! | D70: =SUM(D18:D69) -> #REF! | E70: =SUM(E18:E69) -> #REF! | F70: =SUM(F18:F69) -> #REF! | G70: =SUM(G18:G69) -> #REF! | H70: =SUM(H18:H69) -> #REF! | I70: =SUM(I18:I69) -> #REF! | ... O70: =SUM(O18:O69) -> #REF! | P70: =SUM(B70:O70) -> #REF!
A73: Tid totalt | B73: =B70+B16 -> #REF! | C73: =C70+C16 -> #REF! | D73: =D70+D16 -> #REF! | E73: =E70+E16 -> #REF! | F73: =F70+F16 -> #REF! | G73: =G70+G16 -> #REF! | H73: =H70+H16 -> #REF! | I73: =I70+I16 -> #REF! | ... O73: =O70+O16 -> #REF! | P73: =SUM(B73:O73) -> #REF!
A74: Tid normert | B74: ='Etter 21'!B103 -> #REF! | C74: ='Etter 21'!C103 -> #REF! | D74: ='Etter 21'!D103 -> #REF! | E74: ='Etter 21'!E103 -> #REF! | F74: ='Etter 21'!F103 -> #REF! | G74: ='Etter 21'!G103 -> #REF! | H74: ='Etter 21'!H103 -> #REF! | I74: ='Etter 21'!I103 -> #REF! | ... O74: ='Etter 21'!O103 -> #REF! | P74: =SUM(B74:O74) -> #REF!
A75: Andel fredag | B75: =B73/B74 -> #REF! | C75: =C73/C74 -> #REF! | D75: =D73/D74 -> #REF! | E75: =E73/E74 -> #REF! | F75: =F73/F74 -> #REF! | G75: =G73/G74 -> #REF! | H75: =H73/H74 -> #REF! | I75: =I73/I74 -> #REF! | ... P75: =P73/P74 -> #REF!
B80: =B2 -> Badminton | C80: =B75 -> #REF!
B81: =C2 -> Basket | C81: =C75 -> #REF!
B82: =D2 -> Cheerleading | C82: =D75 -> #REF!
B83: =E2 -> Dans | C83: =E75 -> #REF!
B84: =F2 -> Futsal | C84: =F75 -> #REF!
B85: =G2 -> Gym og turn | C85: =G75 -> #REF!
B86: =H2 -> Hockey | C86: =H75 -> #REF!
B87: =I2 -> Håndball | C87: =I75 -> #REF!
B88: =J2 -> Innebandy | C88: =J75 -> #REF!
B89: =K2 -> Roller Derby | C89: =K75 -> #REF!
B90: =L2 -> Ultimate Frisbee | C90: =L75 -> #REF!
B91: =M2 -> Volleyball | C91: =M75 -> #REF!
B92: =N2 -> Paraidrett | C92: =N75 -> #REF!
B93: Spesielle tiltak | C93: =O75 -> #REF!
B94: Totalt | C94: =P75 -> #REF!

Sheet Bentsebrua
A1: Bentsebrua
A2: Fra kl | B2: Til kl | C2: MANDAG | D2: TIRSDAG | E2: ONSDAG | F2: TORSDAG | G2: FREDAG
A3: 1500 | B3: 1530
A4: 1530 | B4: 1600
A5: 1600 | B5: 1630 | C5: Spesielle tiltak | D5: Spesielle tiltak | E5: Spesielle tiltak | F5: Spesielle tiltak | G5: Spesielle tiltak
A6: 1630 | B6: 1700 | C6: Håndball | D6: Sagene IF Turn | E6: Sagene IF Turn | F6: Sagene IF Turn | G6: Håndball
A7: 1700 | B7: 1730 | C7: Håndball | D7: Sagene IF Turn | E7: Sagene IF Turn | F7: Sagene IF Turn | G7: Håndball
A8: 1730 | B8: 1800 | C8: Håndball | D8: Sagene IF Turn | E8: Sagene IF Turn | F8: Sagene IF Turn | G8: Håndball
A9: 1800 | B9: 1830 | C9: Håndball | D9: Håndball | E9: Håndball | F9: Håndball | G9: Håndball
A10: 1830 | B10: 1900 | C10: Håndball | D10: Håndball | E10: Håndball | F10: Håndball | G10: Håndball
A11: 1900 | B11: 1930 | C11: Håndball | D11: Håndball | E11: Håndball | F11: Håndball | G11: Håndball
A12: 1930 | B12: 2000 | C12: Håndball | D12: Volleyball | E12: Basket | F12: Håndball | G12: Håndball
A13: 2000 | B13: 2030 | C13: Håndball | D13: Volleyball | E13: Basket | F13: Håndball | G13: Håndball
A14: 2030 | B14: 2100 | C14: Håndball | D14: Volleyball | E14: Basket | F14: Håndball | G14: Håndball
A15: 2100 | B15: 2130 | C15: Håndball | D15: Volleyball | E15: Basket | F15: Håndball | G15: Håndball
A16: 2130 | B16: 2200 | C16: Håndball | D16: Volleyball | E16: Basket | F16: Håndball | G16: Håndball
A17: 2200 | B17: 2230 | C17: Håndball | D17: Volleyball | E17: Basket | F17: Håndball
A18: 2230 | B18: 2300 | I18: Spesielle tiltak = Sagene IF (Nabolagsklubb)

Sheet Dælenenga
A1: Dælenenga
A2: Fra kl | B2: Til kl | C2: MANDAG | D2: TIRSDAG | E2: ONSDAG | F2: TORSDAG | G2: FREDAG
A3: 1500 | B3: 1530
A4: 1530 | B4: 1600
A5: 1600 | B5: 1630 | C5: Grüner Allianseidrettslag Turn | D5: Grüner Allianseidrettslag Turn | E5: Håndball - ST | F5: Innebandy - ST | G5: Spesielle tiltak
A6: 1630 | B6: 1700 | C6: Håndball - ST | D6: Håndball - ST | E6: Håndball - ST | F6: Innebandy - ST | G6: Spesielle tiltak
A7: 1700 | B7: 1730 | C7: Grüner Allianseidrettslag Turn | D7: Grüner Allianseidrettslag Turn | E7: Håndball - ST | F7: Innebandy - ST | G7: Spesielle tiltak
A8: 1730 | B8: 1800 | C8: Håndball - ST | D8: Håndball - ST | E8: Håndball - ST | F8: Innebandy - ST | G8: Spesielle tiltak
A9: 1800 | B9: 1830 | C9: Grüner Allianseidrettslag Turn | D9: Grüner Allianseidrettslag Turn | E9: Håndball - ST | F9: Innebandy - ST | G9: Spesielle tiltak
A10: 1830 | B10: 1900 | C10: Håndball - ST | D10: Håndball - ST | E10: Håndball - ST | F10: Innebandy - ST | G10: Spesielle tiltak
A11: 1900 | B11: 1930 | C11: Håndball | D11: Håndball | E11: Håndball | F11: Innebandy - ST | G11: Spesielle tiltak
A12: 1930 | B12: 2000 | C12: Håndball | D12: Håndball | E12: Håndball | F12: Innebandy - ST | G12: Spesielle tiltak
A13: 2000 | B13: 2030 | C13: Håndball | D13: Håndball | E13: Håndball | F13: Innebandy - ST | G13: Spesielle tiltak
A14: 2030 | B14: 2100 | C14: Basket | D14: Håndball | E14: Basket | F14: Innebandy | G14: Spesielle tiltak
A15: 2100 | B15: 2130 | C15: Basket | D15: Håndball | E15: Basket | F15: Innebandy | G15: Spesielle tiltak
A16: 2130 | B16: 2200 | C16: Basket | D16: Futsal | E16: Basket | F16: Innebandy | G16: Spesielle tiltak
A17: 2200 | B17: 2230 | C17: Basket | D17: Futsal | E17: Basket | F17: Innebandy
A18: 2230 | B18: 2300 | I18: Spesielle tiltak = Grüner AIL (Nabolagsklubb)

Sheet Grefsen
A1: Grefsen
A2: Fra kl | B2: Til kl | C2: MANDAG | D2: TIRSDAG | E2: ONSDAG | F2: TORSDAG | G2: FREDAG
A3: 1500 | B3: 1530
A4: 1530 | B4: 1600
A5: 1600 | B5: 1630 | C5: Håndball | D5: Håndball | E5: Håndball | F5: Sogn og Grefsen Turnforening | G5: Håndball
A6: 1630 | B6: 1700 | C6: Håndball | D6: Håndball | E6: Håndball | F6: Sogn og Grefsen Turnforening | G6: Håndball
A7: 1700 | B7: 1730 | C7: Håndball | D7: Håndball | E7: Håndball | F7: Sogn og Grefsen Turnforening | G7: Håndball
A8: 1730 | B8: 1800 | C8: Håndball | D8: Håndball | E8: Håndball | F8: Sogn og Grefsen Turnforening | G8: Håndball
A9: 1800 | B9: 1830 | C9: Håndball | D9: Håndball | E9: Håndball | F9: Sogn og Grefsen Turnforening | G9: Håndball
A10: 1830 | B10: 1900 | C10: Håndball | D10: Håndball | E10: Håndball | F10: Sogn og Grefsen Turnforening | G10: Håndball
A11: 1900 | B11: 1930 | C11: Håndball | D11: Håndball | E11: Håndball | F11: Håndball | G11: Håndball
A12: 1930 | B12: 2000 | C12: Håndball | D12: Håndball | E12: Håndball | F12: Håndball | G12: Håndball
A13: 2000 | B13: 2030 | C13: Håndball | D13: Håndball | E13: Håndball | F13: Håndball | G13: Håndball
A14: 2030 | B14: 2100 | C14: Håndball | D14: Håndball | E14: Håndball | F14: Håndball | G14: Håndball
A15: 2100 | B15: 2130 | C15: Håndball | D15: Håndball | E15: Håndball | F15: Håndball | G15: Håndball
A16: 2130 | B16: 2200 | C16: Håndball | D16: Håndball | E16: Håndball | F16: Håndball | G16: Håndball
A17: 2200 | B17: 2230 | C17: Håndball | D17: Håndball | E17: Håndball | F17: Håndball
A18: 2230 | B18: 2300

Sheet Høyenhall
A1: Høyenhall
A2: Fra kl | B2: Til kl | C2: MANDAG | D2: TIRSDAG | E2: ONSDAG | F2: TORSDAG | G2: FREDAG
A3: 1500 | B3: 1530
A4: 1530 | B4: 1600
A5: 1600 | B5: 1630 | C5: Innebandy | D5: Høyenhall Gymnastikkforening | E5: Innebandy | F5: Høyenhall Gymnastikkforening | G5: Innebandy
A6: 1630 | B6: 1700 | C6: Innebandy | D6: Høyenhall Gymnastikkforening | E6: Innebandy | F6: Høyenhall Gymnastikkforening | G6: Innebandy
A7: 1700 | B7: 1730 | C7: Innebandy | D7: Høyenhall Gymnastikkforening | E7: Innebandy | F7: Høyenhall Gymnastikkforening | G7: Innebandy
A8: 1730 | B8: 1800 | C8: Innebandy | D8: Høyenhall Gymnastikkforening | E8: Innebandy | F8: Høyenhall Gymnastikkforening | G8: Innebandy
A9: 1800 | B9: 1830 | C9: Innebandy | D9: Høyenhall Gymnastikkforening | E9: Innebandy | F9: Høyenhall Gymnastikkforening | G9: Innebandy
A10: 1830 | B10: 1900 | C10: Innebandy | D10: Høyenhall Gymnastikkforening | E10: Innebandy | F10: Høyenhall Gymnastikkforening | G10: Innebandy
A11: 1900 | B11: 1930 | C11: Innebandy | D11: Innebandy | E11: Innebandy | F11: Innebandy | G11: Innebandy
A12: 1930 | B12: 2000 | C12: Innebandy | D12: Innebandy | E12: Innebandy | F12: Innebandy | G12: Innebandy
A13: 2000 | B13: 2030 | C13: Innebandy | D13: Innebandy | E13: Innebandy | F13: Innebandy | G13: Innebandy
A14: 2030 | B14: 2100 | C14: Innebandy | D14: Innebandy | E14: Innebandy | F14: Innebandy | G14: Innebandy
A15: 2100 | B15: 2130 | C15: Innebandy | D15: Innebandy | E15: Innebandy | F15: Innebandy | G15: Innebandy
A16: 2130 | B16: 2200 | C16: Innebandy | D16: Innebandy | E16: Innebandy | F16: Innebandy | G16: Innebandy
A17: 2200 | B17: 2230 | C17: Innebandy | D17: Innebandy | E17: Innebandy | F17: Innebandy
A18: 2230 | B18: 2300

Sheet Leirskallen
A1: Leirskallen
A2: Fra kl | B2: Til kl | C2: MANDAG | D2: TIRSDAG | E2: ONSDAG | F2: TORSDAG | G2: FREDAG
A3: 1500 | B3: 1530
A4: 1530 | B4: 1600
A5: 1600 | B5: 1630 | C5: Nordstrand Turnforening | D5: Nordstrand Turnforening | E5: Nordstrand Turnforening | F5: Nordstrand Turnforening | G5: Nordstrand Turnforening
A6: 1630 | B6: 1700 | C6: Nordstrand Turnforening | D6: Nordstrand Turnforening | E6: Nordstrand Turnforening | F6: Nordstrand Turnforening | G6: Nordstrand Turnforening
A7: 1700 | B7: 1730 | C7: Nordstrand Turnforening | D7: Nordstrand Turnforening | E7: Nordstrand Turnforening | F7: Nordstrand Turnforening | G7: Nordstrand Turnforening
A8: 1730 | B8: 1800 | C8: Nordstrand Turnforening | D8: Nordstrand Turnforening | E8: Nordstrand Turnforening | F8: Nordstrand Turnforening | G8: Nordstrand Turnforening
A9: 1800 | B9: 1830 | C9: Nordstrand Turnforening | D9: Nordstrand Turnforening | E9: Nordstrand Turnforening | F9: Nordstrand Turnforening | G9: Nordstrand Turnforening
A10: 1830 | B10: 1900 | C10: Nordstrand Turnforening | D10: Nordstrand Turnforening | E10: Nordstrand Turnforening | F10: Nordstrand Turnforening | G10: Nordstrand Turnforening
A11: 1900 | B11: 1930 | C11: Nordstrand Turnforening | D11: Nordstrand Turnforening | E11: Nordstrand Turnforening | F11: Nordstrand Turnforening | G11: Nordstrand Turnforening
A12: 1930 | B12: 2000 | C12: Nordstrand Turnforening | D12: Nordstrand Turnforening | E12: Nordstrand Turnforening | F12: Nordstrand Turnforening | G12: Nordstrand Turnforening
A13: 2000 | B13: 2030 | C13: Nordstrand Turnforening | D13: Nordstrand Turnforening | E13: Nordstrand Turnforening | F13: Nordstrand Turnforening | G13: Nordstrand Turnforening
A14: 2030 | B14: 2100 | C14: Nordstrand Turnforening | D14: Nordstrand Turnforening | E14: Nordstrand Turnforening | F14: Nordstrand Turnforening | G14: Nordstrand Turnforening
A15: 2100 | B15: 2130 | C15: Nordstrand Turnforening | D15: Nordstrand Turnforening | E15: Nordstrand Turnforening | F15: Nordstrand Turnforening | G15: Nordstrand Turnforening
A16: 2130 | B16: 2200 | C16: Nordstrand Turnforening | D16: Nordstrand Turnforening | E16: Nordstrand Turnforening | F16: Nordstrand Turnforening | G16: Nordstrand Turnforening
A17: 2200 | B17: 2230 | C17: Nordstrand Turnforening | D17: Nordstrand Turnforening | E17: Nordstrand Turnforening | F17: Nordstrand Turnforening
A18: 2230 | B18: 2300

Sheet Nordbyen turn
A1: Nordbyen turn
A2: Fra kl | B2: Til kl | C2: MANDAG | D2: TIRSDAG | E2: ONSDAG | F2: TORSDAG | G2: FREDAG
A3: 1500 | B3: 1530
A4: 1530 | B4: 1600
A5: 1600 | B5: 1630 | C5: Høybråten og Stovner IL Turn | D5: Høybråten og Stovner IL Turn | E5: Høybråten og Stovner IL Turn | F5: Høybråten og Stovner IL Turn | G5: Høybråten og Stovner IL Turn
A6: 1630 | B6: 1700 | C6: Høybråten og Stovner IL Turn | D6: Høybråten og Stovner IL Turn | E6: Høybråten og Stovner IL Turn | F6: Høybråten og Stovner IL Turn | G6: Høybråten og Stovner IL Turn
A7: 1700 | B7: 1730 | C7: Høybråten og Stovner IL Turn | D7: Høybråten og Stovner IL Turn | E7: Høybråten og Stovner IL Turn | F7: Høybråten og Stovner IL Turn | G7: Høybråten og Stovner IL Turn
A8: 1730 | B8: 1800 | C8: Høybråten og Stovner IL Turn | D8: Høybråten og Stovner IL Turn | E8: Høybråten og Stovner IL Turn | F8: Høybråten og Stovner IL Turn | G8: Høybråten og Stovner IL Turn
A9: 1800 | B9: 1830 | C9: Høybråten og Stovner IL Turn | D9: Høybråten og Stovner IL Turn | E9: Høybråten og Stovner IL Turn | F9: Høybråten og Stovner IL Turn | G9: Høybråten og Stovner IL Turn
A10: 1830 | B10: 1900 | C10: Høybråten og Stovner IL Turn | D10: Høybråten og Stovner IL Turn | E10: Høybråten og Stovner IL Turn | F10: Høybråten og Stovner IL Turn | G10: Høybråten og Stovner IL Turn
A11: 1900 | B11: 1930 | C11: Høybråten og Stovner IL Turn | D11: Høybråten og Stovner IL Turn | E11: Høybråten og Stovner IL Turn | F11: Høybråten og Stovner IL Turn | G11: Høybråten og Stovner IL Turn
A12: 1930 | B12: 2000 | C12: Høybråten og Stovner IL Turn | D12: Høybråten og Stovner IL Turn | E12: Høybråten og Stovner IL Turn | F12: Høybråten og Stovner IL Turn | G12: Høybråten og Stovner IL Turn
A13: 2000 | B13: 2030 | C13: Høybråten og Stovner IL Turn | D13: Høybråten og Stovner IL Turn | E13: Høybråten og Stovner IL Turn | F13: Høybråten og Stovner IL Turn | G13: Høybråten og Stovner IL Turn
A14: 2030 | B14: 2100 | C14: Høybråten og Stovner IL Turn | D14: Høybråten og Stovner IL Turn | E14: Høybråten og Stovner IL Turn | F14: Høybråten og Stovner IL Turn | G14: Høybråten og Stovner IL Turn
A15: 2100 | B15: 2130 | C15: Høybråten og Stovner IL Turn | D15: Høybråten og Stovner IL Turn | E15: Høybråten og Stovner IL Turn | F15: Høybråten og Stovner IL Turn | G15: Høybråten og Stovner IL Turn
A16: 2130 | B16: 2200 | C16: Høybråten og Stovner IL Turn | D16: Høybråten og Stovner IL Turn | E16: Høybråten og Stovner IL Turn | F16: Høybråten og Stovner IL Turn | G16: Høybråten og Stovner IL Turn
A17: 2200 | B17: 2230 | C17: Høybråten og Stovner IL Turn | D17: Høybråten og Stovner IL Turn | E17: Høybråten og Stovner IL Turn | F17: Høybråten og Stovner IL Turn
A18: 2230 | B18: 2300

Sheet Oppsal 3
A1: Oppsal Arena 3
A2: Fra kl | B2: Til kl | C2: MANDAG | D2: TIRSDAG | E2: ONSDAG | F2: TORSDAG | G2: FREDAG
A3: 1500 | B3: 1530
A4: 1530 | B4: 1600
A5: 1600 | B5: 1630 | C5: Gymnastikk og Turnforeningen Bjart | D5: Basket | E5: Paraidrett | F5: Håndball | G5: Håndball
A6: 1630 | B6: 1700 | C6: Gymnastikk og Turnforeningen Bjart | D6: Basket | E6: Paraidrett | F6: Håndball | G6: Håndball
A7: 1700 | B7: 1730 | C7: Gymnastikk og Turnforeningen Bjart | D7: Basket | E7: Gymnastikk og Turnforeningen Bjart | F7: Håndball | G7: Håndball
A8: 1730 | B8: 1800 | C8: Gymnastikk og Turnforeningen Bjart | D8: Basket | E8: Gymnastikk og Turnforeningen Bjart | F8: Håndball | G8: Håndball
A9: 1800 | B9: 1830 | C9: Gymnastikk og Turnforeningen Bjart | D9: Basket | E9: Gymnastikk og Turnforeningen Bjart | F9: Paraidrett | G9: Basket
A10: 1830 | B10: 1900 | C10: Gymnastikk og Turnforeningen Bjart | D10: Basket | E10: Gymnastikk og Turnforeningen Bjart | F10: Paraidrett | G10: Basket
A11: 1900 | B11: 1930 | C11: Paraidrett | D11: Basket | E11: Gymnastikk og Turnforeningen Bjart | F11: Paraidrett | G11: Basket
A12: 1930 | B12: 2000 | C12: Paraidrett | D12: Basket | E12: Gymnastikk og Turnforeningen Bjart | F12: Paraidrett | G12: Basket
A13: 2000 | B13: 2030 | C13: Paraidrett | D13: Basket | E13: Håndball | F13: Paraidrett | G13: Basket
A14: 2030 | B14: 2100 | C14: Paraidrett | D14: Basket | E14: Håndball | F14: Basket | G14: Basket
A15: 2100 | B15: 2130 | C15: Håndball | D15: Basket | E15: Håndball | F15: Basket | G15: Basket
A16: 2130 | B16: 2200 | C16: Håndball | D16: Basket | E16: Håndball | F16: Basket | G16: Basket
A17: 2200 | B17: 2230 | C17: Håndball | D17: Basket | E17: Håndball | F17: Basket
A18: 2230 | B18: 2300 | I18: Paraidrett = Oslo Døves SK

Sheet Romsås
A1: Romsås
A2: Fra kl | B2: Til kl | C2: MANDAG | D2: TIRSDAG | E2: ONSDAG | F2: TORSDAG | G2: FREDAG
A3: 1500 | B3: 1530
A4: 1530 | B4: 1600
A5: 1600 | B5: 1630 | C5: Skolen | D5: Skolen | E5: Skolen | F5: Skolen | G5: Skolen
A6: 1630 | B6: 1700 | C6: Skolen | D6: Romsås IL Turngruppa | E6: Skolen | F6: Romsås IL Turngruppa | G6: Skolen
A7: 1700 | B7: 1730 | C7: Romsås IL Turngruppa | D7: Romsås IL Turngruppa | E7: Håndball - ST | F7: Romsås IL Turngruppa | G7: Spesielle tiltak
A8: 1730 | B8: 1800 | C8: Romsås IL Turngruppa | D8: Håndball - ST | E8: Håndball - ST | F8: Romsås IL Turngruppa | G8: Spesielle tiltak
A9: 1800 | B9: 1830 | C9: Romsås IL Turngruppa | D9: Romsås IL Turngruppa | E9: Håndball - ST | F9: Romsås IL Turngruppa | G9: Spesielle tiltak
A10: 1830 | B10: 1900 | C10: Romsås IL Turngruppa | D10: Håndball - ST | E10: Håndball - ST | F10: Romsås IL Turngruppa | G10: Spesielle tiltak
A11: 1900 | B11: 1930 | C11: Romsås IL Turngruppa | D11: Håndball - ST | E11: Håndball | F11: Romsås IL Turngruppa | G11: Spesielle tiltak
A12: 1930 | B12: 2000 | C12: Romsås IL Turngruppa | D12: Håndball | E12: Håndball | F12: Romsås IL Turngruppa | G12: Spesielle tiltak
A13: 2000 | B13: 2030 | C13: Romsås IL Turngruppa | D13: Håndball | E13: Håndball | F13: Håndball | G13: Spesielle tiltak
A14: 2030 | B14: 2100 | C14: Håndball | D14: Håndball | E14: Håndball | F14: Håndball | G14: Spesielle tiltak
A15: 2100 | B15: 2130 | C15: Håndball | D15: Håndball | E15: Spesielle tiltak | F15: Håndball | G15: Spesielle tiltak
A16: 2130 | B16: 2200 | C16: Håndball | D16: Futsal | E16: Spesielle tiltak | F16: Håndball | G16: Spesielle tiltak
A17: 2200 | B17: 2230 | C17: Håndball | D17: Futsal | E17: Spesielle tiltak | F17: Håndball
A18: 2230 | B18: 2300 | I18: Spesielle tiltak = Romsås IL (Nabolagsklubb)

Sheet Uranienborg
A1: Uranienborg
A2: Fra kl | B2: Til kl | C2: MANDAG | D2: TIRSDAG | E2: ONSDAG | F2: TORSDAG | G2: FREDAG
A3: 1500 | B3: 1530
A4: 1530 | B4: 1600
A5: 1600 | B5: 1630 | C5: Basket | D5: Basket | E5: Håndball | F5: Uranienborg Turnforening | G5: Uranienborg Turnforening | I5: Trening utgår:
A6: 1630 | B6: 1700 | C6: Basket | D6: Basket | E6: Håndball | F6: Uranienborg Turnforening | G6: Uranienborg Turnforening | I6: Eksamen i mai (starter som regel i midten av mai)
A7: 1700 | B7: 1730 | C7: Basket | D7: Uranienborg Turnforening | E7: Håndball | F7: Uranienborg Turnforening | G7: Uranienborg Turnforening
A8: 1730 | B8: 1800 | C8: Basket | D8: Uranienborg Turnforening | E8: Håndball | F8: Uranienborg Turnforening | G8: Uranienborg Turnforening
A9: 1800 | B9: 1830 | C9: Basket | D9: Uranienborg Turnforening | E9: Basket | F9: Uranienborg Turnforening | G9: Uranienborg Turnforening
A10: 1830 | B10: 1900 | C10: Basket | D10: Uranienborg Turnforening | E10: Basket | F10: Uranienborg Turnforening | G10: Uranienborg Turnforening
A11: 1900 | B11: 1930 | C11: Basket | D11: Uranienborg Turnforening | E11: Basket | F11: Uranienborg Turnforening | G11: Basket
A12: 1930 | B12: 2000 | C12: Basket | D12: Uranienborg Turnforening | E12: Basket | F12: Uranienborg Turnforening | G12: Basket
A13: 2000 | B13: 2030 | C13: Basket | D13: Uranienborg Turnforening | E13: Basket | F13: Basket | G13: Basket
A14: 2030 | B14: 2100 | C14: Basket | D14: Uranienborg Turnforening | E14: Basket | F14: Basket | G14: Basket
A15: 2100 | B15: 2130 | C15: Basket | D15: Basket | E15: Basket | F15: Basket | G15: Basket
A16: 2130 | B16: 2200 | C16: Basket | D16: Basket | E16: Basket | F16: Basket | G16: Basket
A17: 2200 | B17: 2230 | C17: Basket | D17: Basket | E17: Basket | F17: Basket
A18: 2230 | B18: 2300

Sheet Årvoll
A1: Årvoll
A2: Fra kl | B2: Til kl | C2: MANDAG | D2: TIRSDAG | E2: ONSDAG | F2: TORSDAG | G2: FREDAG
A3: 1500 | B3: 1530
A4: 1530 | B4: 1600
A5: 1600 | B5: 1630 | C5: Håndball | D5: Håndball | E5: Håndball | F5: Ares Turnforening | G5: Basket
A6: 1630 | B6: 1700 | C6: Håndball | D6: Håndball | E6: Håndball | F6: Ares Turnforening | G6: Basket
A7: 1700 | B7: 1730 | C7: Håndball | D7: Håndball | E7: Håndball | F7: Ares Turnforening | G7: Basket
A8: 1730 | B8: 1800 | C8: Håndball | D8: Håndball | E8: Håndball | F8: Ares Turnforening | G8: Basket
A9: 1800 | B9: 1830 | C9: Ares Turnforening | D9: Basket | E9: Håndball | F9: Håndball | G9: Basket
A10: 1830 | B10: 1900 | C10: Ares Turnforening | D10: Basket | E10: Håndball | F10: Håndball | G10: Basket
A11: 1900 | B11: 1930 | C11: Håndball | D11: Basket | E11: Håndball | F11: Håndball | G11: Basket
A12: 1930 | B12: 2000 | C12: Håndball | D12: Basket | E12: Håndball | F12: Håndball | G12: Spesielle tiltak
A13: 2000 | B13: 2030 | C13: Håndball | D13: Basket | E13: Håndball | F13: Håndball | G13: Spesielle tiltak
A14: 2030 | B14: 2100 | C14: Håndball | D14: Basket | E14: Håndball | F14: Håndball | G14: Spesielle tiltak
A15: 2100 | B15: 2130 | C15: Håndball | D15: Basket | E15: Håndball | F15: Håndball | G15: Spesielle tiltak
A16: 2130 | B16: 2200 | C16: Håndball | D16: Basket | E16: Futsal | F16: Futsal | G16: Spesielle tiltak
A17: 2200 | B17: 2230 | C17: Håndball | D17: Basket | E17: Futsal | F17: Futsal
A18: 2230 | B18: 2300 | I18: Spesielle tiltak = Årvoll IL (Nabolagsklubb)
