Workbook

Sheet Påmelding
A1: Påmeldingsskjema Nordlyspokalen 2026
A4: Arrangør: Alta Turnforening | C4: Sted: Finnmarkshallen flerbrukshallen | K4: Kontaktinfo:
A5: Tid: 28. November | C5: Musikk: Leveres inn på tropp.no | K5: Epost: | L5: alta.turnforening1980@gmail.com
A6: Påmeldingsfrist: 30.oktober | C6: Vanskeskjema: Leveres inn på tropp.no | K6: Telefon: | L6: 92045037 / 90192776
A8: Foreningens navn:
A9: Foreningens adresse:
A10: Kontakperson: | D10: DELTAGER | E10: TRENER | F10: LEDSAGER | G10: REKRUTT | H10: JUNIOR | I10: SENIOR | J10: OVERNATTING | L10: LUNSJ | O10: MERKNAD
A11: Epost:
A12: Telefon:
A13: Annkomst: | J13: FREDAG | K13: LØRDAG
A14: Påmeldte lag totalt: | J14: TIL | K14: TIL
A15: nr. | B15: Navn | C15: Fødselsdato | J15: LØRDAG | K15: SØNDAG
A16: sum | D16: =SUM(D18:D501) -> 0 | E16: =SUM(E18:E501) -> 0 | F16: =SUM(F18:F501) -> 0 | G16: =SUM(G18:G501) -> 0 | H16: =SUM(H18:H501) -> 0 | I16: =SUM(I18:I501) -> 0 | J16: =SUM(J18:J501) -> 0 | K16: =SUM(K18:K501) -> 0 | L16: =SUM(L18:L501) -> 0 | M16: =SUM(M18:M500) -> 0 | N16: =SUM(N18:N501) -> 0
A17: eksempel | B17: Ola Normann | C17: 41334 | D17: 1 | G17: 1 | H17: 1 | J17: 1 | L17: 1 | O17: Nøtteallergi
A18: 1
A19: 2
A20: 3
A21: 4
A22: 5
A23: 6
A24: 7
A25: 8
A26: 9
A27: 10
A28: 11
A29: 12
... A275: 258

Sheet Oppgjørskjema
A1: Oppgjørsskjema Nordlyspokalen 2026
A3: =Påmelding!B8 -> 0
A5: Fakturainformasjon:
A7: Påmeldingsskjema sendes ferdig utfylt til: | E7: alta.turnforening1980@gmail.com
A8: Kopi sendes til: | E8: cassandra.e.h@icloud.com og henriette.bismo.eilertsen@boreal.no
C10: Faktura sendes etter påmeldingsfrist
G12: Antall | H12: Pris | I12: Sum
A13: Deltakere | G13: =Påmelding!D16 -> 0 | H13: 550 | I13: =G13*H13 -> 0
A14: Påmeldte tropper | G14: =Påmelding!B14 -> 0 | H14: 500 | I14: =G14*H14 -> 0
A15: For sent påmeldte per stk. | G15: 0 | H15: 1000 | I15: =G15*H15 -> 0
A16: Trenere/Instruktører | G16: =Påmelding!E16 -> 0 | H16: 0 | I16: =G16*H16 -> 0
A17: Ledsagere | G17: =Påmelding!F16 -> 0 | H17: 0 | I17: =G17*H17 -> 0
A18: Lunsj Lørdag | G18: =Påmelding!L16 -> 0 | H18: 110 | I18: =G18*H18 -> 0
H19: 110 | I19: =G19*H19 -> 0
H20: 250 | I20: =G19*H20 -> 0
A21: Overnatting Fredag | G21: =Påmelding!J16 -> 0 | H21: 200 | I21: =G21*H21 -> 0
A22: Overnatting Lørdag | G22: =Påmelding!K16 -> 0 | H22: 200 | I22: =G22*H22 -> 0
A23: Totalt | I23: =SUM(I13:I22) -> 0

Sheet Rekrutt TG
A1: Rekrutt Lag (Ved fler enn 5 lag kopier og lim for flere ruter)
A2: Frittstående (1) | E2: Trampett (1) | I2: Tumbling(1)
A3: Navn på gymnaster | B3: 1 | E3: Navn på gymnaster | F3: 1 | I3: Navn på gymnaster | J3: 1
B4: 2 | F4: 2 | J4: 2
B5: 3 | F5: 3 | J5: 3
B6: 4 | F6: 4 | J6: 4
B7: 5 | F7: 5 | J7: 5
B8: 6 | F8: 6 | J8: 6
B9: 7 | F9: 7 | J9: 7
B10: 8 | F10: 8 | J10: 8
B11: 9 | F11: 9 | J11: 9
B12: 10 | F12: 10 | J12: 10
B13: 11 | F13: 11 | J13: 11
B14: 12 | F14: 12 | J14: 12
A16: Frittstående (2) | E16: Trampett (2) | I16: Tumbling (2)
A17: Navn på gymnaster | B17: 1 | E17: Navn på gymnaster | F17: 1 | I17: Navn på gymnaster | J17: 1
B18: 2 | F18: 2 | J18: 2
B19: 3 | F19: 3 | J19: 3
B20: 4 | F20: 4 | J20: 4
B21: 5 | F21: 5 | J21: 5
B22: 6 | F22: 6 | J22: 6
B23: 7 | F23: 7 | J23: 7
B24: 8 | F24: 8 | J24: 8
B25: 9 | F25: 9 | J25: 9
B26: 10 | F26: 10 | J26: 10
B27: 11 | F27: 11 | J27: 11
B28: 12 | F28: 12 | J28: 12
A30: Frittstående (3) | E30: Trampett (3) | I30: Tumbling (3)
A31: Navn på gymnaster | B31: 1 | E31: Navn på gymnaster | F31: 1 | I31: Navn på gymnaster | J31: 1
B32: 2 | F32: 2 | J32: 2
B33: 3 | F33: 3 | J33: 3
B34: 4 | F34: 4 | J34: 4
B35: 5 | F35: 5 | J35: 5
B36: 6 | F36: 6 | J36: 6
B37: 7 | F37: 7 | J37: 7
B38: 8 | F38: 8 | J38: 8
B39: 9 | F39: 9 | J39: 9
B40: 10 | F40: 10 | J40: 10
B41: 11 | F41: 11 | J41: 11
B42: 12 | F42: 12 | J42: 12
...

Sheet Junior Kvinner TG
A1: Junior Kvinner Lag (Ved fler enn 5 lag kopier og lim for flere ruter)
A2: Frittstående (1) | E2: Trampett (1) | I2: Tumbling(1)
A3: Navn på gymnaster | B3: 1 | E3: Navn på gymnaster | F3: 1 | I3: Navn på gymnaster | J3: 1
B4: 2 | F4: 2 | J4: 2
B5: 3 | F5: 3 | J5: 3
B6: 4 | F6: 4 | J6: 4
B7: 5 | F7: 5 | J7: 5
B8: 6 | F8: 6 | J8: 6
B9: 7 | F9: 7 | J9: 7
B10: 8 | F10: 8 | J10: 8
B11: 9 | F11: 9 | J11: 9
B12: 10 | F12: 10 | J12: 10
B13: 11 | F13: 11 | J13: 11
B14: 12 | F14: 12 | J14: 12
A16: Frittstående (2) | E16: Trampett (2) | I16: Tumbling (2)
A17: Navn på gymnaster | B17: 1 | E17: Navn på gymnaster | F17: 1 | I17: Navn på gymnaster | J17: 1
B18: 2 | F18: 2 | J18: 2
B19: 3 | F19: 3 | J19: 3
B20: 4 | F20: 4 | J20: 4
B21: 5 | F21: 5 | J21: 5
B22: 6 | F22: 6 | J22: 6
B23: 7 | F23: 7 | J23: 7
B24: 8 | F24: 8 | J24: 8
B25: 9 | F25: 9 | J25: 9
B26: 10 | F26: 10 | J26: 10
B27: 11 | F27: 11 | J27: 11
B28: 12 | F28: 12 | J28: 12
A30: Frittstående (3) | E30: Trampett (3) | I30: Tumbling (3)
A31: Navn på gymnaster | B31: 1 | E31: Navn på gymnaster | F31: 1 | I31: Navn på gymnaster | J31: 1
B32: 2 | F32: 2 | J32: 2
B33: 3 | F33: 3 | J33: 3
B34: 4 | F34: 4 | J34: 4
B35: 5 | F35: 5 | J35: 5
B36: 6 | F36: 6 | J36: 6
B37: 7 | F37: 7 | J37: 7
B38: 8 | F38: 8 | J38: 8
B39: 9 | F39: 9 | J39: 9
B40: 10 | F40: 10 | J40: 10
B41: 11 | F41: 11 | J41: 11
B42: 12 | F42: 12 | J42: 12
...

Sheet Junior Mix TG
A1: Junior Mix Lag (Ved fler enn 5 lag kopier og lim for flere ruter)
A2: Frittstående (1) | E2: Trampett (1) | I2: Tumbling(1)
A3: Navn på gymnaster | B3: 1 | E3: Navn på gymnaster | F3: 1 | I3: Navn på gymnaster | J3: 1
B4: 2 | F4: 2 | J4: 2
B5: 3 | F5: 3 | J5: 3
B6: 4 | F6: 4 | J6: 4
B7: 5 | F7: 5 | J7: 5
B8: 6 | F8: 6 | J8: 6
B9: 7 | F9: 7 | J9: 7
B10: 8 | F10: 8 | J10: 8
B11: 9 | F11: 9 | J11: 9
B12: 10 | F12: 10 | J12: 10
B13: 11 | F13: 11 | J13: 11
B14: 12 | F14: 12 | J14: 12
A16: Frittstående (2) | E16: Trampett (2) | I16: Tumbling (2)
A17: Navn på gymnaster | B17: 1 | E17: Navn på gymnaster | F17: 1 | I17: Navn på gymnaster | J17: 1
B18: 2 | F18: 2 | J18: 2
B19: 3 | F19: 3 | J19: 3
B20: 4 | F20: 4 | J20: 4
B21: 5 | F21: 5 | J21: 5
B22: 6 | F22: 6 | J22: 6
B23: 7 | F23: 7 | J23: 7
B24: 8 | F24: 8 | J24: 8
B25: 9 | F25: 9 | J25: 9
B26: 10 | F26: 10 | J26: 10
B27: 11 | F27: 11 | J27: 11
B28: 12 | F28: 12 | J28: 12
A30: Frittstående (3) | E30: Trampett (3) | I30: Tumbling (3)
A31: Navn på gymnaster | B31: 1 | E31: Navn på gymnaster | F31: 1 | I31: Navn på gymnaster | J31: 1
B32: 2 | F32: 2 | J32: 2
B33: 3 | F33: 3 | J33: 3
B34: 4 | F34: 4 | J34: 4
B35: 5 | F35: 5 | J35: 5
B36: 6 | F36: 6 | J36: 6
B37: 7 | F37: 7 | J37: 7
B38: 8 | F38: 8 | J38: 8
B39: 9 | F39: 9 | J39: 9
B40: 10 | F40: 10 | J40: 10
B41: 11 | F41: 11 | J41: 11
B42: 12 | F42: 12 | J42: 12
...

Sheet Junior Menn
A1: Junior Menn Lag (Ved fler enn 5 lag kopier og lim for flere ruter)
A2: Frittstående (1) | E2: Trampett (1) | I2: Tumbling(1)
A3: Navn på gymnaster | B3: 1 | E3: Navn på gymnaster | F3: 1 | I3: Navn på gymnaster | J3: 1
B4: 2 | F4: 2 | J4: 2
B5: 3 | F5: 3 | J5: 3
B6: 4 | F6: 4 | J6: 4
B7: 5 | F7: 5 | J7: 5
B8: 6 | F8: 6 | J8: 6
B9: 7 | F9: 7 | J9: 7
B10: 8 | F10: 8 | J10: 8
B11: 9 | F11: 9 | J11: 9
B12: 10 | F12: 10 | J12: 10
B13: 11 | F13: 11 | J13: 11
B14: 12 | F14: 12 | J14: 12
A16: Frittstående (2) | E16: Trampett (2) | I16: Tumbling (2)
A17: Navn på gymnaster | B17: 1 | E17: Navn på gymnaster | F17: 1 | I17: Navn på gymnaster | J17: 1
B18: 2 | F18: 2 | J18: 2
B19: 3 | F19: 3 | J19: 3
B20: 4 | F20: 4 | J20: 4
B21: 5 | F21: 5 | J21: 5
B22: 6 | F22: 6 | J22: 6
B23: 7 | F23: 7 | J23: 7
B24: 8 | F24: 8 | J24: 8
B25: 9 | F25: 9 | J25: 9
B26: 10 | F26: 10 | J26: 10
B27: 11 | F27: 11 | J27: 11
B28: 12 | F28: 12 | J28: 12
A30: Frittstående (3) | E30: Trampett (3) | I30: Tumbling (3)
A31: Navn på gymnaster | B31: 1 | E31: Navn på gymnaster | F31: 1 | I31: Navn på gymnaster | J31: 1
B32: 2 | F32: 2 | J32: 2
B33: 3 | F33: 3 | J33: 3
B34: 4 | F34: 4 | J34: 4
B35: 5 | F35: 5 | J35: 5
B36: 6 | F36: 6 | J36: 6
B37: 7 | F37: 7 | J37: 7
B38: 8 | F38: 8 | J38: 8
B39: 9 | F39: 9 | J39: 9
B40: 10 | F40: 10 | J40: 10
B41: 11 | F41: 11 | J41: 11
B42: 12 | F42: 12 | J42: 12
...

Sheet Senior Kvinner
A1: Senior Kvinner Lag (Ved fler enn 5 lag kopier og lim for flere ruter)
A2: Frittstående (1) | E2: Trampett (1) | I2: Tumbling(1)
A3: Navn på gymnaster | B3: 1 | E3: Navn på gymnaster | F3: 1 | I3: Navn på gymnaster | J3: 1
B4: 2 | F4: 2 | J4: 2
B5: 3 | F5: 3 | J5: 3
B6: 4 | F6: 4 | J6: 4
B7: 5 | F7: 5 | J7: 5
B8: 6 | F8: 6 | J8: 6
B9: 7 | F9: 7 | J9: 7
B10: 8 | F10: 8 | J10: 8
B11: 9 | F11: 9 | J11: 9
B12: 10 | F12: 10 | J12: 10
B13: 11 | F13: 11 | J13: 11
B14: 12 | F14: 12 | J14: 12
A16: Frittstående (2) | E16: Trampett (2) | I16: Tumbling (2)
A17: Navn på gymnaster | B17: 1 | E17: Navn på gymnaster | F17: 1 | I17: Navn på gymnaster | J17: 1
B18: 2 | F18: 2 | J18: 2
B19: 3 | F19: 3 | J19: 3
B20: 4 | F20: 4 | J20: 4
B21: 5 | F21: 5 | J21: 5
B22: 6 | F22: 6 | J22: 6
B23: 7 | F23: 7 | J23: 7
B24: 8 | F24: 8 | J24: 8
B25: 9 | F25: 9 | J25: 9
B26: 10 | F26: 10 | J26: 10
B27: 11 | F27: 11 | J27: 11
B28: 12 | F28: 12 | J28: 12
A30: Frittstående (3) | E30: Trampett (3) | I30: Tumbling (3)
A31: Navn på gymnaster | B31: 1 | E31: Navn på gymnaster | F31: 1 | I31: Navn på gymnaster | J31: 1
B32: 2 | F32: 2 | J32: 2
B33: 3 | F33: 3 | J33: 3
B34: 4 | F34: 4 | J34: 4
B35: 5 | F35: 5 | J35: 5
B36: 6 | F36: 6 | J36: 6
B37: 7 | F37: 7 | J37: 7
B38: 8 | F38: 8 | J38: 8
B39: 9 | F39: 9 | J39: 9
B40: 10 | F40: 10 | J40: 10
B41: 11 | F41: 11 | J41: 11
B42: 12 | F42: 12 | J42: 12
...

Sheet Senior Mix
A1: Senior Mix Lag (Ved fler enn 5 lag kopier og lim for flere ruter)
A2: Frittstående (1) | E2: Trampett (1) | I2: Tumbling(1)
A3: Navn på gymnaster | B3: 1 | E3: Navn på gymnaster | F3: 1 | I3: Navn på gymnaster | J3: 1
B4: 2 | F4: 2 | J4: 2
B5: 3 | F5: 3 | J5: 3
B6: 4 | F6: 4 | J6: 4
B7: 5 | F7: 5 | J7: 5
B8: 6 | F8: 6 | J8: 6
B9: 7 | F9: 7 | J9: 7
B10: 8 | F10: 8 | J10: 8
B11: 9 | F11: 9 | J11: 9
B12: 10 | F12: 10 | J12: 10
B13: 11 | F13: 11 | J13: 11
B14: 12 | F14: 12 | J14: 12
A16: Frittstående (2) | E16: Trampett (2) | I16: Tumbling (2)
A17: Navn på gymnaster | B17: 1 | E17: Navn på gymnaster | F17: 1 | I17: Navn på gymnaster | J17: 1
B18: 2 | F18: 2 | J18: 2
B19: 3 | F19: 3 | J19: 3
B20: 4 | F20: 4 | J20: 4
B21: 5 | F21: 5 | J21: 5
B22: 6 | F22: 6 | J22: 6
B23: 7 | F23: 7 | J23: 7
B24: 8 | F24: 8 | J24: 8
B25: 9 | F25: 9 | J25: 9
B26: 10 | F26: 10 | J26: 10
B27: 11 | F27: 11 | J27: 11
B28: 12 | F28: 12 | J28: 12
A30: Frittstående (3) | E30: Trampett (3) | I30: Tumbling (3)
A31: Navn på gymnaster | B31: 1 | E31: Navn på gymnaster | F31: 1 | I31: Navn på gymnaster | J31: 1
B32: 2 | F32: 2 | J32: 2
B33: 3 | F33: 3 | J33: 3
B34: 4 | F34: 4 | J34: 4
B35: 5 | F35: 5 | J35: 5
B36: 6 | F36: 6 | J36: 6
B37: 7 | F37: 7 | J37: 7
B38: 8 | F38: 8 | J38: 8
B39: 9 | F39: 9 | J39: 9
B40: 10 | F40: 10 | J40: 10
B41: 11 | F41: 11 | J41: 11
B42: 12 | F42: 12 | J42: 12
...

Sheet Senior Menn
A1: Senior Menn Lag (Ved fler enn 5 lag kopier og lim for flere ruter)
A2: Frittstående (1) | E2: Trampett (1) | I2: Tumbling(1)
A3: Navn på gymnaster | B3: 1 | E3: Navn på gymnaster | F3: 1 | I3: Navn på gymnaster | J3: 1
B4: 2 | F4: 2 | J4: 2
B5: 3 | F5: 3 | J5: 3
B6: 4 | F6: 4 | J6: 4
B7: 5 | F7: 5 | J7: 5
B8: 6 | F8: 6 | J8: 6
B9: 7 | F9: 7 | J9: 7
B10: 8 | F10: 8 | J10: 8
B11: 9 | F11: 9 | J11: 9
B12: 10 | F12: 10 | J12: 10
B13: 11 | F13: 11 | J13: 11
B14: 12 | F14: 12 | J14: 12
A16: Frittstående (2) | E16: Trampett (2) | I16: Tumbling (2)
A17: Navn på gymnaster | B17: 1 | E17: Navn på gymnaster | F17: 1 | I17: Navn på gymnaster | J17: 1
B18: 2 | F18: 2 | J18: 2
B19: 3 | F19: 3 | J19: 3
B20: 4 | F20: 4 | J20: 4
B21: 5 | F21: 5 | J21: 5
B22: 6 | F22: 6 | J22: 6
B23: 7 | F23: 7 | J23: 7
B24: 8 | F24: 8 | J24: 8
B25: 9 | F25: 9 | J25: 9
B26: 10 | F26: 10 | J26: 10
B27: 11 | F27: 11 | J27: 11
B28: 12 | F28: 12 | J28: 12
A30: Frittstående (3) | E30: Trampett (3) | I30: Tumbling (3)
A31: Navn på gymnaster | B31: 1 | E31: Navn på gymnaster | F31: 1 | I31: Navn på gymnaster | J31: 1
B32: 2 | F32: 2 | J32: 2
B33: 3 | F33: 3 | J33: 3
B34: 4 | F34: 4 | J34: 4
B35: 5 | F35: 5 | J35: 5
B36: 6 | F36: 6 | J36: 6
B37: 7 | F37: 7 | J37: 7
B38: 8 | F38: 8 | J38: 8
B39: 9 | F39: 9 | J39: 9
B40: 10 | F40: 10 | J40: 10
B41: 11 | F41: 11 | J41: 11
B42: 12 | F42: 12 | J42: 12
...

Sheet GFL
A2: GFL (11-13 år) | D2: MUSIKK SENDEES PÅ MAIL | E2: GFL (13 år og opp)
A3: Navn på gymnaster | B3: 1 | E3: Navn på gymnaster | F3: 1
B4: 2 | F4: 2
B5: 3 | F5: 3
B6: 4 | F6: 4
B7: 5 | F7: 5
B8: 6 | F8: 6
B9: 7 | F9: 7
B10: 8 | F10: 8
B11: 9 | F11: 9
B12: 10 | F12: 10
B13: 11 | F13: 11
B14: 12 | F14: 12
B15: 13 | F15: 13
... B26: 24 | F26: 24
A30: Kort om programmet: | I30: Kort om programmet:
A31: Hvor mange gymnaster? | I31: Hvor mange gymnaster?
A33: Hvem har laget koreografien? | I33: Hvem har laget koreografien?
